BEGIN:VCALENDAR
VERSION:2.0
PRODID:-//Indian Lake Estates Golf &amp; Country Club - ECPv6.15.18//NONSGML v1.0//EN
CALSCALE:GREGORIAN
METHOD:PUBLISH
X-WR-CALNAME:Indian Lake Estates Golf &amp; Country Club
X-ORIGINAL-URL:https://www.indianlakeestatesinc.com
X-WR-CALDESC:Events for Indian Lake Estates Golf &amp; Country Club
REFRESH-INTERVAL;VALUE=DURATION:PT1H
X-Robots-Tag:noindex
X-PUBLISHED-TTL:PT1H
BEGIN:VTIMEZONE
TZID:America/New_York
BEGIN:DAYLIGHT
TZOFFSETFROM:-0500
TZOFFSETTO:-0400
TZNAME:EDT
DTSTART:20240310T070000
END:DAYLIGHT
BEGIN:STANDARD
TZOFFSETFROM:-0400
TZOFFSETTO:-0500
TZNAME:EST
DTSTART:20241103T060000
END:STANDARD
BEGIN:DAYLIGHT
TZOFFSETFROM:-0500
TZOFFSETTO:-0400
TZNAME:EDT
DTSTART:20250309T070000
END:DAYLIGHT
BEGIN:STANDARD
TZOFFSETFROM:-0400
TZOFFSETTO:-0500
TZNAME:EST
DTSTART:20251102T060000
END:STANDARD
BEGIN:DAYLIGHT
TZOFFSETFROM:-0500
TZOFFSETTO:-0400
TZNAME:EDT
DTSTART:20260308T070000
END:DAYLIGHT
BEGIN:STANDARD
TZOFFSETFROM:-0400
TZOFFSETTO:-0500
TZNAME:EST
DTSTART:20261101T060000
END:STANDARD
END:VTIMEZONE
BEGIN:VEVENT
DTSTART;VALUE=DATE:20250920
DTEND;VALUE=DATE:20250921
DTSTAMP:20260423T115653
CREATED:20250701T112029Z
LAST-MODIFIED:20251020T213838Z
UID:10004449-1758326400-1758412799@www.indianlakeestatesinc.com
SUMMARY:Pickleball 8:30 am
DESCRIPTION:Players Meet at the pickleball courts each Saturday morning at 8:30 when they have enough players to play. Please come out and join them or give it a try.
URL:https://www.indianlakeestatesinc.com/event/pickelball/2025-09-20/
LOCATION:Pickelball Courts at Clubhouse\, 7510 Red Grange Blve\, Indian Lake Estates\, 33855\, United States
END:VEVENT
BEGIN:VEVENT
DTSTART;TZID=America/New_York:20250920T090000
DTEND;TZID=America/New_York:20250920T130000
DTSTAMP:20260423T115653
CREATED:20250903T165153Z
LAST-MODIFIED:20250903T165448Z
UID:10001742-1758358800-1758373200@www.indianlakeestatesinc.com
SUMMARY:Community Dump Day - 3RD Saturday Special
DESCRIPTION:Special Saturday Dump day over summer has been extended – ILE Community vehicle sticker or License showing ILE address is required to dump.
URL:https://www.indianlakeestatesinc.com/event/community-dump-day-4-2/2025-09-20/
END:VEVENT
BEGIN:VEVENT
DTSTART;TZID=America/New_York:20250920T100000
DTEND;TZID=America/New_York:20250920T100000
DTSTAMP:20260423T115653
CREATED:20250903T192856Z
LAST-MODIFIED:20250903T192856Z
UID:10004082-1758362400-1758362400@www.indianlakeestatesinc.com
SUMMARY:YOGA FOR ALL
DESCRIPTION:ILE Members\, join free \nBring water\, comfortable clothes and yoga map or towel. \nFor questions; Serina @ Cup of Soil Yoga (605)940-1010
URL:https://www.indianlakeestatesinc.com/event/yoga-for-all/
LOCATION:Ballroom\, 7510 Red Grange\, Indian lake Estates\, FL\, 33855\, United States
END:VEVENT
BEGIN:VEVENT
DTSTART;TZID=America/New_York:20250920T180000
DTEND;TZID=America/New_York:20250920T210000
DTSTAMP:20260423T115653
CREATED:20250613T212958Z
LAST-MODIFIED:20250623T142943Z
UID:10000429-1758391200-1758402000@www.indianlakeestatesinc.com
SUMMARY:Mystery Dinner - I Love The 80's to Death
DESCRIPTION:Before 8/20 tickets $30\nAfter 8/20 tickets $35 \n\nJoin us For a Rockin’ Radical night of Mystery! \nGet your tickets at the 19th hole\, or your Social Committee Chairs Rebecca Watson or Julie Areau.  \nHelp the righteous dinner crowd and the stellar detective figure out who ruined this totally tubular evening!  So\, like\, everyone can take a chill pill. \n80’s ROCK! \nDress for the era is encouraged 🙂 \nTicket includes: Choice of Stuffed Chicken Breast or Smothered Pork Chop\, Garlic Mashed Potatoes\, Salad\, Bread\, & Desert.\nHeld at the 19th Hole Dining Room
URL:https://www.indianlakeestatesinc.com/event/mystery-dinner-i-love-the-80s-to-death/
LOCATION:19th Hole Bar & Grill\, 7510 Red Grange\, Indian lake Estates\, FL\, 33855\, United States
END:VEVENT
END:VCALENDAR