BEGIN:VCALENDAR
VERSION:2.0
PRODID:-//Indian Lake Estates Golf &amp; Country Club - ECPv6.15.18//NONSGML v1.0//EN
CALSCALE:GREGORIAN
METHOD:PUBLISH
X-ORIGINAL-URL:https://www.indianlakeestatesinc.com
X-WR-CALDESC:Events for Indian Lake Estates Golf &amp; Country Club
REFRESH-INTERVAL;VALUE=DURATION:PT1H
X-Robots-Tag:noindex
X-PUBLISHED-TTL:PT1H
BEGIN:VTIMEZONE
TZID:UTC
BEGIN:STANDARD
TZOFFSETFROM:+0000
TZOFFSETTO:+0000
TZNAME:UTC
DTSTART:20240101T000000
END:STANDARD
END:VTIMEZONE
BEGIN:VEVENT
DTSTART;TZID=UTC:20250928T080000
DTEND;TZID=UTC:20250928T120000
DTSTAMP:20260423T101705
CREATED:20250511T170219Z
LAST-MODIFIED:20250511T170220Z
UID:10000231-1759046400-1759060800@www.indianlakeestatesinc.com
SUMMARY:YC-Breakfast - Lakefront Pavilion
DESCRIPTION:
URL:https://www.indianlakeestatesinc.com/event/yc-breakfast-lakefront-pavilion-7-2/
END:VEVENT
END:VCALENDAR