BEGIN:VCALENDAR
VERSION:2.0
PRODID:-//Indian Lake Estates Golf &amp; Country Club - ECPv6.15.18//NONSGML v1.0//EN
CALSCALE:GREGORIAN
METHOD:PUBLISH
X-ORIGINAL-URL:https://www.indianlakeestatesinc.com
X-WR-CALDESC:Events for Indian Lake Estates Golf &amp; Country Club
REFRESH-INTERVAL;VALUE=DURATION:PT1H
X-Robots-Tag:noindex
X-PUBLISHED-TTL:PT1H
BEGIN:VTIMEZONE
TZID:America/New_York
BEGIN:DAYLIGHT
TZOFFSETFROM:-0500
TZOFFSETTO:-0400
TZNAME:EDT
DTSTART:20240310T070000
END:DAYLIGHT
BEGIN:STANDARD
TZOFFSETFROM:-0400
TZOFFSETTO:-0500
TZNAME:EST
DTSTART:20241103T060000
END:STANDARD
BEGIN:DAYLIGHT
TZOFFSETFROM:-0500
TZOFFSETTO:-0400
TZNAME:EDT
DTSTART:20250309T070000
END:DAYLIGHT
BEGIN:STANDARD
TZOFFSETFROM:-0400
TZOFFSETTO:-0500
TZNAME:EST
DTSTART:20251102T060000
END:STANDARD
BEGIN:DAYLIGHT
TZOFFSETFROM:-0500
TZOFFSETTO:-0400
TZNAME:EDT
DTSTART:20260308T070000
END:DAYLIGHT
BEGIN:STANDARD
TZOFFSETFROM:-0400
TZOFFSETTO:-0500
TZNAME:EST
DTSTART:20261101T060000
END:STANDARD
END:VTIMEZONE
BEGIN:VTIMEZONE
TZID:UTC
BEGIN:STANDARD
TZOFFSETFROM:+0000
TZOFFSETTO:+0000
TZNAME:UTC
DTSTART:20240101T000000
END:STANDARD
END:VTIMEZONE
BEGIN:VEVENT
DTSTART;VALUE=DATE:20251022
DTEND;VALUE=DATE:20251023
DTSTAMP:20260423T120121
CREATED:20250408T194903Z
LAST-MODIFIED:20251029T185122Z
UID:10006850-1761091200-1761177599@www.indianlakeestatesinc.com
SUMMARY:Line Dance 10-Noon Classes
DESCRIPTION:
URL:https://www.indianlakeestatesinc.com/event/line-dance-lessons/2025-10-22/
LOCATION:Ballroom\, 7510 Red Grange\, Indian lake Estates\, FL\, 33855\, United States
END:VEVENT
BEGIN:VEVENT
DTSTART;VALUE=DATE:20251022
DTEND;VALUE=DATE:20251023
DTSTAMP:20260423T120121
CREATED:20250807T152341Z
LAST-MODIFIED:20251020T224242Z
UID:10005964-1761091200-1761177599@www.indianlakeestatesinc.com
SUMMARY:First Baptist Church 6PM Bible Study
DESCRIPTION:6:00 PM Fellowship and Snacks\n6:30 PM 7:30 PM Bible Study
URL:https://www.indianlakeestatesinc.com/event/first-baptist-church-ile-bible-study/2025-10-22/
LOCATION:First Baptist Church
END:VEVENT
BEGIN:VEVENT
DTSTART;VALUE=DATE:20251022
DTEND;VALUE=DATE:20251023
DTSTAMP:20260423T120121
CREATED:20250903T170623Z
LAST-MODIFIED:20251201T201230Z
UID:10006240-1761091200-1761177599@www.indianlakeestatesinc.com
SUMMARY:Men's Golf - 8:30 AM Golf Conference
DESCRIPTION:
URL:https://www.indianlakeestatesinc.com/event/mens-golf-golf-conference/2025-10-22/
LOCATION:Golf Course\, 7510 Red Grange Blvd\, Indian Lake Estate\, FL\, 333855\, United States
END:VEVENT
BEGIN:VEVENT
DTSTART;VALUE=DATE:20251022
DTEND;VALUE=DATE:20251023
DTSTAMP:20260423T120121
CREATED:20250903T171600Z
LAST-MODIFIED:20251020T215615Z
UID:10005343-1761091200-1761177599@www.indianlakeestatesinc.com
SUMMARY:Bridge 9:30 AM - Terrace Room
DESCRIPTION:
URL:https://www.indianlakeestatesinc.com/event/bridge-2/2025-10-22/
LOCATION:Terrace Room\, 7510 Red Grange\, Indian Lake Estate\, FL\, 33855\, United States
END:VEVENT
BEGIN:VEVENT
DTSTART;VALUE=DATE:20251022
DTEND;VALUE=DATE:20251023
DTSTAMP:20260423T120121
CREATED:20250903T182238Z
LAST-MODIFIED:20251118T141053Z
UID:10004177-1761091200-1761177599@www.indianlakeestatesinc.com
SUMMARY:Mahjong @ Library 1 PM
DESCRIPTION:
URL:https://www.indianlakeestatesinc.com/event/mahjong-library/2025-10-22/
LOCATION:ILE Library\, 7510 Red Grange Blvd\, Indian Lake Est.\, FL\, 33855\, United States
END:VEVENT
BEGIN:VEVENT
DTSTART;TZID=UTC:20251022T140000
DTEND;TZID=UTC:20251022T190000
DTSTAMP:20260423T120121
CREATED:20250221T130723Z
LAST-MODIFIED:20251203T001604Z
UID:10000305-1761141600-1761159600@www.indianlakeestatesinc.com
SUMMARY:Cap Patrol Meeting - Golf Conference Room
DESCRIPTION:
URL:https://www.indianlakeestatesinc.com/event/cap-patrol-meeting-golf-conference-room/2025-10-22/
END:VEVENT
BEGIN:VEVENT
DTSTART;TZID=America/New_York:20251022T190000
DTEND;TZID=America/New_York:20251022T200000
DTSTAMP:20260423T120121
CREATED:20251008T012405Z
LAST-MODIFIED:20251008T012405Z
UID:10004104-1761159600-1761163200@www.indianlakeestatesinc.com
SUMMARY:Sound Bath Relaxation & Meditation Oct
DESCRIPTION:Free Event Exclusive for ILE Residents – Adults16+
URL:https://www.indianlakeestatesinc.com/event/sound-bath-relaxation-meditation-oct/
LOCATION:Ballroom\, 7510 Red Grange\, Indian lake Estates\, FL\, 33855\, United States
END:VEVENT
END:VCALENDAR