BEGIN:VCALENDAR
VERSION:2.0
PRODID:-//Indian Lake Estates Golf &amp; Country Club - ECPv6.15.18//NONSGML v1.0//EN
CALSCALE:GREGORIAN
METHOD:PUBLISH
X-WR-CALNAME:Indian Lake Estates Golf &amp; Country Club
X-ORIGINAL-URL:https://www.indianlakeestatesinc.com
X-WR-CALDESC:Events for Indian Lake Estates Golf &amp; Country Club
REFRESH-INTERVAL;VALUE=DURATION:PT1H
X-Robots-Tag:noindex
X-PUBLISHED-TTL:PT1H
BEGIN:VTIMEZONE
TZID:America/New_York
BEGIN:DAYLIGHT
TZOFFSETFROM:-0500
TZOFFSETTO:-0400
TZNAME:EDT
DTSTART:20240310T070000
END:DAYLIGHT
BEGIN:STANDARD
TZOFFSETFROM:-0400
TZOFFSETTO:-0500
TZNAME:EST
DTSTART:20241103T060000
END:STANDARD
BEGIN:DAYLIGHT
TZOFFSETFROM:-0500
TZOFFSETTO:-0400
TZNAME:EDT
DTSTART:20250309T070000
END:DAYLIGHT
BEGIN:STANDARD
TZOFFSETFROM:-0400
TZOFFSETTO:-0500
TZNAME:EST
DTSTART:20251102T060000
END:STANDARD
BEGIN:DAYLIGHT
TZOFFSETFROM:-0500
TZOFFSETTO:-0400
TZNAME:EDT
DTSTART:20260308T070000
END:DAYLIGHT
BEGIN:STANDARD
TZOFFSETFROM:-0400
TZOFFSETTO:-0500
TZNAME:EST
DTSTART:20261101T060000
END:STANDARD
END:VTIMEZONE
BEGIN:VEVENT
DTSTART;VALUE=DATE:20251028
DTEND;VALUE=DATE:20251029
DTSTAMP:20260421T171323
CREATED:20250903T170243Z
LAST-MODIFIED:20251020T215359Z
UID:10005076-1761609600-1761695999@www.indianlakeestatesinc.com
SUMMARY:Euchre Tuesdays 7PM
DESCRIPTION:
URL:https://www.indianlakeestatesinc.com/event/euchre-tuesdays/2025-10-28/
LOCATION:Terrace Room\, 7510 Red Grange\, Indian Lake Estate\, FL\, 33855\, United States
END:VEVENT
BEGIN:VEVENT
DTSTART;VALUE=DATE:20251028
DTEND;VALUE=DATE:20251029
DTSTAMP:20260421T171323
CREATED:20250903T181126Z
LAST-MODIFIED:20260103T181622Z
UID:10004808-1761609600-1761695999@www.indianlakeestatesinc.com
SUMMARY:Hand & Foot Card Grp 12PM - Clubhouse Ballroom
DESCRIPTION:
URL:https://www.indianlakeestatesinc.com/event/hand-foot-card-group-clubhouse-ballroom/2025-10-28/
LOCATION:Ballroom\, 7510 Red Grange\, Indian lake Estates\, FL\, 33855\, United States
END:VEVENT
BEGIN:VEVENT
DTSTART;TZID=America/New_York:20251028T190000
DTEND;TZID=America/New_York:20251028T200000
DTSTAMP:20260421T171323
CREATED:20251007T205915Z
LAST-MODIFIED:20251007T210035Z
UID:10004103-1761678000-1761681600@www.indianlakeestatesinc.com
SUMMARY:General Meeting
DESCRIPTION:COME OUT!  ILE GENERAL MEETING ARE FOR THE COMMUNITY!  We need you to make a difference. \nRefreshments will be provided so come out grab a goodie and vote! SEE YOU THERE!! 🙂
URL:https://www.indianlakeestatesinc.com/event/general-meeting-2/
LOCATION:Ballroom\, 7510 Red Grange\, Indian lake Estates\, FL\, 33855\, United States
END:VEVENT
END:VCALENDAR