BEGIN:VCALENDAR
VERSION:2.0
PRODID:-//Indian Lake Estates Golf &amp; Country Club - ECPv6.15.18//NONSGML v1.0//EN
CALSCALE:GREGORIAN
METHOD:PUBLISH
X-WR-CALNAME:Indian Lake Estates Golf &amp; Country Club
X-ORIGINAL-URL:https://www.indianlakeestatesinc.com
X-WR-CALDESC:Events for Indian Lake Estates Golf &amp; Country Club
REFRESH-INTERVAL;VALUE=DURATION:PT1H
X-Robots-Tag:noindex
X-PUBLISHED-TTL:PT1H
BEGIN:VTIMEZONE
TZID:UTC
BEGIN:STANDARD
TZOFFSETFROM:+0000
TZOFFSETTO:+0000
TZNAME:UTC
DTSTART:20240101T000000
END:STANDARD
END:VTIMEZONE
BEGIN:VTIMEZONE
TZID:America/New_York
BEGIN:DAYLIGHT
TZOFFSETFROM:-0500
TZOFFSETTO:-0400
TZNAME:EDT
DTSTART:20240310T070000
END:DAYLIGHT
BEGIN:STANDARD
TZOFFSETFROM:-0400
TZOFFSETTO:-0500
TZNAME:EST
DTSTART:20241103T060000
END:STANDARD
BEGIN:DAYLIGHT
TZOFFSETFROM:-0500
TZOFFSETTO:-0400
TZNAME:EDT
DTSTART:20250309T070000
END:DAYLIGHT
BEGIN:STANDARD
TZOFFSETFROM:-0400
TZOFFSETTO:-0500
TZNAME:EST
DTSTART:20251102T060000
END:STANDARD
BEGIN:DAYLIGHT
TZOFFSETFROM:-0500
TZOFFSETTO:-0400
TZNAME:EDT
DTSTART:20260308T070000
END:DAYLIGHT
BEGIN:STANDARD
TZOFFSETFROM:-0400
TZOFFSETTO:-0500
TZNAME:EST
DTSTART:20261101T060000
END:STANDARD
END:VTIMEZONE
BEGIN:VEVENT
DTSTART;VALUE=DATE:20251113
DTEND;VALUE=DATE:20251114
DTSTAMP:20260421T123225
CREATED:20250221T125831Z
LAST-MODIFIED:20251201T223911Z
UID:10005641-1762992000-1763078399@www.indianlakeestatesinc.com
SUMMARY:Painting/Art classes 1PM - Terrace Room
DESCRIPTION:
URL:https://www.indianlakeestatesinc.com/event/painting-classes-clubhouse-terrace-room/2025-11-13/
END:VEVENT
BEGIN:VEVENT
DTSTART;VALUE=DATE:20251113
DTEND;VALUE=DATE:20251114
DTSTAMP:20260421T123225
CREATED:20250903T172721Z
LAST-MODIFIED:20251201T222831Z
UID:10006512-1762992000-1763078399@www.indianlakeestatesinc.com
SUMMARY:Women's Golf - 8:30
DESCRIPTION:
URL:https://www.indianlakeestatesinc.com/event/ladies-golf-golf-conference/2025-11-13/
LOCATION:Golf Course\, 7510 Red Grange Blvd\, Indian Lake Estate\, FL\, 333855\, United States
END:VEVENT
BEGIN:VEVENT
DTSTART;TZID=America/New_York:20251113T180000
DTEND;TZID=America/New_York:20251113T193000
DTSTAMP:20260421T123225
CREATED:20251029T182311Z
LAST-MODIFIED:20251029T182611Z
UID:10006781-1763056800-1763062200@www.indianlakeestatesinc.com
SUMMARY:Trivia Night @ The 19th Hole
DESCRIPTION:Come join your neighbors for some fun trivia @ Trivia Night! \nThere are Prizes!!! 🙂 \nEnjoy dinner & drinks while your there!
URL:https://www.indianlakeestatesinc.com/event/trivia-night-the-19th-hole/2025-11-13/
LOCATION:19th Hole Bar & Grill\, 7510 Red Grange\, Indian lake Estates\, FL\, 33855\, United States
END:VEVENT
END:VCALENDAR