BEGIN:VCALENDAR
VERSION:2.0
PRODID:-//Indian Lake Estates Golf &amp; Country Club - ECPv6.15.18//NONSGML v1.0//EN
CALSCALE:GREGORIAN
METHOD:PUBLISH
X-ORIGINAL-URL:https://www.indianlakeestatesinc.com
X-WR-CALDESC:Events for Indian Lake Estates Golf &amp; Country Club
REFRESH-INTERVAL;VALUE=DURATION:PT1H
X-Robots-Tag:noindex
X-PUBLISHED-TTL:PT1H
BEGIN:VTIMEZONE
TZID:America/New_York
BEGIN:DAYLIGHT
TZOFFSETFROM:-0500
TZOFFSETTO:-0400
TZNAME:EDT
DTSTART:20240310T070000
END:DAYLIGHT
BEGIN:STANDARD
TZOFFSETFROM:-0400
TZOFFSETTO:-0500
TZNAME:EST
DTSTART:20241103T060000
END:STANDARD
BEGIN:DAYLIGHT
TZOFFSETFROM:-0500
TZOFFSETTO:-0400
TZNAME:EDT
DTSTART:20250309T070000
END:DAYLIGHT
BEGIN:STANDARD
TZOFFSETFROM:-0400
TZOFFSETTO:-0500
TZNAME:EST
DTSTART:20251102T060000
END:STANDARD
BEGIN:DAYLIGHT
TZOFFSETFROM:-0500
TZOFFSETTO:-0400
TZNAME:EDT
DTSTART:20260308T070000
END:DAYLIGHT
BEGIN:STANDARD
TZOFFSETFROM:-0400
TZOFFSETTO:-0500
TZNAME:EST
DTSTART:20261101T060000
END:STANDARD
END:VTIMEZONE
BEGIN:VEVENT
DTSTART;VALUE=DATE:20251115
DTEND;VALUE=DATE:20251116
DTSTAMP:20260421T185106
CREATED:20250701T112029Z
LAST-MODIFIED:20251020T213838Z
UID:10004457-1763164800-1763251199@www.indianlakeestatesinc.com
SUMMARY:Pickleball 8:30 am
DESCRIPTION:Players Meet at the pickleball courts each Saturday morning at 8:30 when they have enough players to play. Please come out and join them or give it a try.
URL:https://www.indianlakeestatesinc.com/event/pickelball/2025-11-15/
LOCATION:Pickelball Courts at Clubhouse\, 7510 Red Grange Blve\, Indian Lake Estates\, 33855\, United States
END:VEVENT
BEGIN:VEVENT
DTSTART;TZID=America/New_York:20251115T080000
DTEND;TZID=America/New_York:20251115T130000
DTSTAMP:20260421T185106
CREATED:20250922T175044Z
LAST-MODIFIED:20251028T145225Z
UID:10004089-1763193600-1763211600@www.indianlakeestatesinc.com
SUMMARY:ILE Community Yard Sale
DESCRIPTION:Join us for a Community Yard Sale!!
URL:https://www.indianlakeestatesinc.com/event/ile-community-yard-sale/
END:VEVENT
BEGIN:VEVENT
DTSTART;TZID=America/New_York:20251115T090000
DTEND;TZID=America/New_York:20251115T130000
DTSTAMP:20260421T185106
CREATED:20250903T165153Z
LAST-MODIFIED:20250903T165448Z
UID:10001743-1763197200-1763211600@www.indianlakeestatesinc.com
SUMMARY:Community Dump Day - 3RD Saturday Special
DESCRIPTION:Special Saturday Dump day over summer has been extended – ILE Community vehicle sticker or License showing ILE address is required to dump.
URL:https://www.indianlakeestatesinc.com/event/community-dump-day-4-2/2025-11-15/
END:VEVENT
BEGIN:VEVENT
DTSTART;TZID=America/New_York:20251115T160000
DTEND;TZID=America/New_York:20251115T170000
DTSTAMP:20260421T185106
CREATED:20250807T160526Z
LAST-MODIFIED:20251103T151139Z
UID:10001424-1763222400-1763226000@www.indianlakeestatesinc.com
SUMMARY:ILE Budget Presentation
DESCRIPTION:2026 Budget Presentation to community \nThis has been changed from the previously Scheduled date.\nDear Residents\, \nI want to provide you with an update regarding the Indian Lake Estates 2026 proposed budget. Due to my recent work schedule and being out of town for a significant portion of the past month\, I was unable to complete the budget by the required deadline of November 3\, 2025. This responsibility is mine alone\, and I sincerely apologize for the delay. Please note that this delay is not the responsibility of our new Board President. \nWe are actively working to finalize the proposed budget and expect to have it completed by Friday\, November 7\, 2025. As a result of this delay\, our upcoming meeting will be rescheduled from Thursday\, November 6\, 2025 to Saturday\, November 15\, 2025. \nThe office will post the updated date and time on the community calendar\, send an email blast\, and update the Events section of our Facebook page to ensure everyone is informed. \nIf you have any questions\, please don’t hesitate to reach out to me directly. \nThank you for your understanding\, \nRespectfully\, \nRod Raner\nTreasurer\, Board of Directors
URL:https://www.indianlakeestatesinc.com/event/budget-presentation/
LOCATION:Ballroom\, 7510 Red Grange\, Indian lake Estates\, FL\, 33855\, United States
END:VEVENT
BEGIN:VEVENT
DTSTART;TZID=America/New_York:20251115T190000
DTEND;TZID=America/New_York:20251115T220000
DTSTAMP:20260421T185106
CREATED:20251008T015046Z
LAST-MODIFIED:20251029T183141Z
UID:10006782-1763233200-1763244000@www.indianlakeestatesinc.com
SUMMARY:DJ Duane Karaoke Saturday Night
DESCRIPTION:Come out to The 19th Hole for some Karaoke with DJ Duane. Enjoy some great food and drink specials while you’re there.
URL:https://www.indianlakeestatesinc.com/event/dj-duane-karaoke-saturday-night/2025-11-15/
LOCATION:19th Hole Bar & Grill\, 7510 Red Grange\, Indian lake Estates\, FL\, 33855\, United States
END:VEVENT
END:VCALENDAR