BEGIN:VCALENDAR
VERSION:2.0
PRODID:-//Indian Lake Estates Golf &amp; Country Club - ECPv6.15.18//NONSGML v1.0//EN
CALSCALE:GREGORIAN
METHOD:PUBLISH
X-ORIGINAL-URL:https://www.indianlakeestatesinc.com
X-WR-CALDESC:Events for Indian Lake Estates Golf &amp; Country Club
REFRESH-INTERVAL;VALUE=DURATION:PT1H
X-Robots-Tag:noindex
X-PUBLISHED-TTL:PT1H
BEGIN:VTIMEZONE
TZID:UTC
BEGIN:STANDARD
TZOFFSETFROM:+0000
TZOFFSETTO:+0000
TZNAME:UTC
DTSTART:20240101T000000
END:STANDARD
END:VTIMEZONE
BEGIN:VEVENT
DTSTART;TZID=UTC:20251123T080000
DTEND;TZID=UTC:20251123T110000
DTSTAMP:20260421T142158
CREATED:20250511T165109Z
LAST-MODIFIED:20251029T201323Z
UID:10006863-1763884800-1763895600@www.indianlakeestatesinc.com
SUMMARY:YC-Breakfast - Lakeside Pavilion Fall 25
DESCRIPTION:Come join us for Yacht Club Breakfast! Check the calendar for the Fall dates. \n  \n 
URL:https://www.indianlakeestatesinc.com/event/yc-breakfast-lakefront-pavilion-7/2025-11-23/
LOCATION:Lakeside Pavilion
END:VEVENT
END:VCALENDAR