BEGIN:VCALENDAR
VERSION:2.0
PRODID:-//Indian Lake Estates Golf &amp; Country Club - ECPv6.15.18//NONSGML v1.0//EN
CALSCALE:GREGORIAN
METHOD:PUBLISH
X-WR-CALNAME:Indian Lake Estates Golf &amp; Country Club
X-ORIGINAL-URL:https://www.indianlakeestatesinc.com
X-WR-CALDESC:Events for Indian Lake Estates Golf &amp; Country Club
REFRESH-INTERVAL;VALUE=DURATION:PT1H
X-Robots-Tag:noindex
X-PUBLISHED-TTL:PT1H
BEGIN:VTIMEZONE
TZID:UTC
BEGIN:STANDARD
TZOFFSETFROM:+0000
TZOFFSETTO:+0000
TZNAME:UTC
DTSTART:20240101T000000
END:STANDARD
END:VTIMEZONE
BEGIN:VTIMEZONE
TZID:America/New_York
BEGIN:DAYLIGHT
TZOFFSETFROM:-0500
TZOFFSETTO:-0400
TZNAME:EDT
DTSTART:20240310T070000
END:DAYLIGHT
BEGIN:STANDARD
TZOFFSETFROM:-0400
TZOFFSETTO:-0500
TZNAME:EST
DTSTART:20241103T060000
END:STANDARD
BEGIN:DAYLIGHT
TZOFFSETFROM:-0500
TZOFFSETTO:-0400
TZNAME:EDT
DTSTART:20250309T070000
END:DAYLIGHT
BEGIN:STANDARD
TZOFFSETFROM:-0400
TZOFFSETTO:-0500
TZNAME:EST
DTSTART:20251102T060000
END:STANDARD
BEGIN:DAYLIGHT
TZOFFSETFROM:-0500
TZOFFSETTO:-0400
TZNAME:EDT
DTSTART:20260308T070000
END:DAYLIGHT
BEGIN:STANDARD
TZOFFSETFROM:-0400
TZOFFSETTO:-0500
TZNAME:EST
DTSTART:20261101T060000
END:STANDARD
END:VTIMEZONE
BEGIN:VEVENT
DTSTART;VALUE=DATE:20251212
DTEND;VALUE=DATE:20251213
DTSTAMP:20260421T165907
CREATED:20250221T125959Z
LAST-MODIFIED:20251029T162008Z
UID:10004756-1765497600-1765583999@www.indianlakeestatesinc.com
SUMMARY:Dominos - 12pm Ballroom
DESCRIPTION:
URL:https://www.indianlakeestatesinc.com/event/dominos-clubhouse-ballroom/2025-12-12/
END:VEVENT
BEGIN:VEVENT
DTSTART;TZID=America/New_York:20251212T171500
DTEND;TZID=America/New_York:20251212T180000
DTSTAMP:20260421T165907
CREATED:20251201T210401Z
LAST-MODIFIED:20251201T210401Z
UID:10007439-1765559700-1765562400@www.indianlakeestatesinc.com
SUMMARY:Christmas Cookie Exchange 2025
DESCRIPTION:Bring 40 Cookies of your favorite\, or best recipe\,  in separate baggies. 4 cookies per bag. You come with 10 bags you leave with 10 bags. Come share your cookies and find some others you may LOVE.
URL:https://www.indianlakeestatesinc.com/event/christmas-cookie-exchange-2025-2/
LOCATION:Ballroom\, 7510 Red Grange\, Indian lake Estates\, FL\, 33855\, United States
END:VEVENT
END:VCALENDAR