BEGIN:VCALENDAR
VERSION:2.0
PRODID:-//Indian Lake Estates Golf &amp; Country Club - ECPv6.15.18//NONSGML v1.0//EN
CALSCALE:GREGORIAN
METHOD:PUBLISH
X-WR-CALNAME:Indian Lake Estates Golf &amp; Country Club
X-ORIGINAL-URL:https://www.indianlakeestatesinc.com
X-WR-CALDESC:Events for Indian Lake Estates Golf &amp; Country Club
REFRESH-INTERVAL;VALUE=DURATION:PT1H
X-Robots-Tag:noindex
X-PUBLISHED-TTL:PT1H
BEGIN:VTIMEZONE
TZID:America/New_York
BEGIN:DAYLIGHT
TZOFFSETFROM:-0500
TZOFFSETTO:-0400
TZNAME:EDT
DTSTART:20250309T070000
END:DAYLIGHT
BEGIN:STANDARD
TZOFFSETFROM:-0400
TZOFFSETTO:-0500
TZNAME:EST
DTSTART:20251102T060000
END:STANDARD
BEGIN:DAYLIGHT
TZOFFSETFROM:-0500
TZOFFSETTO:-0400
TZNAME:EDT
DTSTART:20260308T070000
END:DAYLIGHT
BEGIN:STANDARD
TZOFFSETFROM:-0400
TZOFFSETTO:-0500
TZNAME:EST
DTSTART:20261101T060000
END:STANDARD
BEGIN:DAYLIGHT
TZOFFSETFROM:-0500
TZOFFSETTO:-0400
TZNAME:EDT
DTSTART:20270314T070000
END:DAYLIGHT
BEGIN:STANDARD
TZOFFSETFROM:-0400
TZOFFSETTO:-0500
TZNAME:EST
DTSTART:20271107T060000
END:STANDARD
END:VTIMEZONE
BEGIN:VEVENT
DTSTART;VALUE=DATE:20260117
DTEND;VALUE=DATE:20260118
DTSTAMP:20260423T063208
CREATED:20250701T112029Z
LAST-MODIFIED:20251020T213838Z
UID:10004466-1768608000-1768694399@www.indianlakeestatesinc.com
SUMMARY:Pickleball 8:30 am
DESCRIPTION:Players Meet at the pickleball courts each Saturday morning at 8:30 when they have enough players to play. Please come out and join them or give it a try.
URL:https://www.indianlakeestatesinc.com/event/pickelball/2026-01-17/
LOCATION:Pickelball Courts at Clubhouse\, 7510 Red Grange Blve\, Indian Lake Estates\, 33855\, United States
END:VEVENT
BEGIN:VEVENT
DTSTART;TZID=America/New_York:20260117T090000
DTEND;TZID=America/New_York:20260117T130000
DTSTAMP:20260423T063208
CREATED:20250903T165153Z
LAST-MODIFIED:20250903T165448Z
UID:10001720-1768640400-1768654800@www.indianlakeestatesinc.com
SUMMARY:Community Dump Day - 3RD Saturday Special
DESCRIPTION:Special Saturday Dump day over summer has been extended – ILE Community vehicle sticker or License showing ILE address is required to dump.
URL:https://www.indianlakeestatesinc.com/event/community-dump-day-4-2/2026-01-17/
END:VEVENT
BEGIN:VEVENT
DTSTART;TZID=America/New_York:20260117T190000
DTEND;TZID=America/New_York:20260117T190000
DTSTAMP:20260423T063208
CREATED:20251028T142149Z
LAST-MODIFIED:20251028T174713Z
UID:10006225-1768676400-1768676400@www.indianlakeestatesinc.com
SUMMARY:Liverpool Live Beetles Tribute Band
DESCRIPTION:Liverpool Live: Florida’s #1 Beetles Tribute Band will be in Indian Lake Estates\nGet ready for an awesome night with the Beetles Tribute Band rocking live in the Ballroom. Experience the classic vibes and timeless hits performed right in person. Choose a VIP ticket for preferred seating.  \n7PM in the Ballroom.  \nThe 19th hole will provide food and drinks that will be available to pre-purchase with your tickets.  \nTickets will be available in the office\, the 19th hole\, at ILE events & on the Eventbrite app. Tickt prices are $30 General and $50 VIP.  \nYOU WONT WANT TO MISS THIS FANTASTIC EVENT– GET YOUR TICKETS EARLY!! \nutm_experiment=test_share_listing&aff=ebdsshios&sg=61938fcf6187d30255988df1a8c0b3508eb5bba20fb011810156ed7184113e09e3b86d53f807e3175d3739d05f27e065a49660e2f14d36801dbf306986107f76e77cffb0f6874f1f6848ea515c&utm_source=canva&utm_medium=iframely
URL:https://www.indianlakeestatesinc.com/event/liverpool-live-beatles-tribute-band/
LOCATION:Ballroom\, 7510 Red Grange\, Indian lake Estates\, FL\, 33855\, United States
END:VEVENT
END:VCALENDAR