BEGIN:VCALENDAR
VERSION:2.0
PRODID:-//Indian Lake Estates Golf &amp; Country Club - ECPv6.15.18//NONSGML v1.0//EN
CALSCALE:GREGORIAN
METHOD:PUBLISH
X-ORIGINAL-URL:https://www.indianlakeestatesinc.com
X-WR-CALDESC:Events for Indian Lake Estates Golf &amp; Country Club
REFRESH-INTERVAL;VALUE=DURATION:PT1H
X-Robots-Tag:noindex
X-PUBLISHED-TTL:PT1H
BEGIN:VTIMEZONE
TZID:UTC
BEGIN:STANDARD
TZOFFSETFROM:+0000
TZOFFSETTO:+0000
TZNAME:UTC
DTSTART:20250101T000000
END:STANDARD
END:VTIMEZONE
BEGIN:VTIMEZONE
TZID:America/New_York
BEGIN:DAYLIGHT
TZOFFSETFROM:-0500
TZOFFSETTO:-0400
TZNAME:EDT
DTSTART:20250309T070000
END:DAYLIGHT
BEGIN:STANDARD
TZOFFSETFROM:-0400
TZOFFSETTO:-0500
TZNAME:EST
DTSTART:20251102T060000
END:STANDARD
BEGIN:DAYLIGHT
TZOFFSETFROM:-0500
TZOFFSETTO:-0400
TZNAME:EDT
DTSTART:20260308T070000
END:DAYLIGHT
BEGIN:STANDARD
TZOFFSETFROM:-0400
TZOFFSETTO:-0500
TZNAME:EST
DTSTART:20261101T060000
END:STANDARD
BEGIN:DAYLIGHT
TZOFFSETFROM:-0500
TZOFFSETTO:-0400
TZNAME:EDT
DTSTART:20270314T070000
END:DAYLIGHT
BEGIN:STANDARD
TZOFFSETFROM:-0400
TZOFFSETTO:-0500
TZNAME:EST
DTSTART:20271107T060000
END:STANDARD
END:VTIMEZONE
BEGIN:VEVENT
DTSTART;VALUE=DATE:20260129
DTEND;VALUE=DATE:20260130
DTSTAMP:20260421T140719
CREATED:20250221T125831Z
LAST-MODIFIED:20251201T223911Z
UID:10005652-1769644800-1769731199@www.indianlakeestatesinc.com
SUMMARY:Painting/Art classes 1PM - Terrace Room
DESCRIPTION:
URL:https://www.indianlakeestatesinc.com/event/painting-classes-clubhouse-terrace-room/2026-01-29/
END:VEVENT
BEGIN:VEVENT
DTSTART;VALUE=DATE:20260129
DTEND;VALUE=DATE:20260130
DTSTAMP:20260421T140719
CREATED:20250903T172721Z
LAST-MODIFIED:20251201T222831Z
UID:10006523-1769644800-1769731199@www.indianlakeestatesinc.com
SUMMARY:Women's Golf - 8:30
DESCRIPTION:
URL:https://www.indianlakeestatesinc.com/event/ladies-golf-golf-conference/2026-01-29/
LOCATION:Golf Course\, 7510 Red Grange Blvd\, Indian Lake Estate\, FL\, 333855\, United States
END:VEVENT
BEGIN:VEVENT
DTSTART;TZID=America/New_York:20260129T190000
DTEND;TZID=America/New_York:20260129T203000
DTSTAMP:20260421T140719
CREATED:20260119T001413Z
LAST-MODIFIED:20260119T005019Z
UID:10007530-1769713200-1769718600@www.indianlakeestatesinc.com
SUMMARY:ILE Board Meeting 2026
DESCRIPTION:We have combined the Workshop with the Board meeting so residents have one meeting to attend. We feel this will aid in the continued community involvement during meetings\, enable anyone to speak about issues before they are being voted on and make a difference in community decisions. Come out and join us for the meeting! \nThe Agenda is posted on the Club House bulletin board each month.  Please check your monthly newsletters for the dates of future meetings. \nAs we go through the agenda\, members can ask questions and discussion is encouraged. \nAny topic not on the agenda can be bought to meeting attendees after the meeting agenda is completed. \nAs Members address the attendees they must keep their time to a maximum of 3 minutes as stated in our Roberts Rule of Order.  This keeps the meeting flowing and allows time for everyone to speak on the issues. \nMeetings will be in the Ballroom unless the Ballroom is reserved for another event\, in which case the meeting will be in the Board Room.
URL:https://www.indianlakeestatesinc.com/event/ile-board-meeting-2026/2026-01-29/
LOCATION:Ballroom\, 7510 Red Grange\, Indian lake Estates\, FL\, 33855\, United States
END:VEVENT
END:VCALENDAR