BEGIN:VCALENDAR
VERSION:2.0
PRODID:-//Indian Lake Estates Golf &amp; Country Club - ECPv6.15.18//NONSGML v1.0//EN
CALSCALE:GREGORIAN
METHOD:PUBLISH
X-ORIGINAL-URL:https://www.indianlakeestatesinc.com
X-WR-CALDESC:Events for Indian Lake Estates Golf &amp; Country Club
REFRESH-INTERVAL;VALUE=DURATION:PT1H
X-Robots-Tag:noindex
X-PUBLISHED-TTL:PT1H
BEGIN:VTIMEZONE
TZID:America/New_York
BEGIN:DAYLIGHT
TZOFFSETFROM:-0500
TZOFFSETTO:-0400
TZNAME:EDT
DTSTART:20270314T070000
END:DAYLIGHT
BEGIN:STANDARD
TZOFFSETFROM:-0400
TZOFFSETTO:-0500
TZNAME:EST
DTSTART:20271107T060000
END:STANDARD
BEGIN:DAYLIGHT
TZOFFSETFROM:-0500
TZOFFSETTO:-0400
TZNAME:EDT
DTSTART:20280312T070000
END:DAYLIGHT
BEGIN:STANDARD
TZOFFSETFROM:-0400
TZOFFSETTO:-0500
TZNAME:EST
DTSTART:20281105T060000
END:STANDARD
BEGIN:DAYLIGHT
TZOFFSETFROM:-0500
TZOFFSETTO:-0400
TZNAME:EDT
DTSTART:20290311T070000
END:DAYLIGHT
BEGIN:STANDARD
TZOFFSETFROM:-0400
TZOFFSETTO:-0500
TZNAME:EST
DTSTART:20291104T060000
END:STANDARD
END:VTIMEZONE
BEGIN:VTIMEZONE
TZID:UTC
BEGIN:STANDARD
TZOFFSETFROM:+0000
TZOFFSETTO:+0000
TZNAME:UTC
DTSTART:20270101T000000
END:STANDARD
END:VTIMEZONE
BEGIN:VEVENT
DTSTART;VALUE=DATE:20280801
DTEND;VALUE=DATE:20280802
DTSTAMP:20260421T062844
CREATED:20250903T170243Z
LAST-MODIFIED:20251020T215359Z
UID:10005220-1848700800-1848787199@www.indianlakeestatesinc.com
SUMMARY:Euchre Tuesdays 7PM
DESCRIPTION:
URL:https://www.indianlakeestatesinc.com/event/euchre-tuesdays/2028-08-01/
LOCATION:Terrace Room\, 7510 Red Grange\, Indian Lake Estate\, FL\, 33855\, United States
END:VEVENT
BEGIN:VEVENT
DTSTART;VALUE=DATE:20280801
DTEND;VALUE=DATE:20280802
DTSTAMP:20260421T062844
CREATED:20250903T181126Z
LAST-MODIFIED:20260103T181622Z
UID:10004952-1848700800-1848787199@www.indianlakeestatesinc.com
SUMMARY:Hand & Foot Card Grp 12PM - Clubhouse Ballroom
DESCRIPTION:
URL:https://www.indianlakeestatesinc.com/event/hand-foot-card-group-clubhouse-ballroom/2028-08-01/
LOCATION:Ballroom\, 7510 Red Grange\, Indian lake Estates\, FL\, 33855\, United States
END:VEVENT
BEGIN:VEVENT
DTSTART;VALUE=DATE:20280802
DTEND;VALUE=DATE:20280803
DTSTAMP:20260421T062844
CREATED:20250807T152341Z
LAST-MODIFIED:20251020T224242Z
UID:10006109-1848787200-1848873599@www.indianlakeestatesinc.com
SUMMARY:First Baptist Church 6PM Bible Study
DESCRIPTION:6:00 PM Fellowship and Snacks\n6:30 PM 7:30 PM Bible Study
URL:https://www.indianlakeestatesinc.com/event/first-baptist-church-ile-bible-study/2028-08-02/
LOCATION:First Baptist Church
END:VEVENT
BEGIN:VEVENT
DTSTART;VALUE=DATE:20280802
DTEND;VALUE=DATE:20280803
DTSTAMP:20260421T062844
CREATED:20250903T170623Z
LAST-MODIFIED:20251201T201230Z
UID:10006385-1848787200-1848873599@www.indianlakeestatesinc.com
SUMMARY:Men's Golf - 8:30 AM Golf Conference
DESCRIPTION:
URL:https://www.indianlakeestatesinc.com/event/mens-golf-golf-conference/2028-08-02/
LOCATION:Golf Course\, 7510 Red Grange Blvd\, Indian Lake Estate\, FL\, 333855\, United States
END:VEVENT
BEGIN:VEVENT
DTSTART;VALUE=DATE:20280802
DTEND;VALUE=DATE:20280803
DTSTAMP:20260421T062844
CREATED:20250903T171600Z
LAST-MODIFIED:20251020T215615Z
UID:10005488-1848787200-1848873599@www.indianlakeestatesinc.com
SUMMARY:Bridge 9:30 AM - Terrace Room
DESCRIPTION:
URL:https://www.indianlakeestatesinc.com/event/bridge-2/2028-08-02/
LOCATION:Terrace Room\, 7510 Red Grange\, Indian Lake Estate\, FL\, 33855\, United States
END:VEVENT
BEGIN:VEVENT
DTSTART;TZID=UTC:20280804T120000
DTEND;TZID=UTC:20280804T130000
DTSTAMP:20260421T062844
CREATED:20260330T194148Z
LAST-MODIFIED:20260330T194333Z
UID:10007791-1849003200-1849006800@www.indianlakeestatesinc.com
SUMMARY:Dominos - 12pm Ballroom
DESCRIPTION:
URL:https://www.indianlakeestatesinc.com/event/dominos-clubhouse-ballroom-2/2028-08-04/
END:VEVENT
BEGIN:VEVENT
DTSTART;VALUE=DATE:20280805
DTEND;VALUE=DATE:20280806
DTSTAMP:20260421T062844
CREATED:20250701T112029Z
LAST-MODIFIED:20251020T213838Z
UID:10004599-1849046400-1849132799@www.indianlakeestatesinc.com
SUMMARY:Pickleball 8:30 am
DESCRIPTION:Players Meet at the pickleball courts each Saturday morning at 8:30 when they have enough players to play. Please come out and join them or give it a try.
URL:https://www.indianlakeestatesinc.com/event/pickelball/2028-08-05/
LOCATION:Pickelball Courts at Clubhouse\, 7510 Red Grange Blve\, Indian Lake Estates\, 33855\, United States
END:VEVENT
BEGIN:VEVENT
DTSTART;VALUE=DATE:20280807
DTEND;VALUE=DATE:20280808
DTSTAMP:20260421T062844
CREATED:20250903T152722Z
LAST-MODIFIED:20251201T201417Z
UID:10005839-1849219200-1849305599@www.indianlakeestatesinc.com
SUMMARY:First Baptist Church\, 6 PM Ladies Bible Study
DESCRIPTION:6:00 PM Fellowship and snacks\n6:30 PM – 7:30 PM Bible Study
URL:https://www.indianlakeestatesinc.com/event/first-baptist-church-ile-ladies-ministry-bible-study-2/2028-08-07/
LOCATION:First Baptist Church
END:VEVENT
BEGIN:VEVENT
DTSTART;VALUE=DATE:20280807
DTEND;VALUE=DATE:20280808
DTSTAMP:20260421T062844
CREATED:20251118T142155Z
LAST-MODIFIED:20251118T142155Z
UID:10007288-1849219200-1849305599@www.indianlakeestatesinc.com
SUMMARY:Mahjong 2-4PM
DESCRIPTION:Held Monday in the Terrace Room
URL:https://www.indianlakeestatesinc.com/event/mahjong-2-4pm/2028-08-07/
END:VEVENT
BEGIN:VEVENT
DTSTART;VALUE=DATE:20280808
DTEND;VALUE=DATE:20280809
DTSTAMP:20260421T062844
CREATED:20250903T170243Z
LAST-MODIFIED:20251020T215359Z
UID:10005221-1849305600-1849391999@www.indianlakeestatesinc.com
SUMMARY:Euchre Tuesdays 7PM
DESCRIPTION:
URL:https://www.indianlakeestatesinc.com/event/euchre-tuesdays/2028-08-08/
LOCATION:Terrace Room\, 7510 Red Grange\, Indian Lake Estate\, FL\, 33855\, United States
END:VEVENT
BEGIN:VEVENT
DTSTART;VALUE=DATE:20280808
DTEND;VALUE=DATE:20280809
DTSTAMP:20260421T062844
CREATED:20250903T181126Z
LAST-MODIFIED:20260103T181622Z
UID:10004953-1849305600-1849391999@www.indianlakeestatesinc.com
SUMMARY:Hand & Foot Card Grp 12PM - Clubhouse Ballroom
DESCRIPTION:
URL:https://www.indianlakeestatesinc.com/event/hand-foot-card-group-clubhouse-ballroom/2028-08-08/
LOCATION:Ballroom\, 7510 Red Grange\, Indian lake Estates\, FL\, 33855\, United States
END:VEVENT
BEGIN:VEVENT
DTSTART;VALUE=DATE:20280809
DTEND;VALUE=DATE:20280810
DTSTAMP:20260421T062844
CREATED:20250807T152341Z
LAST-MODIFIED:20251020T224242Z
UID:10006110-1849392000-1849478399@www.indianlakeestatesinc.com
SUMMARY:First Baptist Church 6PM Bible Study
DESCRIPTION:6:00 PM Fellowship and Snacks\n6:30 PM 7:30 PM Bible Study
URL:https://www.indianlakeestatesinc.com/event/first-baptist-church-ile-bible-study/2028-08-09/
LOCATION:First Baptist Church
END:VEVENT
BEGIN:VEVENT
DTSTART;VALUE=DATE:20280809
DTEND;VALUE=DATE:20280810
DTSTAMP:20260421T062844
CREATED:20250903T170623Z
LAST-MODIFIED:20251201T201230Z
UID:10006386-1849392000-1849478399@www.indianlakeestatesinc.com
SUMMARY:Men's Golf - 8:30 AM Golf Conference
DESCRIPTION:
URL:https://www.indianlakeestatesinc.com/event/mens-golf-golf-conference/2028-08-09/
LOCATION:Golf Course\, 7510 Red Grange Blvd\, Indian Lake Estate\, FL\, 333855\, United States
END:VEVENT
BEGIN:VEVENT
DTSTART;VALUE=DATE:20280809
DTEND;VALUE=DATE:20280810
DTSTAMP:20260421T062844
CREATED:20250903T171600Z
LAST-MODIFIED:20251020T215615Z
UID:10005489-1849392000-1849478399@www.indianlakeestatesinc.com
SUMMARY:Bridge 9:30 AM - Terrace Room
DESCRIPTION:
URL:https://www.indianlakeestatesinc.com/event/bridge-2/2028-08-09/
LOCATION:Terrace Room\, 7510 Red Grange\, Indian Lake Estate\, FL\, 33855\, United States
END:VEVENT
BEGIN:VEVENT
DTSTART;TZID=America/New_York:20280809T180000
DTEND;TZID=America/New_York:20280809T190000
DTSTAMP:20260421T062844
CREATED:20250527T144644Z
LAST-MODIFIED:20251218T223200Z
UID:10001395-1849456800-1849460400@www.indianlakeestatesinc.com
SUMMARY:ILEU Board Meeting
DESCRIPTION:ILEU Water Utilities Board meeting \nCustomers Welcome \nDecember meeting will be the Annual Meeting / Elections / Reorganization
URL:https://www.indianlakeestatesinc.com/event/ileu-board-meeting/2028-08-09/
LOCATION:Board Conference Room
END:VEVENT
BEGIN:VEVENT
DTSTART;TZID=UTC:20280811T120000
DTEND;TZID=UTC:20280811T130000
DTSTAMP:20260421T062844
CREATED:20260330T194148Z
LAST-MODIFIED:20260330T194333Z
UID:10007792-1849608000-1849611600@www.indianlakeestatesinc.com
SUMMARY:Dominos - 12pm Ballroom
DESCRIPTION:
URL:https://www.indianlakeestatesinc.com/event/dominos-clubhouse-ballroom-2/2028-08-11/
END:VEVENT
BEGIN:VEVENT
DTSTART;VALUE=DATE:20280812
DTEND;VALUE=DATE:20280813
DTSTAMP:20260421T062844
CREATED:20250701T112029Z
LAST-MODIFIED:20251020T213838Z
UID:10004600-1849651200-1849737599@www.indianlakeestatesinc.com
SUMMARY:Pickleball 8:30 am
DESCRIPTION:Players Meet at the pickleball courts each Saturday morning at 8:30 when they have enough players to play. Please come out and join them or give it a try.
URL:https://www.indianlakeestatesinc.com/event/pickelball/2028-08-12/
LOCATION:Pickelball Courts at Clubhouse\, 7510 Red Grange Blve\, Indian Lake Estates\, 33855\, United States
END:VEVENT
BEGIN:VEVENT
DTSTART;VALUE=DATE:20280814
DTEND;VALUE=DATE:20280815
DTSTAMP:20260421T062844
CREATED:20250903T152722Z
LAST-MODIFIED:20251201T201417Z
UID:10005840-1849824000-1849910399@www.indianlakeestatesinc.com
SUMMARY:First Baptist Church\, 6 PM Ladies Bible Study
DESCRIPTION:6:00 PM Fellowship and snacks\n6:30 PM – 7:30 PM Bible Study
URL:https://www.indianlakeestatesinc.com/event/first-baptist-church-ile-ladies-ministry-bible-study-2/2028-08-14/
LOCATION:First Baptist Church
END:VEVENT
BEGIN:VEVENT
DTSTART;VALUE=DATE:20280814
DTEND;VALUE=DATE:20280815
DTSTAMP:20260421T062844
CREATED:20251118T142155Z
LAST-MODIFIED:20251118T142155Z
UID:10007289-1849824000-1849910399@www.indianlakeestatesinc.com
SUMMARY:Mahjong 2-4PM
DESCRIPTION:Held Monday in the Terrace Room
URL:https://www.indianlakeestatesinc.com/event/mahjong-2-4pm/2028-08-14/
END:VEVENT
BEGIN:VEVENT
DTSTART;VALUE=DATE:20280815
DTEND;VALUE=DATE:20280816
DTSTAMP:20260421T062844
CREATED:20250903T170243Z
LAST-MODIFIED:20251020T215359Z
UID:10005222-1849910400-1849996799@www.indianlakeestatesinc.com
SUMMARY:Euchre Tuesdays 7PM
DESCRIPTION:
URL:https://www.indianlakeestatesinc.com/event/euchre-tuesdays/2028-08-15/
LOCATION:Terrace Room\, 7510 Red Grange\, Indian Lake Estate\, FL\, 33855\, United States
END:VEVENT
BEGIN:VEVENT
DTSTART;VALUE=DATE:20280815
DTEND;VALUE=DATE:20280816
DTSTAMP:20260421T062844
CREATED:20250903T181126Z
LAST-MODIFIED:20260103T181622Z
UID:10004954-1849910400-1849996799@www.indianlakeestatesinc.com
SUMMARY:Hand & Foot Card Grp 12PM - Clubhouse Ballroom
DESCRIPTION:
URL:https://www.indianlakeestatesinc.com/event/hand-foot-card-group-clubhouse-ballroom/2028-08-15/
LOCATION:Ballroom\, 7510 Red Grange\, Indian lake Estates\, FL\, 33855\, United States
END:VEVENT
BEGIN:VEVENT
DTSTART;VALUE=DATE:20280816
DTEND;VALUE=DATE:20280817
DTSTAMP:20260421T062844
CREATED:20250807T152341Z
LAST-MODIFIED:20251020T224242Z
UID:10006111-1849996800-1850083199@www.indianlakeestatesinc.com
SUMMARY:First Baptist Church 6PM Bible Study
DESCRIPTION:6:00 PM Fellowship and Snacks\n6:30 PM 7:30 PM Bible Study
URL:https://www.indianlakeestatesinc.com/event/first-baptist-church-ile-bible-study/2028-08-16/
LOCATION:First Baptist Church
END:VEVENT
BEGIN:VEVENT
DTSTART;VALUE=DATE:20280816
DTEND;VALUE=DATE:20280817
DTSTAMP:20260421T062844
CREATED:20250903T170623Z
LAST-MODIFIED:20251201T201230Z
UID:10006387-1849996800-1850083199@www.indianlakeestatesinc.com
SUMMARY:Men's Golf - 8:30 AM Golf Conference
DESCRIPTION:
URL:https://www.indianlakeestatesinc.com/event/mens-golf-golf-conference/2028-08-16/
LOCATION:Golf Course\, 7510 Red Grange Blvd\, Indian Lake Estate\, FL\, 333855\, United States
END:VEVENT
BEGIN:VEVENT
DTSTART;VALUE=DATE:20280816
DTEND;VALUE=DATE:20280817
DTSTAMP:20260421T062844
CREATED:20250903T171600Z
LAST-MODIFIED:20251020T215615Z
UID:10005490-1849996800-1850083199@www.indianlakeestatesinc.com
SUMMARY:Bridge 9:30 AM - Terrace Room
DESCRIPTION:
URL:https://www.indianlakeestatesinc.com/event/bridge-2/2028-08-16/
LOCATION:Terrace Room\, 7510 Red Grange\, Indian Lake Estate\, FL\, 33855\, United States
END:VEVENT
BEGIN:VEVENT
DTSTART;TZID=America/New_York:20280816T180000
DTEND;TZID=America/New_York:20280816T190000
DTSTAMP:20260421T062844
CREATED:20250903T173449Z
LAST-MODIFIED:20250903T191304Z
UID:10004056-1850061600-1850065200@www.indianlakeestatesinc.com
SUMMARY:Yacht Club Meeting
DESCRIPTION:
URL:https://www.indianlakeestatesinc.com/event/yacht-club-meeting/2028-08-16/
END:VEVENT
BEGIN:VEVENT
DTSTART;TZID=UTC:20280818T120000
DTEND;TZID=UTC:20280818T130000
DTSTAMP:20260421T062844
CREATED:20260330T194148Z
LAST-MODIFIED:20260330T194333Z
UID:10007793-1850212800-1850216400@www.indianlakeestatesinc.com
SUMMARY:Dominos - 12pm Ballroom
DESCRIPTION:
URL:https://www.indianlakeestatesinc.com/event/dominos-clubhouse-ballroom-2/2028-08-18/
END:VEVENT
BEGIN:VEVENT
DTSTART;VALUE=DATE:20280819
DTEND;VALUE=DATE:20280820
DTSTAMP:20260421T062844
CREATED:20250701T112029Z
LAST-MODIFIED:20251020T213838Z
UID:10004601-1850256000-1850342399@www.indianlakeestatesinc.com
SUMMARY:Pickleball 8:30 am
DESCRIPTION:Players Meet at the pickleball courts each Saturday morning at 8:30 when they have enough players to play. Please come out and join them or give it a try.
URL:https://www.indianlakeestatesinc.com/event/pickelball/2028-08-19/
LOCATION:Pickelball Courts at Clubhouse\, 7510 Red Grange Blve\, Indian Lake Estates\, 33855\, United States
END:VEVENT
BEGIN:VEVENT
DTSTART;TZID=America/New_York:20280819T090000
DTEND;TZID=America/New_York:20280819T130000
DTSTAMP:20260421T062844
CREATED:20250903T165153Z
LAST-MODIFIED:20250903T165448Z
UID:10001765-1850288400-1850302800@www.indianlakeestatesinc.com
SUMMARY:Community Dump Day - 3RD Saturday Special
DESCRIPTION:Special Saturday Dump day over summer has been extended – ILE Community vehicle sticker or License showing ILE address is required to dump.
URL:https://www.indianlakeestatesinc.com/event/community-dump-day-4-2/2028-08-19/
END:VEVENT
BEGIN:VEVENT
DTSTART;VALUE=DATE:20280821
DTEND;VALUE=DATE:20280822
DTSTAMP:20260421T062844
CREATED:20250903T152722Z
LAST-MODIFIED:20251201T201417Z
UID:10005841-1850428800-1850515199@www.indianlakeestatesinc.com
SUMMARY:First Baptist Church\, 6 PM Ladies Bible Study
DESCRIPTION:6:00 PM Fellowship and snacks\n6:30 PM – 7:30 PM Bible Study
URL:https://www.indianlakeestatesinc.com/event/first-baptist-church-ile-ladies-ministry-bible-study-2/2028-08-21/
LOCATION:First Baptist Church
END:VEVENT
BEGIN:VEVENT
DTSTART;VALUE=DATE:20280821
DTEND;VALUE=DATE:20280822
DTSTAMP:20260421T062844
CREATED:20251118T142155Z
LAST-MODIFIED:20251118T142155Z
UID:10007290-1850428800-1850515199@www.indianlakeestatesinc.com
SUMMARY:Mahjong 2-4PM
DESCRIPTION:Held Monday in the Terrace Room
URL:https://www.indianlakeestatesinc.com/event/mahjong-2-4pm/2028-08-21/
END:VEVENT
END:VCALENDAR