BEGIN:VCALENDAR
VERSION:2.0
PRODID:-//Indian Lake Estates Golf &amp; Country Club - ECPv6.15.18//NONSGML v1.0//EN
CALSCALE:GREGORIAN
METHOD:PUBLISH
X-WR-CALNAME:Indian Lake Estates Golf &amp; Country Club
X-ORIGINAL-URL:https://www.indianlakeestatesinc.com
X-WR-CALDESC:Events for Indian Lake Estates Golf &amp; Country Club
REFRESH-INTERVAL;VALUE=DURATION:PT1H
X-Robots-Tag:noindex
X-PUBLISHED-TTL:PT1H
BEGIN:VTIMEZONE
TZID:America/New_York
BEGIN:DAYLIGHT
TZOFFSETFROM:-0500
TZOFFSETTO:-0400
TZNAME:EDT
DTSTART:20270314T070000
END:DAYLIGHT
BEGIN:STANDARD
TZOFFSETFROM:-0400
TZOFFSETTO:-0500
TZNAME:EST
DTSTART:20271107T060000
END:STANDARD
BEGIN:DAYLIGHT
TZOFFSETFROM:-0500
TZOFFSETTO:-0400
TZNAME:EDT
DTSTART:20280312T070000
END:DAYLIGHT
BEGIN:STANDARD
TZOFFSETFROM:-0400
TZOFFSETTO:-0500
TZNAME:EST
DTSTART:20281105T060000
END:STANDARD
BEGIN:DAYLIGHT
TZOFFSETFROM:-0500
TZOFFSETTO:-0400
TZNAME:EDT
DTSTART:20290311T070000
END:DAYLIGHT
BEGIN:STANDARD
TZOFFSETFROM:-0400
TZOFFSETTO:-0500
TZNAME:EST
DTSTART:20291104T060000
END:STANDARD
END:VTIMEZONE
BEGIN:VTIMEZONE
TZID:UTC
BEGIN:STANDARD
TZOFFSETFROM:+0000
TZOFFSETTO:+0000
TZNAME:UTC
DTSTART:20270101T000000
END:STANDARD
END:VTIMEZONE
BEGIN:VEVENT
DTSTART;VALUE=DATE:20281209
DTEND;VALUE=DATE:20281210
DTSTAMP:20260421T122255
CREATED:20250701T112029Z
LAST-MODIFIED:20251020T213838Z
UID:10004617-1859932800-1860019199@www.indianlakeestatesinc.com
SUMMARY:Pickleball 8:30 am
DESCRIPTION:Players Meet at the pickleball courts each Saturday morning at 8:30 when they have enough players to play. Please come out and join them or give it a try.
URL:https://www.indianlakeestatesinc.com/event/pickelball/2028-12-09/
LOCATION:Pickelball Courts at Clubhouse\, 7510 Red Grange Blve\, Indian Lake Estates\, 33855\, United States
END:VEVENT
BEGIN:VEVENT
DTSTART;VALUE=DATE:20281211
DTEND;VALUE=DATE:20281212
DTSTAMP:20260421T122255
CREATED:20250903T152722Z
LAST-MODIFIED:20251201T201417Z
UID:10005857-1860105600-1860191999@www.indianlakeestatesinc.com
SUMMARY:First Baptist Church\, 6 PM Ladies Bible Study
DESCRIPTION:6:00 PM Fellowship and snacks\n6:30 PM – 7:30 PM Bible Study
URL:https://www.indianlakeestatesinc.com/event/first-baptist-church-ile-ladies-ministry-bible-study-2/2028-12-11/
LOCATION:First Baptist Church
END:VEVENT
BEGIN:VEVENT
DTSTART;VALUE=DATE:20281211
DTEND;VALUE=DATE:20281212
DTSTAMP:20260421T122255
CREATED:20251118T142155Z
LAST-MODIFIED:20251118T142155Z
UID:10007306-1860105600-1860191999@www.indianlakeestatesinc.com
SUMMARY:Mahjong 2-4PM
DESCRIPTION:Held Monday in the Terrace Room
URL:https://www.indianlakeestatesinc.com/event/mahjong-2-4pm/2028-12-11/
LOCATION:FL
END:VEVENT
BEGIN:VEVENT
DTSTART;VALUE=DATE:20281212
DTEND;VALUE=DATE:20281213
DTSTAMP:20260421T122255
CREATED:20250903T170243Z
LAST-MODIFIED:20251020T215359Z
UID:10005239-1860192000-1860278399@www.indianlakeestatesinc.com
SUMMARY:Euchre Tuesdays 7PM
DESCRIPTION:
URL:https://www.indianlakeestatesinc.com/event/euchre-tuesdays/2028-12-12/
LOCATION:Terrace Room\, 7510 Red Grange\, Indian Lake Estate\, FL\, 33855\, United States
END:VEVENT
BEGIN:VEVENT
DTSTART;VALUE=DATE:20281212
DTEND;VALUE=DATE:20281213
DTSTAMP:20260421T122255
CREATED:20250903T181126Z
LAST-MODIFIED:20260103T181622Z
UID:10004971-1860192000-1860278399@www.indianlakeestatesinc.com
SUMMARY:Hand & Foot Card Grp 12PM - Clubhouse Ballroom
DESCRIPTION:
URL:https://www.indianlakeestatesinc.com/event/hand-foot-card-group-clubhouse-ballroom/2028-12-12/
LOCATION:Ballroom\, 7510 Red Grange\, Indian lake Estates\, FL\, 33855\, United States
END:VEVENT
BEGIN:VEVENT
DTSTART;VALUE=DATE:20281213
DTEND;VALUE=DATE:20281214
DTSTAMP:20260421T122255
CREATED:20250807T152341Z
LAST-MODIFIED:20251020T224242Z
UID:10006128-1860278400-1860364799@www.indianlakeestatesinc.com
SUMMARY:First Baptist Church 6PM Bible Study
DESCRIPTION:6:00 PM Fellowship and Snacks\n6:30 PM 7:30 PM Bible Study
URL:https://www.indianlakeestatesinc.com/event/first-baptist-church-ile-bible-study/2028-12-13/
LOCATION:First Baptist Church
END:VEVENT
BEGIN:VEVENT
DTSTART;VALUE=DATE:20281213
DTEND;VALUE=DATE:20281214
DTSTAMP:20260421T122255
CREATED:20250903T170623Z
LAST-MODIFIED:20251201T201230Z
UID:10006404-1860278400-1860364799@www.indianlakeestatesinc.com
SUMMARY:Men's Golf - 8:30 AM Golf Conference
DESCRIPTION:
URL:https://www.indianlakeestatesinc.com/event/mens-golf-golf-conference/2028-12-13/
LOCATION:Golf Course\, 7510 Red Grange Blvd\, Indian Lake Estate\, FL\, 333855\, United States
END:VEVENT
BEGIN:VEVENT
DTSTART;VALUE=DATE:20281213
DTEND;VALUE=DATE:20281214
DTSTAMP:20260421T122255
CREATED:20250903T171600Z
LAST-MODIFIED:20251020T215615Z
UID:10005507-1860278400-1860364799@www.indianlakeestatesinc.com
SUMMARY:Bridge 9:30 AM - Terrace Room
DESCRIPTION:
URL:https://www.indianlakeestatesinc.com/event/bridge-2/2028-12-13/
LOCATION:Terrace Room\, 7510 Red Grange\, Indian Lake Estate\, FL\, 33855\, United States
END:VEVENT
BEGIN:VEVENT
DTSTART;TZID=America/New_York:20281213T180000
DTEND;TZID=America/New_York:20281213T190000
DTSTAMP:20260421T122255
CREATED:20250527T144644Z
LAST-MODIFIED:20251218T223200Z
UID:10001399-1860343200-1860346800@www.indianlakeestatesinc.com
SUMMARY:ILEU Board Meeting
DESCRIPTION:ILEU Water Utilities Board meeting \nCustomers Welcome \nDecember meeting will be the Annual Meeting / Elections / Reorganization
URL:https://www.indianlakeestatesinc.com/event/ileu-board-meeting/2028-12-13/
LOCATION:Board Conference Room
END:VEVENT
BEGIN:VEVENT
DTSTART;TZID=UTC:20281215T120000
DTEND;TZID=UTC:20281215T130000
DTSTAMP:20260421T122255
CREATED:20260330T194148Z
LAST-MODIFIED:20260330T194333Z
UID:10007810-1860494400-1860498000@www.indianlakeestatesinc.com
SUMMARY:Dominos - 12pm Ballroom
DESCRIPTION:
URL:https://www.indianlakeestatesinc.com/event/dominos-clubhouse-ballroom-2/2028-12-15/
LOCATION:FL
END:VEVENT
BEGIN:VEVENT
DTSTART;VALUE=DATE:20281216
DTEND;VALUE=DATE:20281217
DTSTAMP:20260421T122255
CREATED:20250701T112029Z
LAST-MODIFIED:20251020T213838Z
UID:10004618-1860537600-1860623999@www.indianlakeestatesinc.com
SUMMARY:Pickleball 8:30 am
DESCRIPTION:Players Meet at the pickleball courts each Saturday morning at 8:30 when they have enough players to play. Please come out and join them or give it a try.
URL:https://www.indianlakeestatesinc.com/event/pickelball/2028-12-16/
LOCATION:Pickelball Courts at Clubhouse\, 7510 Red Grange Blve\, Indian Lake Estates\, 33855\, United States
END:VEVENT
BEGIN:VEVENT
DTSTART;TZID=America/New_York:20281216T090000
DTEND;TZID=America/New_York:20281216T130000
DTSTAMP:20260421T122255
CREATED:20250903T165153Z
LAST-MODIFIED:20250903T165448Z
UID:10001768-1860570000-1860584400@www.indianlakeestatesinc.com
SUMMARY:Community Dump Day - 3RD Saturday Special
DESCRIPTION:Special Saturday Dump day over summer has been extended – ILE Community vehicle sticker or License showing ILE address is required to dump.
URL:https://www.indianlakeestatesinc.com/event/community-dump-day-4-2/2028-12-16/
LOCATION:FL
END:VEVENT
BEGIN:VEVENT
DTSTART;VALUE=DATE:20281218
DTEND;VALUE=DATE:20281219
DTSTAMP:20260421T122255
CREATED:20250903T152722Z
LAST-MODIFIED:20251201T201417Z
UID:10005858-1860710400-1860796799@www.indianlakeestatesinc.com
SUMMARY:First Baptist Church\, 6 PM Ladies Bible Study
DESCRIPTION:6:00 PM Fellowship and snacks\n6:30 PM – 7:30 PM Bible Study
URL:https://www.indianlakeestatesinc.com/event/first-baptist-church-ile-ladies-ministry-bible-study-2/2028-12-18/
LOCATION:First Baptist Church
END:VEVENT
BEGIN:VEVENT
DTSTART;VALUE=DATE:20281218
DTEND;VALUE=DATE:20281219
DTSTAMP:20260421T122255
CREATED:20251118T142155Z
LAST-MODIFIED:20251118T142155Z
UID:10007307-1860710400-1860796799@www.indianlakeestatesinc.com
SUMMARY:Mahjong 2-4PM
DESCRIPTION:Held Monday in the Terrace Room
URL:https://www.indianlakeestatesinc.com/event/mahjong-2-4pm/2028-12-18/
LOCATION:FL
END:VEVENT
BEGIN:VEVENT
DTSTART;VALUE=DATE:20281219
DTEND;VALUE=DATE:20281220
DTSTAMP:20260421T122255
CREATED:20250903T170243Z
LAST-MODIFIED:20251020T215359Z
UID:10005240-1860796800-1860883199@www.indianlakeestatesinc.com
SUMMARY:Euchre Tuesdays 7PM
DESCRIPTION:
URL:https://www.indianlakeestatesinc.com/event/euchre-tuesdays/2028-12-19/
LOCATION:Terrace Room\, 7510 Red Grange\, Indian Lake Estate\, FL\, 33855\, United States
END:VEVENT
BEGIN:VEVENT
DTSTART;VALUE=DATE:20281219
DTEND;VALUE=DATE:20281220
DTSTAMP:20260421T122255
CREATED:20250903T181126Z
LAST-MODIFIED:20260103T181622Z
UID:10004972-1860796800-1860883199@www.indianlakeestatesinc.com
SUMMARY:Hand & Foot Card Grp 12PM - Clubhouse Ballroom
DESCRIPTION:
URL:https://www.indianlakeestatesinc.com/event/hand-foot-card-group-clubhouse-ballroom/2028-12-19/
LOCATION:Ballroom\, 7510 Red Grange\, Indian lake Estates\, FL\, 33855\, United States
END:VEVENT
BEGIN:VEVENT
DTSTART;VALUE=DATE:20281220
DTEND;VALUE=DATE:20281221
DTSTAMP:20260421T122255
CREATED:20250807T152341Z
LAST-MODIFIED:20251020T224242Z
UID:10006129-1860883200-1860969599@www.indianlakeestatesinc.com
SUMMARY:First Baptist Church 6PM Bible Study
DESCRIPTION:6:00 PM Fellowship and Snacks\n6:30 PM 7:30 PM Bible Study
URL:https://www.indianlakeestatesinc.com/event/first-baptist-church-ile-bible-study/2028-12-20/
LOCATION:First Baptist Church
END:VEVENT
BEGIN:VEVENT
DTSTART;VALUE=DATE:20281220
DTEND;VALUE=DATE:20281221
DTSTAMP:20260421T122255
CREATED:20250903T170623Z
LAST-MODIFIED:20251201T201230Z
UID:10006405-1860883200-1860969599@www.indianlakeestatesinc.com
SUMMARY:Men's Golf - 8:30 AM Golf Conference
DESCRIPTION:
URL:https://www.indianlakeestatesinc.com/event/mens-golf-golf-conference/2028-12-20/
LOCATION:Golf Course\, 7510 Red Grange Blvd\, Indian Lake Estate\, FL\, 333855\, United States
END:VEVENT
BEGIN:VEVENT
DTSTART;VALUE=DATE:20281220
DTEND;VALUE=DATE:20281221
DTSTAMP:20260421T122255
CREATED:20250903T171600Z
LAST-MODIFIED:20251020T215615Z
UID:10005508-1860883200-1860969599@www.indianlakeestatesinc.com
SUMMARY:Bridge 9:30 AM - Terrace Room
DESCRIPTION:
URL:https://www.indianlakeestatesinc.com/event/bridge-2/2028-12-20/
LOCATION:Terrace Room\, 7510 Red Grange\, Indian Lake Estate\, FL\, 33855\, United States
END:VEVENT
BEGIN:VEVENT
DTSTART;TZID=America/New_York:20281220T180000
DTEND;TZID=America/New_York:20281220T190000
DTSTAMP:20260421T122255
CREATED:20250903T173449Z
LAST-MODIFIED:20250903T191304Z
UID:10004060-1860948000-1860951600@www.indianlakeestatesinc.com
SUMMARY:Yacht Club Meeting
DESCRIPTION:
URL:https://www.indianlakeestatesinc.com/event/yacht-club-meeting/2028-12-20/
LOCATION:FL
END:VEVENT
BEGIN:VEVENT
DTSTART;TZID=UTC:20281222T120000
DTEND;TZID=UTC:20281222T130000
DTSTAMP:20260421T122255
CREATED:20260330T194148Z
LAST-MODIFIED:20260330T194333Z
UID:10007811-1861099200-1861102800@www.indianlakeestatesinc.com
SUMMARY:Dominos - 12pm Ballroom
DESCRIPTION:
URL:https://www.indianlakeestatesinc.com/event/dominos-clubhouse-ballroom-2/2028-12-22/
LOCATION:FL
END:VEVENT
BEGIN:VEVENT
DTSTART;VALUE=DATE:20281223
DTEND;VALUE=DATE:20281224
DTSTAMP:20260421T122255
CREATED:20250701T112029Z
LAST-MODIFIED:20251020T213838Z
UID:10004619-1861142400-1861228799@www.indianlakeestatesinc.com
SUMMARY:Pickleball 8:30 am
DESCRIPTION:Players Meet at the pickleball courts each Saturday morning at 8:30 when they have enough players to play. Please come out and join them or give it a try.
URL:https://www.indianlakeestatesinc.com/event/pickelball/2028-12-23/
LOCATION:Pickelball Courts at Clubhouse\, 7510 Red Grange Blve\, Indian Lake Estates\, 33855\, United States
END:VEVENT
BEGIN:VEVENT
DTSTART;VALUE=DATE:20281225
DTEND;VALUE=DATE:20281226
DTSTAMP:20260421T122255
CREATED:20250903T152722Z
LAST-MODIFIED:20251201T201417Z
UID:10005859-1861315200-1861401599@www.indianlakeestatesinc.com
SUMMARY:First Baptist Church\, 6 PM Ladies Bible Study
DESCRIPTION:6:00 PM Fellowship and snacks\n6:30 PM – 7:30 PM Bible Study
URL:https://www.indianlakeestatesinc.com/event/first-baptist-church-ile-ladies-ministry-bible-study-2/2028-12-25/
LOCATION:First Baptist Church
END:VEVENT
BEGIN:VEVENT
DTSTART;VALUE=DATE:20281225
DTEND;VALUE=DATE:20281226
DTSTAMP:20260421T122255
CREATED:20251118T142155Z
LAST-MODIFIED:20251118T142155Z
UID:10007308-1861315200-1861401599@www.indianlakeestatesinc.com
SUMMARY:Mahjong 2-4PM
DESCRIPTION:Held Monday in the Terrace Room
URL:https://www.indianlakeestatesinc.com/event/mahjong-2-4pm/2028-12-25/
LOCATION:FL
END:VEVENT
BEGIN:VEVENT
DTSTART;VALUE=DATE:20281226
DTEND;VALUE=DATE:20281227
DTSTAMP:20260421T122255
CREATED:20250903T170243Z
LAST-MODIFIED:20251020T215359Z
UID:10005241-1861401600-1861487999@www.indianlakeestatesinc.com
SUMMARY:Euchre Tuesdays 7PM
DESCRIPTION:
URL:https://www.indianlakeestatesinc.com/event/euchre-tuesdays/2028-12-26/
LOCATION:Terrace Room\, 7510 Red Grange\, Indian Lake Estate\, FL\, 33855\, United States
END:VEVENT
BEGIN:VEVENT
DTSTART;VALUE=DATE:20281226
DTEND;VALUE=DATE:20281227
DTSTAMP:20260421T122255
CREATED:20250903T181126Z
LAST-MODIFIED:20260103T181622Z
UID:10004973-1861401600-1861487999@www.indianlakeestatesinc.com
SUMMARY:Hand & Foot Card Grp 12PM - Clubhouse Ballroom
DESCRIPTION:
URL:https://www.indianlakeestatesinc.com/event/hand-foot-card-group-clubhouse-ballroom/2028-12-26/
LOCATION:Ballroom\, 7510 Red Grange\, Indian lake Estates\, FL\, 33855\, United States
END:VEVENT
BEGIN:VEVENT
DTSTART;VALUE=DATE:20281227
DTEND;VALUE=DATE:20281228
DTSTAMP:20260421T122255
CREATED:20250807T152341Z
LAST-MODIFIED:20251020T224242Z
UID:10006130-1861488000-1861574399@www.indianlakeestatesinc.com
SUMMARY:First Baptist Church 6PM Bible Study
DESCRIPTION:6:00 PM Fellowship and Snacks\n6:30 PM 7:30 PM Bible Study
URL:https://www.indianlakeestatesinc.com/event/first-baptist-church-ile-bible-study/2028-12-27/
LOCATION:First Baptist Church
END:VEVENT
BEGIN:VEVENT
DTSTART;VALUE=DATE:20281227
DTEND;VALUE=DATE:20281228
DTSTAMP:20260421T122255
CREATED:20250903T170623Z
LAST-MODIFIED:20251201T201230Z
UID:10006406-1861488000-1861574399@www.indianlakeestatesinc.com
SUMMARY:Men's Golf - 8:30 AM Golf Conference
DESCRIPTION:
URL:https://www.indianlakeestatesinc.com/event/mens-golf-golf-conference/2028-12-27/
LOCATION:Golf Course\, 7510 Red Grange Blvd\, Indian Lake Estate\, FL\, 333855\, United States
END:VEVENT
BEGIN:VEVENT
DTSTART;VALUE=DATE:20281227
DTEND;VALUE=DATE:20281228
DTSTAMP:20260421T122255
CREATED:20250903T171600Z
LAST-MODIFIED:20251020T215615Z
UID:10005509-1861488000-1861574399@www.indianlakeestatesinc.com
SUMMARY:Bridge 9:30 AM - Terrace Room
DESCRIPTION:
URL:https://www.indianlakeestatesinc.com/event/bridge-2/2028-12-27/
LOCATION:Terrace Room\, 7510 Red Grange\, Indian Lake Estate\, FL\, 33855\, United States
END:VEVENT
BEGIN:VEVENT
DTSTART;TZID=UTC:20281229T120000
DTEND;TZID=UTC:20281229T130000
DTSTAMP:20260421T122255
CREATED:20260330T194148Z
LAST-MODIFIED:20260330T194333Z
UID:10007812-1861704000-1861707600@www.indianlakeestatesinc.com
SUMMARY:Dominos - 12pm Ballroom
DESCRIPTION:
URL:https://www.indianlakeestatesinc.com/event/dominos-clubhouse-ballroom-2/2028-12-29/
LOCATION:FL
END:VEVENT
END:VCALENDAR