BEGIN:VCALENDAR
VERSION:2.0
PRODID:-//Indian Lake Estates Golf &amp; Country Club - ECPv6.15.18//NONSGML v1.0//EN
CALSCALE:GREGORIAN
METHOD:PUBLISH
X-ORIGINAL-URL:https://www.indianlakeestatesinc.com
X-WR-CALDESC:Events for Indian Lake Estates Golf &amp; Country Club
REFRESH-INTERVAL;VALUE=DURATION:PT1H
X-Robots-Tag:noindex
X-PUBLISHED-TTL:PT1H
BEGIN:VTIMEZONE
TZID:America/New_York
BEGIN:DAYLIGHT
TZOFFSETFROM:-0500
TZOFFSETTO:-0400
TZNAME:EDT
DTSTART:20270314T070000
END:DAYLIGHT
BEGIN:STANDARD
TZOFFSETFROM:-0400
TZOFFSETTO:-0500
TZNAME:EST
DTSTART:20271107T060000
END:STANDARD
BEGIN:DAYLIGHT
TZOFFSETFROM:-0500
TZOFFSETTO:-0400
TZNAME:EDT
DTSTART:20280312T070000
END:DAYLIGHT
BEGIN:STANDARD
TZOFFSETFROM:-0400
TZOFFSETTO:-0500
TZNAME:EST
DTSTART:20281105T060000
END:STANDARD
BEGIN:DAYLIGHT
TZOFFSETFROM:-0500
TZOFFSETTO:-0400
TZNAME:EDT
DTSTART:20290311T070000
END:DAYLIGHT
BEGIN:STANDARD
TZOFFSETFROM:-0400
TZOFFSETTO:-0500
TZNAME:EST
DTSTART:20291104T060000
END:STANDARD
BEGIN:DAYLIGHT
TZOFFSETFROM:-0500
TZOFFSETTO:-0400
TZNAME:EDT
DTSTART:20300310T070000
END:DAYLIGHT
BEGIN:STANDARD
TZOFFSETFROM:-0400
TZOFFSETTO:-0500
TZNAME:EST
DTSTART:20301103T060000
END:STANDARD
END:VTIMEZONE
BEGIN:VTIMEZONE
TZID:UTC
BEGIN:STANDARD
TZOFFSETFROM:+0000
TZOFFSETTO:+0000
TZNAME:UTC
DTSTART:20270101T000000
END:STANDARD
END:VTIMEZONE
BEGIN:VEVENT
DTSTART;VALUE=DATE:20281226
DTEND;VALUE=DATE:20281227
DTSTAMP:20260421T231929
CREATED:20250903T170243Z
LAST-MODIFIED:20251020T215359Z
UID:10005241-1861401600-1861487999@www.indianlakeestatesinc.com
SUMMARY:Euchre Tuesdays 7PM
DESCRIPTION:
URL:https://www.indianlakeestatesinc.com/event/euchre-tuesdays/2028-12-26/
LOCATION:Terrace Room\, 7510 Red Grange\, Indian Lake Estate\, FL\, 33855\, United States
END:VEVENT
BEGIN:VEVENT
DTSTART;VALUE=DATE:20281226
DTEND;VALUE=DATE:20281227
DTSTAMP:20260421T231930
CREATED:20250903T181126Z
LAST-MODIFIED:20260103T181622Z
UID:10004973-1861401600-1861487999@www.indianlakeestatesinc.com
SUMMARY:Hand & Foot Card Grp 12PM - Clubhouse Ballroom
DESCRIPTION:
URL:https://www.indianlakeestatesinc.com/event/hand-foot-card-group-clubhouse-ballroom/2028-12-26/
LOCATION:Ballroom\, 7510 Red Grange\, Indian lake Estates\, FL\, 33855\, United States
END:VEVENT
BEGIN:VEVENT
DTSTART;VALUE=DATE:20281227
DTEND;VALUE=DATE:20281228
DTSTAMP:20260421T231930
CREATED:20250807T152341Z
LAST-MODIFIED:20251020T224242Z
UID:10006130-1861488000-1861574399@www.indianlakeestatesinc.com
SUMMARY:First Baptist Church 6PM Bible Study
DESCRIPTION:6:00 PM Fellowship and Snacks\n6:30 PM 7:30 PM Bible Study
URL:https://www.indianlakeestatesinc.com/event/first-baptist-church-ile-bible-study/2028-12-27/
LOCATION:First Baptist Church
END:VEVENT
BEGIN:VEVENT
DTSTART;VALUE=DATE:20281227
DTEND;VALUE=DATE:20281228
DTSTAMP:20260421T231930
CREATED:20250903T170623Z
LAST-MODIFIED:20251201T201230Z
UID:10006406-1861488000-1861574399@www.indianlakeestatesinc.com
SUMMARY:Men's Golf - 8:30 AM Golf Conference
DESCRIPTION:
URL:https://www.indianlakeestatesinc.com/event/mens-golf-golf-conference/2028-12-27/
LOCATION:Golf Course\, 7510 Red Grange Blvd\, Indian Lake Estate\, FL\, 333855\, United States
END:VEVENT
BEGIN:VEVENT
DTSTART;VALUE=DATE:20281227
DTEND;VALUE=DATE:20281228
DTSTAMP:20260421T231930
CREATED:20250903T171600Z
LAST-MODIFIED:20251020T215615Z
UID:10005509-1861488000-1861574399@www.indianlakeestatesinc.com
SUMMARY:Bridge 9:30 AM - Terrace Room
DESCRIPTION:
URL:https://www.indianlakeestatesinc.com/event/bridge-2/2028-12-27/
LOCATION:Terrace Room\, 7510 Red Grange\, Indian Lake Estate\, FL\, 33855\, United States
END:VEVENT
BEGIN:VEVENT
DTSTART;TZID=UTC:20281229T120000
DTEND;TZID=UTC:20281229T130000
DTSTAMP:20260421T231930
CREATED:20260330T194148Z
LAST-MODIFIED:20260330T194333Z
UID:10007812-1861704000-1861707600@www.indianlakeestatesinc.com
SUMMARY:Dominos - 12pm Ballroom
DESCRIPTION:
URL:https://www.indianlakeestatesinc.com/event/dominos-clubhouse-ballroom-2/2028-12-29/
END:VEVENT
BEGIN:VEVENT
DTSTART;VALUE=DATE:20281230
DTEND;VALUE=DATE:20281231
DTSTAMP:20260421T231930
CREATED:20250701T112029Z
LAST-MODIFIED:20251020T213838Z
UID:10004620-1861747200-1861833599@www.indianlakeestatesinc.com
SUMMARY:Pickleball 8:30 am
DESCRIPTION:Players Meet at the pickleball courts each Saturday morning at 8:30 when they have enough players to play. Please come out and join them or give it a try.
URL:https://www.indianlakeestatesinc.com/event/pickelball/2028-12-30/
LOCATION:Pickelball Courts at Clubhouse\, 7510 Red Grange Blve\, Indian Lake Estates\, 33855\, United States
END:VEVENT
BEGIN:VEVENT
DTSTART;VALUE=DATE:20290101
DTEND;VALUE=DATE:20290102
DTSTAMP:20260421T231930
CREATED:20250903T152722Z
LAST-MODIFIED:20251201T201417Z
UID:10005860-1861920000-1862006399@www.indianlakeestatesinc.com
SUMMARY:First Baptist Church\, 6 PM Ladies Bible Study
DESCRIPTION:6:00 PM Fellowship and snacks\n6:30 PM – 7:30 PM Bible Study
URL:https://www.indianlakeestatesinc.com/event/first-baptist-church-ile-ladies-ministry-bible-study-2/2029-01-01/
LOCATION:First Baptist Church
END:VEVENT
BEGIN:VEVENT
DTSTART;VALUE=DATE:20290101
DTEND;VALUE=DATE:20290102
DTSTAMP:20260421T231930
CREATED:20251118T142155Z
LAST-MODIFIED:20251118T142155Z
UID:10007309-1861920000-1862006399@www.indianlakeestatesinc.com
SUMMARY:Mahjong 2-4PM
DESCRIPTION:Held Monday in the Terrace Room
URL:https://www.indianlakeestatesinc.com/event/mahjong-2-4pm/2029-01-01/
END:VEVENT
BEGIN:VEVENT
DTSTART;VALUE=DATE:20290102
DTEND;VALUE=DATE:20290103
DTSTAMP:20260421T231930
CREATED:20250903T170243Z
LAST-MODIFIED:20251020T215359Z
UID:10005242-1862006400-1862092799@www.indianlakeestatesinc.com
SUMMARY:Euchre Tuesdays 7PM
DESCRIPTION:
URL:https://www.indianlakeestatesinc.com/event/euchre-tuesdays/2029-01-02/
LOCATION:Terrace Room\, 7510 Red Grange\, Indian Lake Estate\, FL\, 33855\, United States
END:VEVENT
BEGIN:VEVENT
DTSTART;VALUE=DATE:20290102
DTEND;VALUE=DATE:20290103
DTSTAMP:20260421T231930
CREATED:20250903T181126Z
LAST-MODIFIED:20260103T181622Z
UID:10004974-1862006400-1862092799@www.indianlakeestatesinc.com
SUMMARY:Hand & Foot Card Grp 12PM - Clubhouse Ballroom
DESCRIPTION:
URL:https://www.indianlakeestatesinc.com/event/hand-foot-card-group-clubhouse-ballroom/2029-01-02/
LOCATION:Ballroom\, 7510 Red Grange\, Indian lake Estates\, FL\, 33855\, United States
END:VEVENT
BEGIN:VEVENT
DTSTART;VALUE=DATE:20290103
DTEND;VALUE=DATE:20290104
DTSTAMP:20260421T231930
CREATED:20250807T152341Z
LAST-MODIFIED:20251020T224242Z
UID:10006131-1862092800-1862179199@www.indianlakeestatesinc.com
SUMMARY:First Baptist Church 6PM Bible Study
DESCRIPTION:6:00 PM Fellowship and Snacks\n6:30 PM 7:30 PM Bible Study
URL:https://www.indianlakeestatesinc.com/event/first-baptist-church-ile-bible-study/2029-01-03/
LOCATION:First Baptist Church
END:VEVENT
BEGIN:VEVENT
DTSTART;VALUE=DATE:20290103
DTEND;VALUE=DATE:20290104
DTSTAMP:20260421T231930
CREATED:20250903T170623Z
LAST-MODIFIED:20251201T201230Z
UID:10006407-1862092800-1862179199@www.indianlakeestatesinc.com
SUMMARY:Men's Golf - 8:30 AM Golf Conference
DESCRIPTION:
URL:https://www.indianlakeestatesinc.com/event/mens-golf-golf-conference/2029-01-03/
LOCATION:Golf Course\, 7510 Red Grange Blvd\, Indian Lake Estate\, FL\, 333855\, United States
END:VEVENT
BEGIN:VEVENT
DTSTART;VALUE=DATE:20290103
DTEND;VALUE=DATE:20290104
DTSTAMP:20260421T231930
CREATED:20250903T171600Z
LAST-MODIFIED:20251020T215615Z
UID:10005510-1862092800-1862179199@www.indianlakeestatesinc.com
SUMMARY:Bridge 9:30 AM - Terrace Room
DESCRIPTION:
URL:https://www.indianlakeestatesinc.com/event/bridge-2/2029-01-03/
LOCATION:Terrace Room\, 7510 Red Grange\, Indian Lake Estate\, FL\, 33855\, United States
END:VEVENT
BEGIN:VEVENT
DTSTART;TZID=UTC:20290105T120000
DTEND;TZID=UTC:20290105T130000
DTSTAMP:20260421T231930
CREATED:20260330T194148Z
LAST-MODIFIED:20260330T194333Z
UID:10007813-1862308800-1862312400@www.indianlakeestatesinc.com
SUMMARY:Dominos - 12pm Ballroom
DESCRIPTION:
URL:https://www.indianlakeestatesinc.com/event/dominos-clubhouse-ballroom-2/2029-01-05/
END:VEVENT
BEGIN:VEVENT
DTSTART;VALUE=DATE:20290106
DTEND;VALUE=DATE:20290107
DTSTAMP:20260421T231930
CREATED:20250701T112029Z
LAST-MODIFIED:20251020T213838Z
UID:10004621-1862352000-1862438399@www.indianlakeestatesinc.com
SUMMARY:Pickleball 8:30 am
DESCRIPTION:Players Meet at the pickleball courts each Saturday morning at 8:30 when they have enough players to play. Please come out and join them or give it a try.
URL:https://www.indianlakeestatesinc.com/event/pickelball/2029-01-06/
LOCATION:Pickelball Courts at Clubhouse\, 7510 Red Grange Blve\, Indian Lake Estates\, 33855\, United States
END:VEVENT
BEGIN:VEVENT
DTSTART;VALUE=DATE:20290108
DTEND;VALUE=DATE:20290109
DTSTAMP:20260421T231930
CREATED:20250903T152722Z
LAST-MODIFIED:20251201T201417Z
UID:10005861-1862524800-1862611199@www.indianlakeestatesinc.com
SUMMARY:First Baptist Church\, 6 PM Ladies Bible Study
DESCRIPTION:6:00 PM Fellowship and snacks\n6:30 PM – 7:30 PM Bible Study
URL:https://www.indianlakeestatesinc.com/event/first-baptist-church-ile-ladies-ministry-bible-study-2/2029-01-08/
LOCATION:First Baptist Church
END:VEVENT
BEGIN:VEVENT
DTSTART;VALUE=DATE:20290108
DTEND;VALUE=DATE:20290109
DTSTAMP:20260421T231930
CREATED:20251118T142155Z
LAST-MODIFIED:20251118T142155Z
UID:10007310-1862524800-1862611199@www.indianlakeestatesinc.com
SUMMARY:Mahjong 2-4PM
DESCRIPTION:Held Monday in the Terrace Room
URL:https://www.indianlakeestatesinc.com/event/mahjong-2-4pm/2029-01-08/
END:VEVENT
BEGIN:VEVENT
DTSTART;VALUE=DATE:20290109
DTEND;VALUE=DATE:20290110
DTSTAMP:20260421T231930
CREATED:20250903T170243Z
LAST-MODIFIED:20251020T215359Z
UID:10005243-1862611200-1862697599@www.indianlakeestatesinc.com
SUMMARY:Euchre Tuesdays 7PM
DESCRIPTION:
URL:https://www.indianlakeestatesinc.com/event/euchre-tuesdays/2029-01-09/
LOCATION:Terrace Room\, 7510 Red Grange\, Indian Lake Estate\, FL\, 33855\, United States
END:VEVENT
BEGIN:VEVENT
DTSTART;VALUE=DATE:20290109
DTEND;VALUE=DATE:20290110
DTSTAMP:20260421T231930
CREATED:20250903T181126Z
LAST-MODIFIED:20260103T181622Z
UID:10004975-1862611200-1862697599@www.indianlakeestatesinc.com
SUMMARY:Hand & Foot Card Grp 12PM - Clubhouse Ballroom
DESCRIPTION:
URL:https://www.indianlakeestatesinc.com/event/hand-foot-card-group-clubhouse-ballroom/2029-01-09/
LOCATION:Ballroom\, 7510 Red Grange\, Indian lake Estates\, FL\, 33855\, United States
END:VEVENT
BEGIN:VEVENT
DTSTART;VALUE=DATE:20290110
DTEND;VALUE=DATE:20290111
DTSTAMP:20260421T231930
CREATED:20250807T152341Z
LAST-MODIFIED:20251020T224242Z
UID:10006132-1862697600-1862783999@www.indianlakeestatesinc.com
SUMMARY:First Baptist Church 6PM Bible Study
DESCRIPTION:6:00 PM Fellowship and Snacks\n6:30 PM 7:30 PM Bible Study
URL:https://www.indianlakeestatesinc.com/event/first-baptist-church-ile-bible-study/2029-01-10/
LOCATION:First Baptist Church
END:VEVENT
BEGIN:VEVENT
DTSTART;VALUE=DATE:20290110
DTEND;VALUE=DATE:20290111
DTSTAMP:20260421T231930
CREATED:20250903T170623Z
LAST-MODIFIED:20251201T201230Z
UID:10006408-1862697600-1862783999@www.indianlakeestatesinc.com
SUMMARY:Men's Golf - 8:30 AM Golf Conference
DESCRIPTION:
URL:https://www.indianlakeestatesinc.com/event/mens-golf-golf-conference/2029-01-10/
LOCATION:Golf Course\, 7510 Red Grange Blvd\, Indian Lake Estate\, FL\, 333855\, United States
END:VEVENT
BEGIN:VEVENT
DTSTART;VALUE=DATE:20290110
DTEND;VALUE=DATE:20290111
DTSTAMP:20260421T231930
CREATED:20250903T171600Z
LAST-MODIFIED:20251020T215615Z
UID:10005511-1862697600-1862783999@www.indianlakeestatesinc.com
SUMMARY:Bridge 9:30 AM - Terrace Room
DESCRIPTION:
URL:https://www.indianlakeestatesinc.com/event/bridge-2/2029-01-10/
LOCATION:Terrace Room\, 7510 Red Grange\, Indian Lake Estate\, FL\, 33855\, United States
END:VEVENT
BEGIN:VEVENT
DTSTART;TZID=America/New_York:20290110T180000
DTEND;TZID=America/New_York:20290110T190000
DTSTAMP:20260421T231930
CREATED:20250527T144644Z
LAST-MODIFIED:20251218T223200Z
UID:10001400-1862762400-1862766000@www.indianlakeestatesinc.com
SUMMARY:ILEU Board Meeting
DESCRIPTION:ILEU Water Utilities Board meeting \nCustomers Welcome \nDecember meeting will be the Annual Meeting / Elections / Reorganization
URL:https://www.indianlakeestatesinc.com/event/ileu-board-meeting/2029-01-10/
LOCATION:Board Conference Room
END:VEVENT
BEGIN:VEVENT
DTSTART;TZID=UTC:20290112T120000
DTEND;TZID=UTC:20290112T130000
DTSTAMP:20260421T231930
CREATED:20260330T194148Z
LAST-MODIFIED:20260330T194333Z
UID:10007814-1862913600-1862917200@www.indianlakeestatesinc.com
SUMMARY:Dominos - 12pm Ballroom
DESCRIPTION:
URL:https://www.indianlakeestatesinc.com/event/dominos-clubhouse-ballroom-2/2029-01-12/
END:VEVENT
BEGIN:VEVENT
DTSTART;VALUE=DATE:20290113
DTEND;VALUE=DATE:20290114
DTSTAMP:20260421T231930
CREATED:20250701T112029Z
LAST-MODIFIED:20251020T213838Z
UID:10004622-1862956800-1863043199@www.indianlakeestatesinc.com
SUMMARY:Pickleball 8:30 am
DESCRIPTION:Players Meet at the pickleball courts each Saturday morning at 8:30 when they have enough players to play. Please come out and join them or give it a try.
URL:https://www.indianlakeestatesinc.com/event/pickelball/2029-01-13/
LOCATION:Pickelball Courts at Clubhouse\, 7510 Red Grange Blve\, Indian Lake Estates\, 33855\, United States
END:VEVENT
BEGIN:VEVENT
DTSTART;VALUE=DATE:20290115
DTEND;VALUE=DATE:20290116
DTSTAMP:20260421T231930
CREATED:20250903T152722Z
LAST-MODIFIED:20251201T201417Z
UID:10005862-1863129600-1863215999@www.indianlakeestatesinc.com
SUMMARY:First Baptist Church\, 6 PM Ladies Bible Study
DESCRIPTION:6:00 PM Fellowship and snacks\n6:30 PM – 7:30 PM Bible Study
URL:https://www.indianlakeestatesinc.com/event/first-baptist-church-ile-ladies-ministry-bible-study-2/2029-01-15/
LOCATION:First Baptist Church
END:VEVENT
BEGIN:VEVENT
DTSTART;VALUE=DATE:20290115
DTEND;VALUE=DATE:20290116
DTSTAMP:20260421T231930
CREATED:20251118T142155Z
LAST-MODIFIED:20251118T142155Z
UID:10007311-1863129600-1863215999@www.indianlakeestatesinc.com
SUMMARY:Mahjong 2-4PM
DESCRIPTION:Held Monday in the Terrace Room
URL:https://www.indianlakeestatesinc.com/event/mahjong-2-4pm/2029-01-15/
END:VEVENT
BEGIN:VEVENT
DTSTART;VALUE=DATE:20290116
DTEND;VALUE=DATE:20290117
DTSTAMP:20260421T231930
CREATED:20250903T170243Z
LAST-MODIFIED:20251020T215359Z
UID:10005244-1863216000-1863302399@www.indianlakeestatesinc.com
SUMMARY:Euchre Tuesdays 7PM
DESCRIPTION:
URL:https://www.indianlakeestatesinc.com/event/euchre-tuesdays/2029-01-16/
LOCATION:Terrace Room\, 7510 Red Grange\, Indian Lake Estate\, FL\, 33855\, United States
END:VEVENT
BEGIN:VEVENT
DTSTART;VALUE=DATE:20290116
DTEND;VALUE=DATE:20290117
DTSTAMP:20260421T231930
CREATED:20250903T181126Z
LAST-MODIFIED:20260103T181622Z
UID:10004976-1863216000-1863302399@www.indianlakeestatesinc.com
SUMMARY:Hand & Foot Card Grp 12PM - Clubhouse Ballroom
DESCRIPTION:
URL:https://www.indianlakeestatesinc.com/event/hand-foot-card-group-clubhouse-ballroom/2029-01-16/
LOCATION:Ballroom\, 7510 Red Grange\, Indian lake Estates\, FL\, 33855\, United States
END:VEVENT
END:VCALENDAR