BEGIN:VCALENDAR
VERSION:2.0
PRODID:-//Indian Lake Estates Golf &amp; Country Club - ECPv6.15.18//NONSGML v1.0//EN
CALSCALE:GREGORIAN
METHOD:PUBLISH
X-WR-CALNAME:Indian Lake Estates Golf &amp; Country Club
X-ORIGINAL-URL:https://www.indianlakeestatesinc.com
X-WR-CALDESC:Events for Indian Lake Estates Golf &amp; Country Club
REFRESH-INTERVAL;VALUE=DURATION:PT1H
X-Robots-Tag:noindex
X-PUBLISHED-TTL:PT1H
BEGIN:VTIMEZONE
TZID:UTC
BEGIN:STANDARD
TZOFFSETFROM:+0000
TZOFFSETTO:+0000
TZNAME:UTC
DTSTART:20280101T000000
END:STANDARD
END:VTIMEZONE
BEGIN:VTIMEZONE
TZID:America/New_York
BEGIN:DAYLIGHT
TZOFFSETFROM:-0500
TZOFFSETTO:-0400
TZNAME:EDT
DTSTART:20280312T070000
END:DAYLIGHT
BEGIN:STANDARD
TZOFFSETFROM:-0400
TZOFFSETTO:-0500
TZNAME:EST
DTSTART:20281105T060000
END:STANDARD
BEGIN:DAYLIGHT
TZOFFSETFROM:-0500
TZOFFSETTO:-0400
TZNAME:EDT
DTSTART:20290311T070000
END:DAYLIGHT
BEGIN:STANDARD
TZOFFSETFROM:-0400
TZOFFSETTO:-0500
TZNAME:EST
DTSTART:20291104T060000
END:STANDARD
BEGIN:DAYLIGHT
TZOFFSETFROM:-0500
TZOFFSETTO:-0400
TZNAME:EDT
DTSTART:20300310T070000
END:DAYLIGHT
BEGIN:STANDARD
TZOFFSETFROM:-0400
TZOFFSETTO:-0500
TZNAME:EST
DTSTART:20301103T060000
END:STANDARD
END:VTIMEZONE
BEGIN:VEVENT
DTSTART;TZID=UTC:20290112T120000
DTEND;TZID=UTC:20290112T130000
DTSTAMP:20260421T212514
CREATED:20260330T194148Z
LAST-MODIFIED:20260330T194333Z
UID:10007814-1862913600-1862917200@www.indianlakeestatesinc.com
SUMMARY:Dominos - 12pm Ballroom
DESCRIPTION:
URL:https://www.indianlakeestatesinc.com/event/dominos-clubhouse-ballroom-2/2029-01-12/
END:VEVENT
BEGIN:VEVENT
DTSTART;VALUE=DATE:20290113
DTEND;VALUE=DATE:20290114
DTSTAMP:20260421T212514
CREATED:20250701T112029Z
LAST-MODIFIED:20251020T213838Z
UID:10004622-1862956800-1863043199@www.indianlakeestatesinc.com
SUMMARY:Pickleball 8:30 am
DESCRIPTION:Players Meet at the pickleball courts each Saturday morning at 8:30 when they have enough players to play. Please come out and join them or give it a try.
URL:https://www.indianlakeestatesinc.com/event/pickelball/2029-01-13/
LOCATION:Pickelball Courts at Clubhouse\, 7510 Red Grange Blve\, Indian Lake Estates\, 33855\, United States
END:VEVENT
BEGIN:VEVENT
DTSTART;VALUE=DATE:20290115
DTEND;VALUE=DATE:20290116
DTSTAMP:20260421T212514
CREATED:20250903T152722Z
LAST-MODIFIED:20251201T201417Z
UID:10005862-1863129600-1863215999@www.indianlakeestatesinc.com
SUMMARY:First Baptist Church\, 6 PM Ladies Bible Study
DESCRIPTION:6:00 PM Fellowship and snacks\n6:30 PM – 7:30 PM Bible Study
URL:https://www.indianlakeestatesinc.com/event/first-baptist-church-ile-ladies-ministry-bible-study-2/2029-01-15/
LOCATION:First Baptist Church
END:VEVENT
BEGIN:VEVENT
DTSTART;VALUE=DATE:20290115
DTEND;VALUE=DATE:20290116
DTSTAMP:20260421T212514
CREATED:20251118T142155Z
LAST-MODIFIED:20251118T142155Z
UID:10007311-1863129600-1863215999@www.indianlakeestatesinc.com
SUMMARY:Mahjong 2-4PM
DESCRIPTION:Held Monday in the Terrace Room
URL:https://www.indianlakeestatesinc.com/event/mahjong-2-4pm/2029-01-15/
END:VEVENT
BEGIN:VEVENT
DTSTART;VALUE=DATE:20290116
DTEND;VALUE=DATE:20290117
DTSTAMP:20260421T212514
CREATED:20250903T170243Z
LAST-MODIFIED:20251020T215359Z
UID:10005244-1863216000-1863302399@www.indianlakeestatesinc.com
SUMMARY:Euchre Tuesdays 7PM
DESCRIPTION:
URL:https://www.indianlakeestatesinc.com/event/euchre-tuesdays/2029-01-16/
LOCATION:Terrace Room\, 7510 Red Grange\, Indian Lake Estate\, FL\, 33855\, United States
END:VEVENT
BEGIN:VEVENT
DTSTART;VALUE=DATE:20290116
DTEND;VALUE=DATE:20290117
DTSTAMP:20260421T212514
CREATED:20250903T181126Z
LAST-MODIFIED:20260103T181622Z
UID:10004976-1863216000-1863302399@www.indianlakeestatesinc.com
SUMMARY:Hand & Foot Card Grp 12PM - Clubhouse Ballroom
DESCRIPTION:
URL:https://www.indianlakeestatesinc.com/event/hand-foot-card-group-clubhouse-ballroom/2029-01-16/
LOCATION:Ballroom\, 7510 Red Grange\, Indian lake Estates\, FL\, 33855\, United States
END:VEVENT
BEGIN:VEVENT
DTSTART;VALUE=DATE:20290117
DTEND;VALUE=DATE:20290118
DTSTAMP:20260421T212514
CREATED:20250807T152341Z
LAST-MODIFIED:20251020T224242Z
UID:10006133-1863302400-1863388799@www.indianlakeestatesinc.com
SUMMARY:First Baptist Church 6PM Bible Study
DESCRIPTION:6:00 PM Fellowship and Snacks\n6:30 PM 7:30 PM Bible Study
URL:https://www.indianlakeestatesinc.com/event/first-baptist-church-ile-bible-study/2029-01-17/
LOCATION:First Baptist Church
END:VEVENT
BEGIN:VEVENT
DTSTART;VALUE=DATE:20290117
DTEND;VALUE=DATE:20290118
DTSTAMP:20260421T212514
CREATED:20250903T170623Z
LAST-MODIFIED:20251201T201230Z
UID:10006409-1863302400-1863388799@www.indianlakeestatesinc.com
SUMMARY:Men's Golf - 8:30 AM Golf Conference
DESCRIPTION:
URL:https://www.indianlakeestatesinc.com/event/mens-golf-golf-conference/2029-01-17/
LOCATION:Golf Course\, 7510 Red Grange Blvd\, Indian Lake Estate\, FL\, 333855\, United States
END:VEVENT
BEGIN:VEVENT
DTSTART;VALUE=DATE:20290117
DTEND;VALUE=DATE:20290118
DTSTAMP:20260421T212514
CREATED:20250903T171600Z
LAST-MODIFIED:20251020T215615Z
UID:10005512-1863302400-1863388799@www.indianlakeestatesinc.com
SUMMARY:Bridge 9:30 AM - Terrace Room
DESCRIPTION:
URL:https://www.indianlakeestatesinc.com/event/bridge-2/2029-01-17/
LOCATION:Terrace Room\, 7510 Red Grange\, Indian Lake Estate\, FL\, 33855\, United States
END:VEVENT
BEGIN:VEVENT
DTSTART;TZID=America/New_York:20290117T180000
DTEND;TZID=America/New_York:20290117T190000
DTSTAMP:20260421T212514
CREATED:20250903T173449Z
LAST-MODIFIED:20250903T191304Z
UID:10004061-1863367200-1863370800@www.indianlakeestatesinc.com
SUMMARY:Yacht Club Meeting
DESCRIPTION:
URL:https://www.indianlakeestatesinc.com/event/yacht-club-meeting/2029-01-17/
END:VEVENT
BEGIN:VEVENT
DTSTART;TZID=UTC:20290119T120000
DTEND;TZID=UTC:20290119T130000
DTSTAMP:20260421T212514
CREATED:20260330T194148Z
LAST-MODIFIED:20260330T194333Z
UID:10007815-1863518400-1863522000@www.indianlakeestatesinc.com
SUMMARY:Dominos - 12pm Ballroom
DESCRIPTION:
URL:https://www.indianlakeestatesinc.com/event/dominos-clubhouse-ballroom-2/2029-01-19/
END:VEVENT
BEGIN:VEVENT
DTSTART;VALUE=DATE:20290120
DTEND;VALUE=DATE:20290121
DTSTAMP:20260421T212514
CREATED:20250701T112029Z
LAST-MODIFIED:20251020T213838Z
UID:10004623-1863561600-1863647999@www.indianlakeestatesinc.com
SUMMARY:Pickleball 8:30 am
DESCRIPTION:Players Meet at the pickleball courts each Saturday morning at 8:30 when they have enough players to play. Please come out and join them or give it a try.
URL:https://www.indianlakeestatesinc.com/event/pickelball/2029-01-20/
LOCATION:Pickelball Courts at Clubhouse\, 7510 Red Grange Blve\, Indian Lake Estates\, 33855\, United States
END:VEVENT
BEGIN:VEVENT
DTSTART;TZID=America/New_York:20290120T090000
DTEND;TZID=America/New_York:20290120T130000
DTSTAMP:20260421T212514
CREATED:20250903T165153Z
LAST-MODIFIED:20250903T165448Z
UID:10001732-1863594000-1863608400@www.indianlakeestatesinc.com
SUMMARY:Community Dump Day - 3RD Saturday Special
DESCRIPTION:Special Saturday Dump day over summer has been extended – ILE Community vehicle sticker or License showing ILE address is required to dump.
URL:https://www.indianlakeestatesinc.com/event/community-dump-day-4-2/2029-01-20/
END:VEVENT
BEGIN:VEVENT
DTSTART;VALUE=DATE:20290122
DTEND;VALUE=DATE:20290123
DTSTAMP:20260421T212514
CREATED:20250903T152722Z
LAST-MODIFIED:20251201T201417Z
UID:10005863-1863734400-1863820799@www.indianlakeestatesinc.com
SUMMARY:First Baptist Church\, 6 PM Ladies Bible Study
DESCRIPTION:6:00 PM Fellowship and snacks\n6:30 PM – 7:30 PM Bible Study
URL:https://www.indianlakeestatesinc.com/event/first-baptist-church-ile-ladies-ministry-bible-study-2/2029-01-22/
LOCATION:First Baptist Church
END:VEVENT
BEGIN:VEVENT
DTSTART;VALUE=DATE:20290122
DTEND;VALUE=DATE:20290123
DTSTAMP:20260421T212514
CREATED:20251118T142155Z
LAST-MODIFIED:20251118T142155Z
UID:10007312-1863734400-1863820799@www.indianlakeestatesinc.com
SUMMARY:Mahjong 2-4PM
DESCRIPTION:Held Monday in the Terrace Room
URL:https://www.indianlakeestatesinc.com/event/mahjong-2-4pm/2029-01-22/
END:VEVENT
BEGIN:VEVENT
DTSTART;VALUE=DATE:20290123
DTEND;VALUE=DATE:20290124
DTSTAMP:20260421T212514
CREATED:20250903T170243Z
LAST-MODIFIED:20251020T215359Z
UID:10005245-1863820800-1863907199@www.indianlakeestatesinc.com
SUMMARY:Euchre Tuesdays 7PM
DESCRIPTION:
URL:https://www.indianlakeestatesinc.com/event/euchre-tuesdays/2029-01-23/
LOCATION:Terrace Room\, 7510 Red Grange\, Indian Lake Estate\, FL\, 33855\, United States
END:VEVENT
BEGIN:VEVENT
DTSTART;VALUE=DATE:20290123
DTEND;VALUE=DATE:20290124
DTSTAMP:20260421T212514
CREATED:20250903T181126Z
LAST-MODIFIED:20260103T181622Z
UID:10004977-1863820800-1863907199@www.indianlakeestatesinc.com
SUMMARY:Hand & Foot Card Grp 12PM - Clubhouse Ballroom
DESCRIPTION:
URL:https://www.indianlakeestatesinc.com/event/hand-foot-card-group-clubhouse-ballroom/2029-01-23/
LOCATION:Ballroom\, 7510 Red Grange\, Indian lake Estates\, FL\, 33855\, United States
END:VEVENT
BEGIN:VEVENT
DTSTART;VALUE=DATE:20290124
DTEND;VALUE=DATE:20290125
DTSTAMP:20260421T212514
CREATED:20250807T152341Z
LAST-MODIFIED:20251020T224242Z
UID:10006134-1863907200-1863993599@www.indianlakeestatesinc.com
SUMMARY:First Baptist Church 6PM Bible Study
DESCRIPTION:6:00 PM Fellowship and Snacks\n6:30 PM 7:30 PM Bible Study
URL:https://www.indianlakeestatesinc.com/event/first-baptist-church-ile-bible-study/2029-01-24/
LOCATION:First Baptist Church
END:VEVENT
BEGIN:VEVENT
DTSTART;VALUE=DATE:20290124
DTEND;VALUE=DATE:20290125
DTSTAMP:20260421T212514
CREATED:20250903T170623Z
LAST-MODIFIED:20251201T201230Z
UID:10006410-1863907200-1863993599@www.indianlakeestatesinc.com
SUMMARY:Men's Golf - 8:30 AM Golf Conference
DESCRIPTION:
URL:https://www.indianlakeestatesinc.com/event/mens-golf-golf-conference/2029-01-24/
LOCATION:Golf Course\, 7510 Red Grange Blvd\, Indian Lake Estate\, FL\, 333855\, United States
END:VEVENT
BEGIN:VEVENT
DTSTART;VALUE=DATE:20290124
DTEND;VALUE=DATE:20290125
DTSTAMP:20260421T212514
CREATED:20250903T171600Z
LAST-MODIFIED:20251020T215615Z
UID:10005513-1863907200-1863993599@www.indianlakeestatesinc.com
SUMMARY:Bridge 9:30 AM - Terrace Room
DESCRIPTION:
URL:https://www.indianlakeestatesinc.com/event/bridge-2/2029-01-24/
LOCATION:Terrace Room\, 7510 Red Grange\, Indian Lake Estate\, FL\, 33855\, United States
END:VEVENT
BEGIN:VEVENT
DTSTART;TZID=UTC:20290126T120000
DTEND;TZID=UTC:20290126T130000
DTSTAMP:20260421T212514
CREATED:20260330T194148Z
LAST-MODIFIED:20260330T194333Z
UID:10007816-1864123200-1864126800@www.indianlakeestatesinc.com
SUMMARY:Dominos - 12pm Ballroom
DESCRIPTION:
URL:https://www.indianlakeestatesinc.com/event/dominos-clubhouse-ballroom-2/2029-01-26/
END:VEVENT
BEGIN:VEVENT
DTSTART;VALUE=DATE:20290127
DTEND;VALUE=DATE:20290128
DTSTAMP:20260421T212514
CREATED:20250701T112029Z
LAST-MODIFIED:20251020T213838Z
UID:10004624-1864166400-1864252799@www.indianlakeestatesinc.com
SUMMARY:Pickleball 8:30 am
DESCRIPTION:Players Meet at the pickleball courts each Saturday morning at 8:30 when they have enough players to play. Please come out and join them or give it a try.
URL:https://www.indianlakeestatesinc.com/event/pickelball/2029-01-27/
LOCATION:Pickelball Courts at Clubhouse\, 7510 Red Grange Blve\, Indian Lake Estates\, 33855\, United States
END:VEVENT
BEGIN:VEVENT
DTSTART;VALUE=DATE:20290129
DTEND;VALUE=DATE:20290130
DTSTAMP:20260421T212514
CREATED:20250903T152722Z
LAST-MODIFIED:20251201T201417Z
UID:10005864-1864339200-1864425599@www.indianlakeestatesinc.com
SUMMARY:First Baptist Church\, 6 PM Ladies Bible Study
DESCRIPTION:6:00 PM Fellowship and snacks\n6:30 PM – 7:30 PM Bible Study
URL:https://www.indianlakeestatesinc.com/event/first-baptist-church-ile-ladies-ministry-bible-study-2/2029-01-29/
LOCATION:First Baptist Church
END:VEVENT
BEGIN:VEVENT
DTSTART;VALUE=DATE:20290129
DTEND;VALUE=DATE:20290130
DTSTAMP:20260421T212514
CREATED:20251118T142155Z
LAST-MODIFIED:20251118T142155Z
UID:10007313-1864339200-1864425599@www.indianlakeestatesinc.com
SUMMARY:Mahjong 2-4PM
DESCRIPTION:Held Monday in the Terrace Room
URL:https://www.indianlakeestatesinc.com/event/mahjong-2-4pm/2029-01-29/
END:VEVENT
BEGIN:VEVENT
DTSTART;VALUE=DATE:20290130
DTEND;VALUE=DATE:20290131
DTSTAMP:20260421T212514
CREATED:20250903T170243Z
LAST-MODIFIED:20251020T215359Z
UID:10005246-1864425600-1864511999@www.indianlakeestatesinc.com
SUMMARY:Euchre Tuesdays 7PM
DESCRIPTION:
URL:https://www.indianlakeestatesinc.com/event/euchre-tuesdays/2029-01-30/
LOCATION:Terrace Room\, 7510 Red Grange\, Indian Lake Estate\, FL\, 33855\, United States
END:VEVENT
BEGIN:VEVENT
DTSTART;VALUE=DATE:20290130
DTEND;VALUE=DATE:20290131
DTSTAMP:20260421T212514
CREATED:20250903T181126Z
LAST-MODIFIED:20260103T181622Z
UID:10004978-1864425600-1864511999@www.indianlakeestatesinc.com
SUMMARY:Hand & Foot Card Grp 12PM - Clubhouse Ballroom
DESCRIPTION:
URL:https://www.indianlakeestatesinc.com/event/hand-foot-card-group-clubhouse-ballroom/2029-01-30/
LOCATION:Ballroom\, 7510 Red Grange\, Indian lake Estates\, FL\, 33855\, United States
END:VEVENT
BEGIN:VEVENT
DTSTART;VALUE=DATE:20290131
DTEND;VALUE=DATE:20290201
DTSTAMP:20260421T212514
CREATED:20250807T152341Z
LAST-MODIFIED:20251020T224242Z
UID:10006135-1864512000-1864598399@www.indianlakeestatesinc.com
SUMMARY:First Baptist Church 6PM Bible Study
DESCRIPTION:6:00 PM Fellowship and Snacks\n6:30 PM 7:30 PM Bible Study
URL:https://www.indianlakeestatesinc.com/event/first-baptist-church-ile-bible-study/2029-01-31/
LOCATION:First Baptist Church
END:VEVENT
BEGIN:VEVENT
DTSTART;VALUE=DATE:20290131
DTEND;VALUE=DATE:20290201
DTSTAMP:20260421T212514
CREATED:20250903T170623Z
LAST-MODIFIED:20251201T201230Z
UID:10006411-1864512000-1864598399@www.indianlakeestatesinc.com
SUMMARY:Men's Golf - 8:30 AM Golf Conference
DESCRIPTION:
URL:https://www.indianlakeestatesinc.com/event/mens-golf-golf-conference/2029-01-31/
LOCATION:Golf Course\, 7510 Red Grange Blvd\, Indian Lake Estate\, FL\, 333855\, United States
END:VEVENT
BEGIN:VEVENT
DTSTART;VALUE=DATE:20290131
DTEND;VALUE=DATE:20290201
DTSTAMP:20260421T212514
CREATED:20250903T171600Z
LAST-MODIFIED:20251020T215615Z
UID:10005514-1864512000-1864598399@www.indianlakeestatesinc.com
SUMMARY:Bridge 9:30 AM - Terrace Room
DESCRIPTION:
URL:https://www.indianlakeestatesinc.com/event/bridge-2/2029-01-31/
LOCATION:Terrace Room\, 7510 Red Grange\, Indian Lake Estate\, FL\, 33855\, United States
END:VEVENT
BEGIN:VEVENT
DTSTART;TZID=UTC:20290202T120000
DTEND;TZID=UTC:20290202T130000
DTSTAMP:20260421T212514
CREATED:20260330T194148Z
LAST-MODIFIED:20260330T194333Z
UID:10007817-1864728000-1864731600@www.indianlakeestatesinc.com
SUMMARY:Dominos - 12pm Ballroom
DESCRIPTION:
URL:https://www.indianlakeestatesinc.com/event/dominos-clubhouse-ballroom-2/2029-02-02/
END:VEVENT
END:VCALENDAR