BEGIN:VCALENDAR
VERSION:2.0
PRODID:-//Indian Lake Estates Golf &amp; Country Club - ECPv6.15.18//NONSGML v1.0//EN
CALSCALE:GREGORIAN
METHOD:PUBLISH
X-WR-CALNAME:Indian Lake Estates Golf &amp; Country Club
X-ORIGINAL-URL:https://www.indianlakeestatesinc.com
X-WR-CALDESC:Events for Indian Lake Estates Golf &amp; Country Club
REFRESH-INTERVAL;VALUE=DURATION:PT1H
X-Robots-Tag:noindex
X-PUBLISHED-TTL:PT1H
BEGIN:VTIMEZONE
TZID:America/New_York
BEGIN:DAYLIGHT
TZOFFSETFROM:-0500
TZOFFSETTO:-0400
TZNAME:EDT
DTSTART:20250309T070000
END:DAYLIGHT
BEGIN:STANDARD
TZOFFSETFROM:-0400
TZOFFSETTO:-0500
TZNAME:EST
DTSTART:20251102T060000
END:STANDARD
BEGIN:DAYLIGHT
TZOFFSETFROM:-0500
TZOFFSETTO:-0400
TZNAME:EDT
DTSTART:20260308T070000
END:DAYLIGHT
BEGIN:STANDARD
TZOFFSETFROM:-0400
TZOFFSETTO:-0500
TZNAME:EST
DTSTART:20261101T060000
END:STANDARD
BEGIN:DAYLIGHT
TZOFFSETFROM:-0500
TZOFFSETTO:-0400
TZNAME:EDT
DTSTART:20270314T070000
END:DAYLIGHT
BEGIN:STANDARD
TZOFFSETFROM:-0400
TZOFFSETTO:-0500
TZNAME:EST
DTSTART:20271107T060000
END:STANDARD
BEGIN:DAYLIGHT
TZOFFSETFROM:-0500
TZOFFSETTO:-0400
TZNAME:EDT
DTSTART:20280312T070000
END:DAYLIGHT
BEGIN:STANDARD
TZOFFSETFROM:-0400
TZOFFSETTO:-0500
TZNAME:EST
DTSTART:20281105T060000
END:STANDARD
END:VTIMEZONE
BEGIN:VEVENT
DTSTART;TZID=America/New_York:20260719T090000
DTEND;TZID=America/New_York:20260719T100000
DTSTAMP:20260424T195629
CREATED:20260424T190653Z
LAST-MODIFIED:20260424T190653Z
UID:10007979-1784451600-1784455200@www.indianlakeestatesinc.com
SUMMARY:Indian Lake Estates United Methodist Church
DESCRIPTION:
URL:https://www.indianlakeestatesinc.com/event/indian-lake-estates-united-methodist-church/2026-07-19/
END:VEVENT
BEGIN:VEVENT
DTSTART;TZID=America/New_York:20260726T090000
DTEND;TZID=America/New_York:20260726T100000
DTSTAMP:20260424T195629
CREATED:20260424T190653Z
LAST-MODIFIED:20260424T190653Z
UID:10007980-1785056400-1785060000@www.indianlakeestatesinc.com
SUMMARY:Indian Lake Estates United Methodist Church
DESCRIPTION:
URL:https://www.indianlakeestatesinc.com/event/indian-lake-estates-united-methodist-church/2026-07-26/
END:VEVENT
BEGIN:VEVENT
DTSTART;TZID=America/New_York:20260802T090000
DTEND;TZID=America/New_York:20260802T100000
DTSTAMP:20260424T195629
CREATED:20260424T190653Z
LAST-MODIFIED:20260424T190653Z
UID:10007981-1785661200-1785664800@www.indianlakeestatesinc.com
SUMMARY:Indian Lake Estates United Methodist Church
DESCRIPTION:
URL:https://www.indianlakeestatesinc.com/event/indian-lake-estates-united-methodist-church/2026-08-02/
END:VEVENT
BEGIN:VEVENT
DTSTART;TZID=America/New_York:20260809T090000
DTEND;TZID=America/New_York:20260809T100000
DTSTAMP:20260424T195629
CREATED:20260424T190653Z
LAST-MODIFIED:20260424T190653Z
UID:10007982-1786266000-1786269600@www.indianlakeestatesinc.com
SUMMARY:Indian Lake Estates United Methodist Church
DESCRIPTION:
URL:https://www.indianlakeestatesinc.com/event/indian-lake-estates-united-methodist-church/2026-08-09/
END:VEVENT
BEGIN:VEVENT
DTSTART;TZID=America/New_York:20260816T090000
DTEND;TZID=America/New_York:20260816T100000
DTSTAMP:20260424T195629
CREATED:20260424T190653Z
LAST-MODIFIED:20260424T190653Z
UID:10007983-1786870800-1786874400@www.indianlakeestatesinc.com
SUMMARY:Indian Lake Estates United Methodist Church
DESCRIPTION:
URL:https://www.indianlakeestatesinc.com/event/indian-lake-estates-united-methodist-church/2026-08-16/
END:VEVENT
BEGIN:VEVENT
DTSTART;TZID=America/New_York:20260823T090000
DTEND;TZID=America/New_York:20260823T100000
DTSTAMP:20260424T195629
CREATED:20260424T190653Z
LAST-MODIFIED:20260424T190653Z
UID:10007984-1787475600-1787479200@www.indianlakeestatesinc.com
SUMMARY:Indian Lake Estates United Methodist Church
DESCRIPTION:
URL:https://www.indianlakeestatesinc.com/event/indian-lake-estates-united-methodist-church/2026-08-23/
END:VEVENT
BEGIN:VEVENT
DTSTART;TZID=America/New_York:20260830T090000
DTEND;TZID=America/New_York:20260830T100000
DTSTAMP:20260424T195629
CREATED:20260424T190653Z
LAST-MODIFIED:20260424T190653Z
UID:10007985-1788080400-1788084000@www.indianlakeestatesinc.com
SUMMARY:Indian Lake Estates United Methodist Church
DESCRIPTION:
URL:https://www.indianlakeestatesinc.com/event/indian-lake-estates-united-methodist-church/2026-08-30/
END:VEVENT
BEGIN:VEVENT
DTSTART;TZID=America/New_York:20260906T090000
DTEND;TZID=America/New_York:20260906T100000
DTSTAMP:20260424T195629
CREATED:20260424T190653Z
LAST-MODIFIED:20260424T190653Z
UID:10007986-1788685200-1788688800@www.indianlakeestatesinc.com
SUMMARY:Indian Lake Estates United Methodist Church
DESCRIPTION:
URL:https://www.indianlakeestatesinc.com/event/indian-lake-estates-united-methodist-church/2026-09-06/
END:VEVENT
BEGIN:VEVENT
DTSTART;TZID=America/New_York:20260913T090000
DTEND;TZID=America/New_York:20260913T100000
DTSTAMP:20260424T195629
CREATED:20260424T190653Z
LAST-MODIFIED:20260424T190653Z
UID:10007987-1789290000-1789293600@www.indianlakeestatesinc.com
SUMMARY:Indian Lake Estates United Methodist Church
DESCRIPTION:
URL:https://www.indianlakeestatesinc.com/event/indian-lake-estates-united-methodist-church/2026-09-13/
END:VEVENT
BEGIN:VEVENT
DTSTART;TZID=America/New_York:20260920T090000
DTEND;TZID=America/New_York:20260920T100000
DTSTAMP:20260424T195629
CREATED:20260424T190653Z
LAST-MODIFIED:20260424T190653Z
UID:10007988-1789894800-1789898400@www.indianlakeestatesinc.com
SUMMARY:Indian Lake Estates United Methodist Church
DESCRIPTION:
URL:https://www.indianlakeestatesinc.com/event/indian-lake-estates-united-methodist-church/2026-09-20/
END:VEVENT
BEGIN:VEVENT
DTSTART;TZID=America/New_York:20260927T090000
DTEND;TZID=America/New_York:20260927T100000
DTSTAMP:20260424T195629
CREATED:20260424T190653Z
LAST-MODIFIED:20260424T190653Z
UID:10007989-1790499600-1790503200@www.indianlakeestatesinc.com
SUMMARY:Indian Lake Estates United Methodist Church
DESCRIPTION:
URL:https://www.indianlakeestatesinc.com/event/indian-lake-estates-united-methodist-church/2026-09-27/
END:VEVENT
BEGIN:VEVENT
DTSTART;TZID=America/New_York:20261004T090000
DTEND;TZID=America/New_York:20261004T100000
DTSTAMP:20260424T195629
CREATED:20260424T190653Z
LAST-MODIFIED:20260424T190653Z
UID:10007990-1791104400-1791108000@www.indianlakeestatesinc.com
SUMMARY:Indian Lake Estates United Methodist Church
DESCRIPTION:
URL:https://www.indianlakeestatesinc.com/event/indian-lake-estates-united-methodist-church/2026-10-04/
END:VEVENT
BEGIN:VEVENT
DTSTART;TZID=America/New_York:20261011T090000
DTEND;TZID=America/New_York:20261011T100000
DTSTAMP:20260424T195629
CREATED:20260424T190653Z
LAST-MODIFIED:20260424T190653Z
UID:10007991-1791709200-1791712800@www.indianlakeestatesinc.com
SUMMARY:Indian Lake Estates United Methodist Church
DESCRIPTION:
URL:https://www.indianlakeestatesinc.com/event/indian-lake-estates-united-methodist-church/2026-10-11/
END:VEVENT
BEGIN:VEVENT
DTSTART;TZID=America/New_York:20261018T090000
DTEND;TZID=America/New_York:20261018T100000
DTSTAMP:20260424T195629
CREATED:20260424T190653Z
LAST-MODIFIED:20260424T190653Z
UID:10007992-1792314000-1792317600@www.indianlakeestatesinc.com
SUMMARY:Indian Lake Estates United Methodist Church
DESCRIPTION:
URL:https://www.indianlakeestatesinc.com/event/indian-lake-estates-united-methodist-church/2026-10-18/
END:VEVENT
BEGIN:VEVENT
DTSTART;TZID=America/New_York:20261025T090000
DTEND;TZID=America/New_York:20261025T100000
DTSTAMP:20260424T195629
CREATED:20260424T190653Z
LAST-MODIFIED:20260424T190653Z
UID:10007993-1792918800-1792922400@www.indianlakeestatesinc.com
SUMMARY:Indian Lake Estates United Methodist Church
DESCRIPTION:
URL:https://www.indianlakeestatesinc.com/event/indian-lake-estates-united-methodist-church/2026-10-25/
END:VEVENT
BEGIN:VEVENT
DTSTART;TZID=America/New_York:20261101T090000
DTEND;TZID=America/New_York:20261101T100000
DTSTAMP:20260424T195629
CREATED:20260424T190653Z
LAST-MODIFIED:20260424T190653Z
UID:10007994-1793523600-1793527200@www.indianlakeestatesinc.com
SUMMARY:Indian Lake Estates United Methodist Church
DESCRIPTION:
URL:https://www.indianlakeestatesinc.com/event/indian-lake-estates-united-methodist-church/2026-11-01/
END:VEVENT
BEGIN:VEVENT
DTSTART;TZID=America/New_York:20261108T090000
DTEND;TZID=America/New_York:20261108T100000
DTSTAMP:20260424T195629
CREATED:20260424T190653Z
LAST-MODIFIED:20260424T190653Z
UID:10007995-1794128400-1794132000@www.indianlakeestatesinc.com
SUMMARY:Indian Lake Estates United Methodist Church
DESCRIPTION:
URL:https://www.indianlakeestatesinc.com/event/indian-lake-estates-united-methodist-church/2026-11-08/
END:VEVENT
BEGIN:VEVENT
DTSTART;TZID=America/New_York:20261115T090000
DTEND;TZID=America/New_York:20261115T100000
DTSTAMP:20260424T195629
CREATED:20260424T190653Z
LAST-MODIFIED:20260424T190653Z
UID:10007996-1794733200-1794736800@www.indianlakeestatesinc.com
SUMMARY:Indian Lake Estates United Methodist Church
DESCRIPTION:
URL:https://www.indianlakeestatesinc.com/event/indian-lake-estates-united-methodist-church/2026-11-15/
END:VEVENT
BEGIN:VEVENT
DTSTART;TZID=America/New_York:20261122T090000
DTEND;TZID=America/New_York:20261122T100000
DTSTAMP:20260424T195629
CREATED:20260424T190653Z
LAST-MODIFIED:20260424T190653Z
UID:10007997-1795338000-1795341600@www.indianlakeestatesinc.com
SUMMARY:Indian Lake Estates United Methodist Church
DESCRIPTION:
URL:https://www.indianlakeestatesinc.com/event/indian-lake-estates-united-methodist-church/2026-11-22/
END:VEVENT
BEGIN:VEVENT
DTSTART;TZID=America/New_York:20261129T090000
DTEND;TZID=America/New_York:20261129T100000
DTSTAMP:20260424T195629
CREATED:20260424T190653Z
LAST-MODIFIED:20260424T190653Z
UID:10007998-1795942800-1795946400@www.indianlakeestatesinc.com
SUMMARY:Indian Lake Estates United Methodist Church
DESCRIPTION:
URL:https://www.indianlakeestatesinc.com/event/indian-lake-estates-united-methodist-church/2026-11-29/
END:VEVENT
BEGIN:VEVENT
DTSTART;TZID=America/New_York:20261206T090000
DTEND;TZID=America/New_York:20261206T100000
DTSTAMP:20260424T195629
CREATED:20260424T190653Z
LAST-MODIFIED:20260424T190653Z
UID:10007999-1796547600-1796551200@www.indianlakeestatesinc.com
SUMMARY:Indian Lake Estates United Methodist Church
DESCRIPTION:
URL:https://www.indianlakeestatesinc.com/event/indian-lake-estates-united-methodist-church/2026-12-06/
END:VEVENT
BEGIN:VEVENT
DTSTART;TZID=America/New_York:20261213T090000
DTEND;TZID=America/New_York:20261213T100000
DTSTAMP:20260424T195629
CREATED:20260424T190653Z
LAST-MODIFIED:20260424T190653Z
UID:10008000-1797152400-1797156000@www.indianlakeestatesinc.com
SUMMARY:Indian Lake Estates United Methodist Church
DESCRIPTION:
URL:https://www.indianlakeestatesinc.com/event/indian-lake-estates-united-methodist-church/2026-12-13/
END:VEVENT
BEGIN:VEVENT
DTSTART;TZID=America/New_York:20261220T090000
DTEND;TZID=America/New_York:20261220T100000
DTSTAMP:20260424T195630
CREATED:20260424T190653Z
LAST-MODIFIED:20260424T190653Z
UID:10008001-1797757200-1797760800@www.indianlakeestatesinc.com
SUMMARY:Indian Lake Estates United Methodist Church
DESCRIPTION:
URL:https://www.indianlakeestatesinc.com/event/indian-lake-estates-united-methodist-church/2026-12-20/
END:VEVENT
BEGIN:VEVENT
DTSTART;TZID=America/New_York:20261227T090000
DTEND;TZID=America/New_York:20261227T100000
DTSTAMP:20260424T195630
CREATED:20260424T190653Z
LAST-MODIFIED:20260424T190653Z
UID:10008002-1798362000-1798365600@www.indianlakeestatesinc.com
SUMMARY:Indian Lake Estates United Methodist Church
DESCRIPTION:
URL:https://www.indianlakeestatesinc.com/event/indian-lake-estates-united-methodist-church/2026-12-27/
END:VEVENT
BEGIN:VEVENT
DTSTART;TZID=America/New_York:20270103T090000
DTEND;TZID=America/New_York:20270103T100000
DTSTAMP:20260424T195630
CREATED:20260424T190653Z
LAST-MODIFIED:20260424T190653Z
UID:10008003-1798966800-1798970400@www.indianlakeestatesinc.com
SUMMARY:Indian Lake Estates United Methodist Church
DESCRIPTION:
URL:https://www.indianlakeestatesinc.com/event/indian-lake-estates-united-methodist-church/2027-01-03/
END:VEVENT
BEGIN:VEVENT
DTSTART;TZID=America/New_York:20270110T090000
DTEND;TZID=America/New_York:20270110T100000
DTSTAMP:20260424T195630
CREATED:20260424T190653Z
LAST-MODIFIED:20260424T190653Z
UID:10008004-1799571600-1799575200@www.indianlakeestatesinc.com
SUMMARY:Indian Lake Estates United Methodist Church
DESCRIPTION:
URL:https://www.indianlakeestatesinc.com/event/indian-lake-estates-united-methodist-church/2027-01-10/
END:VEVENT
BEGIN:VEVENT
DTSTART;TZID=America/New_York:20270117T090000
DTEND;TZID=America/New_York:20270117T100000
DTSTAMP:20260424T195630
CREATED:20260424T190653Z
LAST-MODIFIED:20260424T190653Z
UID:10008005-1800176400-1800180000@www.indianlakeestatesinc.com
SUMMARY:Indian Lake Estates United Methodist Church
DESCRIPTION:
URL:https://www.indianlakeestatesinc.com/event/indian-lake-estates-united-methodist-church/2027-01-17/
END:VEVENT
BEGIN:VEVENT
DTSTART;TZID=America/New_York:20270124T090000
DTEND;TZID=America/New_York:20270124T100000
DTSTAMP:20260424T195630
CREATED:20260424T190653Z
LAST-MODIFIED:20260424T190653Z
UID:10008006-1800781200-1800784800@www.indianlakeestatesinc.com
SUMMARY:Indian Lake Estates United Methodist Church
DESCRIPTION:
URL:https://www.indianlakeestatesinc.com/event/indian-lake-estates-united-methodist-church/2027-01-24/
END:VEVENT
BEGIN:VEVENT
DTSTART;TZID=America/New_York:20270131T090000
DTEND;TZID=America/New_York:20270131T100000
DTSTAMP:20260424T195630
CREATED:20260424T190653Z
LAST-MODIFIED:20260424T190653Z
UID:10008007-1801386000-1801389600@www.indianlakeestatesinc.com
SUMMARY:Indian Lake Estates United Methodist Church
DESCRIPTION:
URL:https://www.indianlakeestatesinc.com/event/indian-lake-estates-united-methodist-church/2027-01-31/
END:VEVENT
BEGIN:VEVENT
DTSTART;TZID=America/New_York:20270207T090000
DTEND;TZID=America/New_York:20270207T100000
DTSTAMP:20260424T195630
CREATED:20260424T190653Z
LAST-MODIFIED:20260424T190653Z
UID:10008008-1801990800-1801994400@www.indianlakeestatesinc.com
SUMMARY:Indian Lake Estates United Methodist Church
DESCRIPTION:
URL:https://www.indianlakeestatesinc.com/event/indian-lake-estates-united-methodist-church/2027-02-07/
END:VEVENT
END:VCALENDAR