BEGIN:VCALENDAR
VERSION:2.0
PRODID:-//Indian Lake Estates Golf &amp; Country Club - ECPv6.15.18//NONSGML v1.0//EN
CALSCALE:GREGORIAN
METHOD:PUBLISH
X-WR-CALNAME:Indian Lake Estates Golf &amp; Country Club
X-ORIGINAL-URL:https://www.indianlakeestatesinc.com
X-WR-CALDESC:Events for Indian Lake Estates Golf &amp; Country Club
REFRESH-INTERVAL;VALUE=DURATION:PT1H
X-Robots-Tag:noindex
X-PUBLISHED-TTL:PT1H
BEGIN:VTIMEZONE
TZID:America/New_York
BEGIN:DAYLIGHT
TZOFFSETFROM:-0500
TZOFFSETTO:-0400
TZNAME:EDT
DTSTART:20250309T070000
END:DAYLIGHT
BEGIN:STANDARD
TZOFFSETFROM:-0400
TZOFFSETTO:-0500
TZNAME:EST
DTSTART:20251102T060000
END:STANDARD
BEGIN:DAYLIGHT
TZOFFSETFROM:-0500
TZOFFSETTO:-0400
TZNAME:EDT
DTSTART:20260308T070000
END:DAYLIGHT
BEGIN:STANDARD
TZOFFSETFROM:-0400
TZOFFSETTO:-0500
TZNAME:EST
DTSTART:20261101T060000
END:STANDARD
BEGIN:DAYLIGHT
TZOFFSETFROM:-0500
TZOFFSETTO:-0400
TZNAME:EDT
DTSTART:20270314T070000
END:DAYLIGHT
BEGIN:STANDARD
TZOFFSETFROM:-0400
TZOFFSETTO:-0500
TZNAME:EST
DTSTART:20271107T060000
END:STANDARD
BEGIN:DAYLIGHT
TZOFFSETFROM:-0500
TZOFFSETTO:-0400
TZNAME:EDT
DTSTART:20280312T070000
END:DAYLIGHT
BEGIN:STANDARD
TZOFFSETFROM:-0400
TZOFFSETTO:-0500
TZNAME:EST
DTSTART:20281105T060000
END:STANDARD
END:VTIMEZONE
BEGIN:VEVENT
DTSTART;VALUE=DATE:20260720
DTEND;VALUE=DATE:20260721
DTSTAMP:20260421T185707
CREATED:20250903T152722Z
LAST-MODIFIED:20251201T201417Z
UID:10005732-1784505600-1784591999@www.indianlakeestatesinc.com
SUMMARY:First Baptist Church\, 6 PM Ladies Bible Study
DESCRIPTION:6:00 PM Fellowship and snacks\n6:30 PM – 7:30 PM Bible Study
URL:https://www.indianlakeestatesinc.com/event/first-baptist-church-ile-ladies-ministry-bible-study-2/2026-07-20/
LOCATION:First Baptist Church
END:VEVENT
BEGIN:VEVENT
DTSTART;VALUE=DATE:20260727
DTEND;VALUE=DATE:20260728
DTSTAMP:20260421T185707
CREATED:20250903T152722Z
LAST-MODIFIED:20251201T201417Z
UID:10005733-1785110400-1785196799@www.indianlakeestatesinc.com
SUMMARY:First Baptist Church\, 6 PM Ladies Bible Study
DESCRIPTION:6:00 PM Fellowship and snacks\n6:30 PM – 7:30 PM Bible Study
URL:https://www.indianlakeestatesinc.com/event/first-baptist-church-ile-ladies-ministry-bible-study-2/2026-07-27/
LOCATION:First Baptist Church
END:VEVENT
BEGIN:VEVENT
DTSTART;VALUE=DATE:20260803
DTEND;VALUE=DATE:20260804
DTSTAMP:20260421T185707
CREATED:20250903T152722Z
LAST-MODIFIED:20251201T201417Z
UID:10005734-1785715200-1785801599@www.indianlakeestatesinc.com
SUMMARY:First Baptist Church\, 6 PM Ladies Bible Study
DESCRIPTION:6:00 PM Fellowship and snacks\n6:30 PM – 7:30 PM Bible Study
URL:https://www.indianlakeestatesinc.com/event/first-baptist-church-ile-ladies-ministry-bible-study-2/2026-08-03/
LOCATION:First Baptist Church
END:VEVENT
BEGIN:VEVENT
DTSTART;VALUE=DATE:20260810
DTEND;VALUE=DATE:20260811
DTSTAMP:20260421T185707
CREATED:20250903T152722Z
LAST-MODIFIED:20251201T201417Z
UID:10005735-1786320000-1786406399@www.indianlakeestatesinc.com
SUMMARY:First Baptist Church\, 6 PM Ladies Bible Study
DESCRIPTION:6:00 PM Fellowship and snacks\n6:30 PM – 7:30 PM Bible Study
URL:https://www.indianlakeestatesinc.com/event/first-baptist-church-ile-ladies-ministry-bible-study-2/2026-08-10/
LOCATION:First Baptist Church
END:VEVENT
BEGIN:VEVENT
DTSTART;VALUE=DATE:20260817
DTEND;VALUE=DATE:20260818
DTSTAMP:20260421T185707
CREATED:20250903T152722Z
LAST-MODIFIED:20251201T201417Z
UID:10005736-1786924800-1787011199@www.indianlakeestatesinc.com
SUMMARY:First Baptist Church\, 6 PM Ladies Bible Study
DESCRIPTION:6:00 PM Fellowship and snacks\n6:30 PM – 7:30 PM Bible Study
URL:https://www.indianlakeestatesinc.com/event/first-baptist-church-ile-ladies-ministry-bible-study-2/2026-08-17/
LOCATION:First Baptist Church
END:VEVENT
BEGIN:VEVENT
DTSTART;VALUE=DATE:20260824
DTEND;VALUE=DATE:20260825
DTSTAMP:20260421T185707
CREATED:20250903T152722Z
LAST-MODIFIED:20251201T201417Z
UID:10005737-1787529600-1787615999@www.indianlakeestatesinc.com
SUMMARY:First Baptist Church\, 6 PM Ladies Bible Study
DESCRIPTION:6:00 PM Fellowship and snacks\n6:30 PM – 7:30 PM Bible Study
URL:https://www.indianlakeestatesinc.com/event/first-baptist-church-ile-ladies-ministry-bible-study-2/2026-08-24/
LOCATION:First Baptist Church
END:VEVENT
BEGIN:VEVENT
DTSTART;VALUE=DATE:20260831
DTEND;VALUE=DATE:20260901
DTSTAMP:20260421T185707
CREATED:20250903T152722Z
LAST-MODIFIED:20251201T201417Z
UID:10005738-1788134400-1788220799@www.indianlakeestatesinc.com
SUMMARY:First Baptist Church\, 6 PM Ladies Bible Study
DESCRIPTION:6:00 PM Fellowship and snacks\n6:30 PM – 7:30 PM Bible Study
URL:https://www.indianlakeestatesinc.com/event/first-baptist-church-ile-ladies-ministry-bible-study-2/2026-08-31/
LOCATION:First Baptist Church
END:VEVENT
BEGIN:VEVENT
DTSTART;VALUE=DATE:20260907
DTEND;VALUE=DATE:20260908
DTSTAMP:20260421T185707
CREATED:20250903T152722Z
LAST-MODIFIED:20251201T201417Z
UID:10005739-1788739200-1788825599@www.indianlakeestatesinc.com
SUMMARY:First Baptist Church\, 6 PM Ladies Bible Study
DESCRIPTION:6:00 PM Fellowship and snacks\n6:30 PM – 7:30 PM Bible Study
URL:https://www.indianlakeestatesinc.com/event/first-baptist-church-ile-ladies-ministry-bible-study-2/2026-09-07/
LOCATION:First Baptist Church
END:VEVENT
BEGIN:VEVENT
DTSTART;VALUE=DATE:20260914
DTEND;VALUE=DATE:20260915
DTSTAMP:20260421T185707
CREATED:20250903T152722Z
LAST-MODIFIED:20251201T201417Z
UID:10005740-1789344000-1789430399@www.indianlakeestatesinc.com
SUMMARY:First Baptist Church\, 6 PM Ladies Bible Study
DESCRIPTION:6:00 PM Fellowship and snacks\n6:30 PM – 7:30 PM Bible Study
URL:https://www.indianlakeestatesinc.com/event/first-baptist-church-ile-ladies-ministry-bible-study-2/2026-09-14/
LOCATION:First Baptist Church
END:VEVENT
BEGIN:VEVENT
DTSTART;VALUE=DATE:20260921
DTEND;VALUE=DATE:20260922
DTSTAMP:20260421T185707
CREATED:20250903T152722Z
LAST-MODIFIED:20251201T201417Z
UID:10005741-1789948800-1790035199@www.indianlakeestatesinc.com
SUMMARY:First Baptist Church\, 6 PM Ladies Bible Study
DESCRIPTION:6:00 PM Fellowship and snacks\n6:30 PM – 7:30 PM Bible Study
URL:https://www.indianlakeestatesinc.com/event/first-baptist-church-ile-ladies-ministry-bible-study-2/2026-09-21/
LOCATION:First Baptist Church
END:VEVENT
BEGIN:VEVENT
DTSTART;VALUE=DATE:20260928
DTEND;VALUE=DATE:20260929
DTSTAMP:20260421T185707
CREATED:20250903T152722Z
LAST-MODIFIED:20251201T201417Z
UID:10005742-1790553600-1790639999@www.indianlakeestatesinc.com
SUMMARY:First Baptist Church\, 6 PM Ladies Bible Study
DESCRIPTION:6:00 PM Fellowship and snacks\n6:30 PM – 7:30 PM Bible Study
URL:https://www.indianlakeestatesinc.com/event/first-baptist-church-ile-ladies-ministry-bible-study-2/2026-09-28/
LOCATION:First Baptist Church
END:VEVENT
BEGIN:VEVENT
DTSTART;VALUE=DATE:20261005
DTEND;VALUE=DATE:20261006
DTSTAMP:20260421T185707
CREATED:20250903T152722Z
LAST-MODIFIED:20251201T201417Z
UID:10005743-1791158400-1791244799@www.indianlakeestatesinc.com
SUMMARY:First Baptist Church\, 6 PM Ladies Bible Study
DESCRIPTION:6:00 PM Fellowship and snacks\n6:30 PM – 7:30 PM Bible Study
URL:https://www.indianlakeestatesinc.com/event/first-baptist-church-ile-ladies-ministry-bible-study-2/2026-10-05/
LOCATION:First Baptist Church
END:VEVENT
BEGIN:VEVENT
DTSTART;VALUE=DATE:20261012
DTEND;VALUE=DATE:20261013
DTSTAMP:20260421T185707
CREATED:20250903T152722Z
LAST-MODIFIED:20251201T201417Z
UID:10005744-1791763200-1791849599@www.indianlakeestatesinc.com
SUMMARY:First Baptist Church\, 6 PM Ladies Bible Study
DESCRIPTION:6:00 PM Fellowship and snacks\n6:30 PM – 7:30 PM Bible Study
URL:https://www.indianlakeestatesinc.com/event/first-baptist-church-ile-ladies-ministry-bible-study-2/2026-10-12/
LOCATION:First Baptist Church
END:VEVENT
BEGIN:VEVENT
DTSTART;VALUE=DATE:20261019
DTEND;VALUE=DATE:20261020
DTSTAMP:20260421T185707
CREATED:20250903T152722Z
LAST-MODIFIED:20251201T201417Z
UID:10005745-1792368000-1792454399@www.indianlakeestatesinc.com
SUMMARY:First Baptist Church\, 6 PM Ladies Bible Study
DESCRIPTION:6:00 PM Fellowship and snacks\n6:30 PM – 7:30 PM Bible Study
URL:https://www.indianlakeestatesinc.com/event/first-baptist-church-ile-ladies-ministry-bible-study-2/2026-10-19/
LOCATION:First Baptist Church
END:VEVENT
BEGIN:VEVENT
DTSTART;VALUE=DATE:20261026
DTEND;VALUE=DATE:20261027
DTSTAMP:20260421T185707
CREATED:20250903T152722Z
LAST-MODIFIED:20251201T201417Z
UID:10005746-1792972800-1793059199@www.indianlakeestatesinc.com
SUMMARY:First Baptist Church\, 6 PM Ladies Bible Study
DESCRIPTION:6:00 PM Fellowship and snacks\n6:30 PM – 7:30 PM Bible Study
URL:https://www.indianlakeestatesinc.com/event/first-baptist-church-ile-ladies-ministry-bible-study-2/2026-10-26/
LOCATION:First Baptist Church
END:VEVENT
BEGIN:VEVENT
DTSTART;VALUE=DATE:20261102
DTEND;VALUE=DATE:20261103
DTSTAMP:20260421T185707
CREATED:20250903T152722Z
LAST-MODIFIED:20251201T201417Z
UID:10005747-1793577600-1793663999@www.indianlakeestatesinc.com
SUMMARY:First Baptist Church\, 6 PM Ladies Bible Study
DESCRIPTION:6:00 PM Fellowship and snacks\n6:30 PM – 7:30 PM Bible Study
URL:https://www.indianlakeestatesinc.com/event/first-baptist-church-ile-ladies-ministry-bible-study-2/2026-11-02/
LOCATION:First Baptist Church
END:VEVENT
BEGIN:VEVENT
DTSTART;VALUE=DATE:20261109
DTEND;VALUE=DATE:20261110
DTSTAMP:20260421T185707
CREATED:20250903T152722Z
LAST-MODIFIED:20251201T201417Z
UID:10005748-1794182400-1794268799@www.indianlakeestatesinc.com
SUMMARY:First Baptist Church\, 6 PM Ladies Bible Study
DESCRIPTION:6:00 PM Fellowship and snacks\n6:30 PM – 7:30 PM Bible Study
URL:https://www.indianlakeestatesinc.com/event/first-baptist-church-ile-ladies-ministry-bible-study-2/2026-11-09/
LOCATION:First Baptist Church
END:VEVENT
BEGIN:VEVENT
DTSTART;VALUE=DATE:20261116
DTEND;VALUE=DATE:20261117
DTSTAMP:20260421T185707
CREATED:20250903T152722Z
LAST-MODIFIED:20251201T201417Z
UID:10005749-1794787200-1794873599@www.indianlakeestatesinc.com
SUMMARY:First Baptist Church\, 6 PM Ladies Bible Study
DESCRIPTION:6:00 PM Fellowship and snacks\n6:30 PM – 7:30 PM Bible Study
URL:https://www.indianlakeestatesinc.com/event/first-baptist-church-ile-ladies-ministry-bible-study-2/2026-11-16/
LOCATION:First Baptist Church
END:VEVENT
BEGIN:VEVENT
DTSTART;VALUE=DATE:20261123
DTEND;VALUE=DATE:20261124
DTSTAMP:20260421T185707
CREATED:20250903T152722Z
LAST-MODIFIED:20251201T201417Z
UID:10005750-1795392000-1795478399@www.indianlakeestatesinc.com
SUMMARY:First Baptist Church\, 6 PM Ladies Bible Study
DESCRIPTION:6:00 PM Fellowship and snacks\n6:30 PM – 7:30 PM Bible Study
URL:https://www.indianlakeestatesinc.com/event/first-baptist-church-ile-ladies-ministry-bible-study-2/2026-11-23/
LOCATION:First Baptist Church
END:VEVENT
BEGIN:VEVENT
DTSTART;VALUE=DATE:20261130
DTEND;VALUE=DATE:20261201
DTSTAMP:20260421T185707
CREATED:20250903T152722Z
LAST-MODIFIED:20251201T201417Z
UID:10005751-1795996800-1796083199@www.indianlakeestatesinc.com
SUMMARY:First Baptist Church\, 6 PM Ladies Bible Study
DESCRIPTION:6:00 PM Fellowship and snacks\n6:30 PM – 7:30 PM Bible Study
URL:https://www.indianlakeestatesinc.com/event/first-baptist-church-ile-ladies-ministry-bible-study-2/2026-11-30/
LOCATION:First Baptist Church
END:VEVENT
BEGIN:VEVENT
DTSTART;VALUE=DATE:20261207
DTEND;VALUE=DATE:20261208
DTSTAMP:20260421T185707
CREATED:20250903T152722Z
LAST-MODIFIED:20251201T201417Z
UID:10005752-1796601600-1796687999@www.indianlakeestatesinc.com
SUMMARY:First Baptist Church\, 6 PM Ladies Bible Study
DESCRIPTION:6:00 PM Fellowship and snacks\n6:30 PM – 7:30 PM Bible Study
URL:https://www.indianlakeestatesinc.com/event/first-baptist-church-ile-ladies-ministry-bible-study-2/2026-12-07/
LOCATION:First Baptist Church
END:VEVENT
BEGIN:VEVENT
DTSTART;VALUE=DATE:20261214
DTEND;VALUE=DATE:20261215
DTSTAMP:20260421T185707
CREATED:20250903T152722Z
LAST-MODIFIED:20251201T201417Z
UID:10005753-1797206400-1797292799@www.indianlakeestatesinc.com
SUMMARY:First Baptist Church\, 6 PM Ladies Bible Study
DESCRIPTION:6:00 PM Fellowship and snacks\n6:30 PM – 7:30 PM Bible Study
URL:https://www.indianlakeestatesinc.com/event/first-baptist-church-ile-ladies-ministry-bible-study-2/2026-12-14/
LOCATION:First Baptist Church
END:VEVENT
BEGIN:VEVENT
DTSTART;VALUE=DATE:20261221
DTEND;VALUE=DATE:20261222
DTSTAMP:20260421T185707
CREATED:20250903T152722Z
LAST-MODIFIED:20251201T201417Z
UID:10005754-1797811200-1797897599@www.indianlakeestatesinc.com
SUMMARY:First Baptist Church\, 6 PM Ladies Bible Study
DESCRIPTION:6:00 PM Fellowship and snacks\n6:30 PM – 7:30 PM Bible Study
URL:https://www.indianlakeestatesinc.com/event/first-baptist-church-ile-ladies-ministry-bible-study-2/2026-12-21/
LOCATION:First Baptist Church
END:VEVENT
BEGIN:VEVENT
DTSTART;VALUE=DATE:20261228
DTEND;VALUE=DATE:20261229
DTSTAMP:20260421T185707
CREATED:20250903T152722Z
LAST-MODIFIED:20251201T201417Z
UID:10005755-1798416000-1798502399@www.indianlakeestatesinc.com
SUMMARY:First Baptist Church\, 6 PM Ladies Bible Study
DESCRIPTION:6:00 PM Fellowship and snacks\n6:30 PM – 7:30 PM Bible Study
URL:https://www.indianlakeestatesinc.com/event/first-baptist-church-ile-ladies-ministry-bible-study-2/2026-12-28/
LOCATION:First Baptist Church
END:VEVENT
BEGIN:VEVENT
DTSTART;VALUE=DATE:20270104
DTEND;VALUE=DATE:20270105
DTSTAMP:20260421T185708
CREATED:20250903T152722Z
LAST-MODIFIED:20251201T201417Z
UID:10005756-1799020800-1799107199@www.indianlakeestatesinc.com
SUMMARY:First Baptist Church\, 6 PM Ladies Bible Study
DESCRIPTION:6:00 PM Fellowship and snacks\n6:30 PM – 7:30 PM Bible Study
URL:https://www.indianlakeestatesinc.com/event/first-baptist-church-ile-ladies-ministry-bible-study-2/2027-01-04/
LOCATION:First Baptist Church
END:VEVENT
BEGIN:VEVENT
DTSTART;VALUE=DATE:20270111
DTEND;VALUE=DATE:20270112
DTSTAMP:20260421T185708
CREATED:20250903T152722Z
LAST-MODIFIED:20251201T201417Z
UID:10005757-1799625600-1799711999@www.indianlakeestatesinc.com
SUMMARY:First Baptist Church\, 6 PM Ladies Bible Study
DESCRIPTION:6:00 PM Fellowship and snacks\n6:30 PM – 7:30 PM Bible Study
URL:https://www.indianlakeestatesinc.com/event/first-baptist-church-ile-ladies-ministry-bible-study-2/2027-01-11/
LOCATION:First Baptist Church
END:VEVENT
BEGIN:VEVENT
DTSTART;VALUE=DATE:20270118
DTEND;VALUE=DATE:20270119
DTSTAMP:20260421T185708
CREATED:20250903T152722Z
LAST-MODIFIED:20251201T201417Z
UID:10005758-1800230400-1800316799@www.indianlakeestatesinc.com
SUMMARY:First Baptist Church\, 6 PM Ladies Bible Study
DESCRIPTION:6:00 PM Fellowship and snacks\n6:30 PM – 7:30 PM Bible Study
URL:https://www.indianlakeestatesinc.com/event/first-baptist-church-ile-ladies-ministry-bible-study-2/2027-01-18/
LOCATION:First Baptist Church
END:VEVENT
BEGIN:VEVENT
DTSTART;VALUE=DATE:20270125
DTEND;VALUE=DATE:20270126
DTSTAMP:20260421T185708
CREATED:20250903T152722Z
LAST-MODIFIED:20251201T201417Z
UID:10005759-1800835200-1800921599@www.indianlakeestatesinc.com
SUMMARY:First Baptist Church\, 6 PM Ladies Bible Study
DESCRIPTION:6:00 PM Fellowship and snacks\n6:30 PM – 7:30 PM Bible Study
URL:https://www.indianlakeestatesinc.com/event/first-baptist-church-ile-ladies-ministry-bible-study-2/2027-01-25/
LOCATION:First Baptist Church
END:VEVENT
BEGIN:VEVENT
DTSTART;VALUE=DATE:20270201
DTEND;VALUE=DATE:20270202
DTSTAMP:20260421T185708
CREATED:20250903T152722Z
LAST-MODIFIED:20251201T201417Z
UID:10005760-1801440000-1801526399@www.indianlakeestatesinc.com
SUMMARY:First Baptist Church\, 6 PM Ladies Bible Study
DESCRIPTION:6:00 PM Fellowship and snacks\n6:30 PM – 7:30 PM Bible Study
URL:https://www.indianlakeestatesinc.com/event/first-baptist-church-ile-ladies-ministry-bible-study-2/2027-02-01/
LOCATION:First Baptist Church
END:VEVENT
BEGIN:VEVENT
DTSTART;VALUE=DATE:20270208
DTEND;VALUE=DATE:20270209
DTSTAMP:20260421T185708
CREATED:20250903T152722Z
LAST-MODIFIED:20251201T201417Z
UID:10005761-1802044800-1802131199@www.indianlakeestatesinc.com
SUMMARY:First Baptist Church\, 6 PM Ladies Bible Study
DESCRIPTION:6:00 PM Fellowship and snacks\n6:30 PM – 7:30 PM Bible Study
URL:https://www.indianlakeestatesinc.com/event/first-baptist-church-ile-ladies-ministry-bible-study-2/2027-02-08/
LOCATION:First Baptist Church
END:VEVENT
END:VCALENDAR