BEGIN:VCALENDAR
VERSION:2.0
PRODID:-//Indian Lake Estates Golf &amp; Country Club - ECPv6.15.18//NONSGML v1.0//EN
CALSCALE:GREGORIAN
METHOD:PUBLISH
X-ORIGINAL-URL:https://www.indianlakeestatesinc.com
X-WR-CALDESC:Events for Indian Lake Estates Golf &amp; Country Club
REFRESH-INTERVAL;VALUE=DURATION:PT1H
X-Robots-Tag:noindex
X-PUBLISHED-TTL:PT1H
BEGIN:VTIMEZONE
TZID:America/New_York
BEGIN:DAYLIGHT
TZOFFSETFROM:-0500
TZOFFSETTO:-0400
TZNAME:EDT
DTSTART:20260308T070000
END:DAYLIGHT
BEGIN:STANDARD
TZOFFSETFROM:-0400
TZOFFSETTO:-0500
TZNAME:EST
DTSTART:20261101T060000
END:STANDARD
BEGIN:DAYLIGHT
TZOFFSETFROM:-0500
TZOFFSETTO:-0400
TZNAME:EDT
DTSTART:20270314T070000
END:DAYLIGHT
BEGIN:STANDARD
TZOFFSETFROM:-0400
TZOFFSETTO:-0500
TZNAME:EST
DTSTART:20271107T060000
END:STANDARD
BEGIN:DAYLIGHT
TZOFFSETFROM:-0500
TZOFFSETTO:-0400
TZNAME:EDT
DTSTART:20280312T070000
END:DAYLIGHT
BEGIN:STANDARD
TZOFFSETFROM:-0400
TZOFFSETTO:-0500
TZNAME:EST
DTSTART:20281105T060000
END:STANDARD
BEGIN:DAYLIGHT
TZOFFSETFROM:-0500
TZOFFSETTO:-0400
TZNAME:EDT
DTSTART:20290311T070000
END:DAYLIGHT
BEGIN:STANDARD
TZOFFSETFROM:-0400
TZOFFSETTO:-0500
TZNAME:EST
DTSTART:20291104T060000
END:STANDARD
END:VTIMEZONE
BEGIN:VEVENT
DTSTART;VALUE=DATE:20270621
DTEND;VALUE=DATE:20270622
DTSTAMP:20260422T073211
CREATED:20250903T152722Z
LAST-MODIFIED:20251201T201417Z
UID:10005780-1813536000-1813622399@www.indianlakeestatesinc.com
SUMMARY:First Baptist Church\, 6 PM Ladies Bible Study
DESCRIPTION:6:00 PM Fellowship and snacks\n6:30 PM – 7:30 PM Bible Study
URL:https://www.indianlakeestatesinc.com/event/first-baptist-church-ile-ladies-ministry-bible-study-2/2027-06-21/
LOCATION:First Baptist Church
END:VEVENT
BEGIN:VEVENT
DTSTART;VALUE=DATE:20270628
DTEND;VALUE=DATE:20270629
DTSTAMP:20260422T073211
CREATED:20250903T152722Z
LAST-MODIFIED:20251201T201417Z
UID:10005781-1814140800-1814227199@www.indianlakeestatesinc.com
SUMMARY:First Baptist Church\, 6 PM Ladies Bible Study
DESCRIPTION:6:00 PM Fellowship and snacks\n6:30 PM – 7:30 PM Bible Study
URL:https://www.indianlakeestatesinc.com/event/first-baptist-church-ile-ladies-ministry-bible-study-2/2027-06-28/
LOCATION:First Baptist Church
END:VEVENT
BEGIN:VEVENT
DTSTART;VALUE=DATE:20270705
DTEND;VALUE=DATE:20270706
DTSTAMP:20260422T073211
CREATED:20250903T152722Z
LAST-MODIFIED:20251201T201417Z
UID:10005782-1814745600-1814831999@www.indianlakeestatesinc.com
SUMMARY:First Baptist Church\, 6 PM Ladies Bible Study
DESCRIPTION:6:00 PM Fellowship and snacks\n6:30 PM – 7:30 PM Bible Study
URL:https://www.indianlakeestatesinc.com/event/first-baptist-church-ile-ladies-ministry-bible-study-2/2027-07-05/
LOCATION:First Baptist Church
END:VEVENT
BEGIN:VEVENT
DTSTART;VALUE=DATE:20270712
DTEND;VALUE=DATE:20270713
DTSTAMP:20260422T073211
CREATED:20250903T152722Z
LAST-MODIFIED:20251201T201417Z
UID:10005783-1815350400-1815436799@www.indianlakeestatesinc.com
SUMMARY:First Baptist Church\, 6 PM Ladies Bible Study
DESCRIPTION:6:00 PM Fellowship and snacks\n6:30 PM – 7:30 PM Bible Study
URL:https://www.indianlakeestatesinc.com/event/first-baptist-church-ile-ladies-ministry-bible-study-2/2027-07-12/
LOCATION:First Baptist Church
END:VEVENT
BEGIN:VEVENT
DTSTART;VALUE=DATE:20270719
DTEND;VALUE=DATE:20270720
DTSTAMP:20260422T073211
CREATED:20250903T152722Z
LAST-MODIFIED:20251201T201417Z
UID:10005784-1815955200-1816041599@www.indianlakeestatesinc.com
SUMMARY:First Baptist Church\, 6 PM Ladies Bible Study
DESCRIPTION:6:00 PM Fellowship and snacks\n6:30 PM – 7:30 PM Bible Study
URL:https://www.indianlakeestatesinc.com/event/first-baptist-church-ile-ladies-ministry-bible-study-2/2027-07-19/
LOCATION:First Baptist Church
END:VEVENT
BEGIN:VEVENT
DTSTART;VALUE=DATE:20270726
DTEND;VALUE=DATE:20270727
DTSTAMP:20260422T073211
CREATED:20250903T152722Z
LAST-MODIFIED:20251201T201417Z
UID:10005785-1816560000-1816646399@www.indianlakeestatesinc.com
SUMMARY:First Baptist Church\, 6 PM Ladies Bible Study
DESCRIPTION:6:00 PM Fellowship and snacks\n6:30 PM – 7:30 PM Bible Study
URL:https://www.indianlakeestatesinc.com/event/first-baptist-church-ile-ladies-ministry-bible-study-2/2027-07-26/
LOCATION:First Baptist Church
END:VEVENT
BEGIN:VEVENT
DTSTART;VALUE=DATE:20270802
DTEND;VALUE=DATE:20270803
DTSTAMP:20260422T073211
CREATED:20250903T152722Z
LAST-MODIFIED:20251201T201417Z
UID:10005786-1817164800-1817251199@www.indianlakeestatesinc.com
SUMMARY:First Baptist Church\, 6 PM Ladies Bible Study
DESCRIPTION:6:00 PM Fellowship and snacks\n6:30 PM – 7:30 PM Bible Study
URL:https://www.indianlakeestatesinc.com/event/first-baptist-church-ile-ladies-ministry-bible-study-2/2027-08-02/
LOCATION:First Baptist Church
END:VEVENT
BEGIN:VEVENT
DTSTART;VALUE=DATE:20270809
DTEND;VALUE=DATE:20270810
DTSTAMP:20260422T073211
CREATED:20250903T152722Z
LAST-MODIFIED:20251201T201417Z
UID:10005787-1817769600-1817855999@www.indianlakeestatesinc.com
SUMMARY:First Baptist Church\, 6 PM Ladies Bible Study
DESCRIPTION:6:00 PM Fellowship and snacks\n6:30 PM – 7:30 PM Bible Study
URL:https://www.indianlakeestatesinc.com/event/first-baptist-church-ile-ladies-ministry-bible-study-2/2027-08-09/
LOCATION:First Baptist Church
END:VEVENT
BEGIN:VEVENT
DTSTART;VALUE=DATE:20270816
DTEND;VALUE=DATE:20270817
DTSTAMP:20260422T073211
CREATED:20250903T152722Z
LAST-MODIFIED:20251201T201417Z
UID:10005788-1818374400-1818460799@www.indianlakeestatesinc.com
SUMMARY:First Baptist Church\, 6 PM Ladies Bible Study
DESCRIPTION:6:00 PM Fellowship and snacks\n6:30 PM – 7:30 PM Bible Study
URL:https://www.indianlakeestatesinc.com/event/first-baptist-church-ile-ladies-ministry-bible-study-2/2027-08-16/
LOCATION:First Baptist Church
END:VEVENT
BEGIN:VEVENT
DTSTART;VALUE=DATE:20270823
DTEND;VALUE=DATE:20270824
DTSTAMP:20260422T073211
CREATED:20250903T152722Z
LAST-MODIFIED:20251201T201417Z
UID:10005789-1818979200-1819065599@www.indianlakeestatesinc.com
SUMMARY:First Baptist Church\, 6 PM Ladies Bible Study
DESCRIPTION:6:00 PM Fellowship and snacks\n6:30 PM – 7:30 PM Bible Study
URL:https://www.indianlakeestatesinc.com/event/first-baptist-church-ile-ladies-ministry-bible-study-2/2027-08-23/
LOCATION:First Baptist Church
END:VEVENT
BEGIN:VEVENT
DTSTART;VALUE=DATE:20270830
DTEND;VALUE=DATE:20270831
DTSTAMP:20260422T073211
CREATED:20250903T152722Z
LAST-MODIFIED:20251201T201417Z
UID:10005790-1819584000-1819670399@www.indianlakeestatesinc.com
SUMMARY:First Baptist Church\, 6 PM Ladies Bible Study
DESCRIPTION:6:00 PM Fellowship and snacks\n6:30 PM – 7:30 PM Bible Study
URL:https://www.indianlakeestatesinc.com/event/first-baptist-church-ile-ladies-ministry-bible-study-2/2027-08-30/
LOCATION:First Baptist Church
END:VEVENT
BEGIN:VEVENT
DTSTART;VALUE=DATE:20270906
DTEND;VALUE=DATE:20270907
DTSTAMP:20260422T073211
CREATED:20250903T152722Z
LAST-MODIFIED:20251201T201417Z
UID:10005791-1820188800-1820275199@www.indianlakeestatesinc.com
SUMMARY:First Baptist Church\, 6 PM Ladies Bible Study
DESCRIPTION:6:00 PM Fellowship and snacks\n6:30 PM – 7:30 PM Bible Study
URL:https://www.indianlakeestatesinc.com/event/first-baptist-church-ile-ladies-ministry-bible-study-2/2027-09-06/
LOCATION:First Baptist Church
END:VEVENT
BEGIN:VEVENT
DTSTART;VALUE=DATE:20270913
DTEND;VALUE=DATE:20270914
DTSTAMP:20260422T073211
CREATED:20250903T152722Z
LAST-MODIFIED:20251201T201417Z
UID:10005792-1820793600-1820879999@www.indianlakeestatesinc.com
SUMMARY:First Baptist Church\, 6 PM Ladies Bible Study
DESCRIPTION:6:00 PM Fellowship and snacks\n6:30 PM – 7:30 PM Bible Study
URL:https://www.indianlakeestatesinc.com/event/first-baptist-church-ile-ladies-ministry-bible-study-2/2027-09-13/
LOCATION:First Baptist Church
END:VEVENT
BEGIN:VEVENT
DTSTART;VALUE=DATE:20270920
DTEND;VALUE=DATE:20270921
DTSTAMP:20260422T073211
CREATED:20250903T152722Z
LAST-MODIFIED:20251201T201417Z
UID:10005793-1821398400-1821484799@www.indianlakeestatesinc.com
SUMMARY:First Baptist Church\, 6 PM Ladies Bible Study
DESCRIPTION:6:00 PM Fellowship and snacks\n6:30 PM – 7:30 PM Bible Study
URL:https://www.indianlakeestatesinc.com/event/first-baptist-church-ile-ladies-ministry-bible-study-2/2027-09-20/
LOCATION:First Baptist Church
END:VEVENT
BEGIN:VEVENT
DTSTART;VALUE=DATE:20270927
DTEND;VALUE=DATE:20270928
DTSTAMP:20260422T073211
CREATED:20250903T152722Z
LAST-MODIFIED:20251201T201417Z
UID:10005794-1822003200-1822089599@www.indianlakeestatesinc.com
SUMMARY:First Baptist Church\, 6 PM Ladies Bible Study
DESCRIPTION:6:00 PM Fellowship and snacks\n6:30 PM – 7:30 PM Bible Study
URL:https://www.indianlakeestatesinc.com/event/first-baptist-church-ile-ladies-ministry-bible-study-2/2027-09-27/
LOCATION:First Baptist Church
END:VEVENT
BEGIN:VEVENT
DTSTART;VALUE=DATE:20271004
DTEND;VALUE=DATE:20271005
DTSTAMP:20260422T073211
CREATED:20250903T152722Z
LAST-MODIFIED:20251201T201417Z
UID:10005795-1822608000-1822694399@www.indianlakeestatesinc.com
SUMMARY:First Baptist Church\, 6 PM Ladies Bible Study
DESCRIPTION:6:00 PM Fellowship and snacks\n6:30 PM – 7:30 PM Bible Study
URL:https://www.indianlakeestatesinc.com/event/first-baptist-church-ile-ladies-ministry-bible-study-2/2027-10-04/
LOCATION:First Baptist Church
END:VEVENT
BEGIN:VEVENT
DTSTART;VALUE=DATE:20271011
DTEND;VALUE=DATE:20271012
DTSTAMP:20260422T073211
CREATED:20250903T152722Z
LAST-MODIFIED:20251201T201417Z
UID:10005796-1823212800-1823299199@www.indianlakeestatesinc.com
SUMMARY:First Baptist Church\, 6 PM Ladies Bible Study
DESCRIPTION:6:00 PM Fellowship and snacks\n6:30 PM – 7:30 PM Bible Study
URL:https://www.indianlakeestatesinc.com/event/first-baptist-church-ile-ladies-ministry-bible-study-2/2027-10-11/
LOCATION:First Baptist Church
END:VEVENT
BEGIN:VEVENT
DTSTART;VALUE=DATE:20271018
DTEND;VALUE=DATE:20271019
DTSTAMP:20260422T073211
CREATED:20250903T152722Z
LAST-MODIFIED:20251201T201417Z
UID:10005797-1823817600-1823903999@www.indianlakeestatesinc.com
SUMMARY:First Baptist Church\, 6 PM Ladies Bible Study
DESCRIPTION:6:00 PM Fellowship and snacks\n6:30 PM – 7:30 PM Bible Study
URL:https://www.indianlakeestatesinc.com/event/first-baptist-church-ile-ladies-ministry-bible-study-2/2027-10-18/
LOCATION:First Baptist Church
END:VEVENT
BEGIN:VEVENT
DTSTART;VALUE=DATE:20271025
DTEND;VALUE=DATE:20271026
DTSTAMP:20260422T073211
CREATED:20250903T152722Z
LAST-MODIFIED:20251201T201417Z
UID:10005798-1824422400-1824508799@www.indianlakeestatesinc.com
SUMMARY:First Baptist Church\, 6 PM Ladies Bible Study
DESCRIPTION:6:00 PM Fellowship and snacks\n6:30 PM – 7:30 PM Bible Study
URL:https://www.indianlakeestatesinc.com/event/first-baptist-church-ile-ladies-ministry-bible-study-2/2027-10-25/
LOCATION:First Baptist Church
END:VEVENT
BEGIN:VEVENT
DTSTART;VALUE=DATE:20271101
DTEND;VALUE=DATE:20271102
DTSTAMP:20260422T073211
CREATED:20250903T152722Z
LAST-MODIFIED:20251201T201417Z
UID:10005799-1825027200-1825113599@www.indianlakeestatesinc.com
SUMMARY:First Baptist Church\, 6 PM Ladies Bible Study
DESCRIPTION:6:00 PM Fellowship and snacks\n6:30 PM – 7:30 PM Bible Study
URL:https://www.indianlakeestatesinc.com/event/first-baptist-church-ile-ladies-ministry-bible-study-2/2027-11-01/
LOCATION:First Baptist Church
END:VEVENT
BEGIN:VEVENT
DTSTART;VALUE=DATE:20271108
DTEND;VALUE=DATE:20271109
DTSTAMP:20260422T073211
CREATED:20250903T152722Z
LAST-MODIFIED:20251201T201417Z
UID:10005800-1825632000-1825718399@www.indianlakeestatesinc.com
SUMMARY:First Baptist Church\, 6 PM Ladies Bible Study
DESCRIPTION:6:00 PM Fellowship and snacks\n6:30 PM – 7:30 PM Bible Study
URL:https://www.indianlakeestatesinc.com/event/first-baptist-church-ile-ladies-ministry-bible-study-2/2027-11-08/
LOCATION:First Baptist Church
END:VEVENT
BEGIN:VEVENT
DTSTART;VALUE=DATE:20271115
DTEND;VALUE=DATE:20271116
DTSTAMP:20260422T073211
CREATED:20250903T152722Z
LAST-MODIFIED:20251201T201417Z
UID:10005801-1826236800-1826323199@www.indianlakeestatesinc.com
SUMMARY:First Baptist Church\, 6 PM Ladies Bible Study
DESCRIPTION:6:00 PM Fellowship and snacks\n6:30 PM – 7:30 PM Bible Study
URL:https://www.indianlakeestatesinc.com/event/first-baptist-church-ile-ladies-ministry-bible-study-2/2027-11-15/
LOCATION:First Baptist Church
END:VEVENT
BEGIN:VEVENT
DTSTART;VALUE=DATE:20271122
DTEND;VALUE=DATE:20271123
DTSTAMP:20260422T073211
CREATED:20250903T152722Z
LAST-MODIFIED:20251201T201417Z
UID:10005802-1826841600-1826927999@www.indianlakeestatesinc.com
SUMMARY:First Baptist Church\, 6 PM Ladies Bible Study
DESCRIPTION:6:00 PM Fellowship and snacks\n6:30 PM – 7:30 PM Bible Study
URL:https://www.indianlakeestatesinc.com/event/first-baptist-church-ile-ladies-ministry-bible-study-2/2027-11-22/
LOCATION:First Baptist Church
END:VEVENT
BEGIN:VEVENT
DTSTART;VALUE=DATE:20271129
DTEND;VALUE=DATE:20271130
DTSTAMP:20260422T073211
CREATED:20250903T152722Z
LAST-MODIFIED:20251201T201417Z
UID:10005803-1827446400-1827532799@www.indianlakeestatesinc.com
SUMMARY:First Baptist Church\, 6 PM Ladies Bible Study
DESCRIPTION:6:00 PM Fellowship and snacks\n6:30 PM – 7:30 PM Bible Study
URL:https://www.indianlakeestatesinc.com/event/first-baptist-church-ile-ladies-ministry-bible-study-2/2027-11-29/
LOCATION:First Baptist Church
END:VEVENT
BEGIN:VEVENT
DTSTART;VALUE=DATE:20271206
DTEND;VALUE=DATE:20271207
DTSTAMP:20260422T073211
CREATED:20250903T152722Z
LAST-MODIFIED:20251201T201417Z
UID:10005804-1828051200-1828137599@www.indianlakeestatesinc.com
SUMMARY:First Baptist Church\, 6 PM Ladies Bible Study
DESCRIPTION:6:00 PM Fellowship and snacks\n6:30 PM – 7:30 PM Bible Study
URL:https://www.indianlakeestatesinc.com/event/first-baptist-church-ile-ladies-ministry-bible-study-2/2027-12-06/
LOCATION:First Baptist Church
END:VEVENT
BEGIN:VEVENT
DTSTART;VALUE=DATE:20271213
DTEND;VALUE=DATE:20271214
DTSTAMP:20260422T073211
CREATED:20250903T152722Z
LAST-MODIFIED:20251201T201417Z
UID:10005805-1828656000-1828742399@www.indianlakeestatesinc.com
SUMMARY:First Baptist Church\, 6 PM Ladies Bible Study
DESCRIPTION:6:00 PM Fellowship and snacks\n6:30 PM – 7:30 PM Bible Study
URL:https://www.indianlakeestatesinc.com/event/first-baptist-church-ile-ladies-ministry-bible-study-2/2027-12-13/
LOCATION:First Baptist Church
END:VEVENT
BEGIN:VEVENT
DTSTART;VALUE=DATE:20271220
DTEND;VALUE=DATE:20271221
DTSTAMP:20260422T073211
CREATED:20250903T152722Z
LAST-MODIFIED:20251201T201417Z
UID:10005806-1829260800-1829347199@www.indianlakeestatesinc.com
SUMMARY:First Baptist Church\, 6 PM Ladies Bible Study
DESCRIPTION:6:00 PM Fellowship and snacks\n6:30 PM – 7:30 PM Bible Study
URL:https://www.indianlakeestatesinc.com/event/first-baptist-church-ile-ladies-ministry-bible-study-2/2027-12-20/
LOCATION:First Baptist Church
END:VEVENT
BEGIN:VEVENT
DTSTART;VALUE=DATE:20271227
DTEND;VALUE=DATE:20271228
DTSTAMP:20260422T073211
CREATED:20250903T152722Z
LAST-MODIFIED:20251201T201417Z
UID:10005807-1829865600-1829951999@www.indianlakeestatesinc.com
SUMMARY:First Baptist Church\, 6 PM Ladies Bible Study
DESCRIPTION:6:00 PM Fellowship and snacks\n6:30 PM – 7:30 PM Bible Study
URL:https://www.indianlakeestatesinc.com/event/first-baptist-church-ile-ladies-ministry-bible-study-2/2027-12-27/
LOCATION:First Baptist Church
END:VEVENT
BEGIN:VEVENT
DTSTART;VALUE=DATE:20280103
DTEND;VALUE=DATE:20280104
DTSTAMP:20260422T073211
CREATED:20250903T152722Z
LAST-MODIFIED:20251201T201417Z
UID:10005808-1830470400-1830556799@www.indianlakeestatesinc.com
SUMMARY:First Baptist Church\, 6 PM Ladies Bible Study
DESCRIPTION:6:00 PM Fellowship and snacks\n6:30 PM – 7:30 PM Bible Study
URL:https://www.indianlakeestatesinc.com/event/first-baptist-church-ile-ladies-ministry-bible-study-2/2028-01-03/
LOCATION:First Baptist Church
END:VEVENT
BEGIN:VEVENT
DTSTART;VALUE=DATE:20280110
DTEND;VALUE=DATE:20280111
DTSTAMP:20260422T073212
CREATED:20250903T152722Z
LAST-MODIFIED:20251201T201417Z
UID:10005809-1831075200-1831161599@www.indianlakeestatesinc.com
SUMMARY:First Baptist Church\, 6 PM Ladies Bible Study
DESCRIPTION:6:00 PM Fellowship and snacks\n6:30 PM – 7:30 PM Bible Study
URL:https://www.indianlakeestatesinc.com/event/first-baptist-church-ile-ladies-ministry-bible-study-2/2028-01-10/
LOCATION:First Baptist Church
END:VEVENT
END:VCALENDAR