BEGIN:VCALENDAR
VERSION:2.0
PRODID:-//Indian Lake Estates Golf &amp; Country Club - ECPv6.15.18//NONSGML v1.0//EN
CALSCALE:GREGORIAN
METHOD:PUBLISH
X-ORIGINAL-URL:https://www.indianlakeestatesinc.com
X-WR-CALDESC:Events for Indian Lake Estates Golf &amp; Country Club
REFRESH-INTERVAL;VALUE=DURATION:PT1H
X-Robots-Tag:noindex
X-PUBLISHED-TTL:PT1H
BEGIN:VTIMEZONE
TZID:America/New_York
BEGIN:DAYLIGHT
TZOFFSETFROM:-0500
TZOFFSETTO:-0400
TZNAME:EDT
DTSTART:20240310T070000
END:DAYLIGHT
BEGIN:STANDARD
TZOFFSETFROM:-0400
TZOFFSETTO:-0500
TZNAME:EST
DTSTART:20241103T060000
END:STANDARD
BEGIN:DAYLIGHT
TZOFFSETFROM:-0500
TZOFFSETTO:-0400
TZNAME:EDT
DTSTART:20250309T070000
END:DAYLIGHT
BEGIN:STANDARD
TZOFFSETFROM:-0400
TZOFFSETTO:-0500
TZNAME:EST
DTSTART:20251102T060000
END:STANDARD
BEGIN:DAYLIGHT
TZOFFSETFROM:-0500
TZOFFSETTO:-0400
TZNAME:EDT
DTSTART:20260308T070000
END:DAYLIGHT
BEGIN:STANDARD
TZOFFSETFROM:-0400
TZOFFSETTO:-0500
TZNAME:EST
DTSTART:20261101T060000
END:STANDARD
END:VTIMEZONE
BEGIN:VEVENT
DTSTART;TZID=America/New_York:20251226T070000
DTEND;TZID=America/New_York:20251226T220000
DTSTAMP:20260421T184134
CREATED:20251201T222213Z
LAST-MODIFIED:20251226T231232Z
UID:10007468-1766732400-1766786400@www.indianlakeestatesinc.com
SUMMARY:DJ Erica 7pm Karaoke Night!
DESCRIPTION:Come sing with DJ Erica!
URL:https://www.indianlakeestatesinc.com/event/dj-erica/2025-12-26/
LOCATION:19th Hole Bar & Grill\, 7510 Red Grange\, Indian lake Estates\, FL\, 33855\, United States
END:VEVENT
BEGIN:VEVENT
DTSTART;TZID=America/New_York:20251220T180000
DTEND;TZID=America/New_York:20251220T210000
DTSTAMP:20260421T184134
CREATED:20251201T211303Z
LAST-MODIFIED:20251202T171755Z
UID:10007475-1766253600-1766264400@www.indianlakeestatesinc.com
SUMMARY:Country Music Night - $5 cover
DESCRIPTION:The Straight-Shooter Band – Great Food & Drinks Available! Fun Line Dancing! \n \n  \n 
URL:https://www.indianlakeestatesinc.com/event/country-music-night-5-cover-2/2025-12-20/
LOCATION:Ballroom\, 7510 Red Grange\, Indian lake Estates\, FL\, 33855\, United States
END:VEVENT
BEGIN:VEVENT
DTSTART;TZID=America/New_York:20251219T070000
DTEND;TZID=America/New_York:20251219T220000
DTSTAMP:20260421T184134
CREATED:20251201T222213Z
LAST-MODIFIED:20251226T231232Z
UID:10007469-1766127600-1766181600@www.indianlakeestatesinc.com
SUMMARY:DJ Erica 7pm Karaoke Night!
DESCRIPTION:Come sing with DJ Erica!
URL:https://www.indianlakeestatesinc.com/event/dj-erica/2025-12-19/
LOCATION:19th Hole Bar & Grill\, 7510 Red Grange\, Indian lake Estates\, FL\, 33855\, United States
END:VEVENT
BEGIN:VEVENT
DTSTART;TZID=America/New_York:20251206T180000
DTEND;TZID=America/New_York:20251206T210000
DTSTAMP:20260421T184134
CREATED:20251201T211303Z
LAST-MODIFIED:20251202T171755Z
UID:10007474-1765044000-1765054800@www.indianlakeestatesinc.com
SUMMARY:Country Music Night - $5 cover
DESCRIPTION:The Straight-Shooter Band – Great Food & Drinks Available! Fun Line Dancing! \n \n  \n 
URL:https://www.indianlakeestatesinc.com/event/country-music-night-5-cover-2/2025-12-06/
LOCATION:Ballroom\, 7510 Red Grange\, Indian lake Estates\, FL\, 33855\, United States
END:VEVENT
BEGIN:VEVENT
DTSTART;TZID=America/New_York:20251205T070000
DTEND;TZID=America/New_York:20251205T220000
DTSTAMP:20260421T184134
CREATED:20251201T222213Z
LAST-MODIFIED:20251226T231232Z
UID:10007467-1764918000-1764972000@www.indianlakeestatesinc.com
SUMMARY:DJ Erica 7pm Karaoke Night!
DESCRIPTION:Come sing with DJ Erica!
URL:https://www.indianlakeestatesinc.com/event/dj-erica/2025-12-05/
LOCATION:19th Hole Bar & Grill\, 7510 Red Grange\, Indian lake Estates\, FL\, 33855\, United States
END:VEVENT
BEGIN:VEVENT
DTSTART;TZID=America/New_York:20251115T190000
DTEND;TZID=America/New_York:20251115T220000
DTSTAMP:20260421T184134
CREATED:20251008T015046Z
LAST-MODIFIED:20251029T183141Z
UID:10006782-1763233200-1763244000@www.indianlakeestatesinc.com
SUMMARY:DJ Duane Karaoke Saturday Night
DESCRIPTION:Come out to The 19th Hole for some Karaoke with DJ Duane. Enjoy some great food and drink specials while you’re there.
URL:https://www.indianlakeestatesinc.com/event/dj-duane-karaoke-saturday-night/2025-11-15/
LOCATION:19th Hole Bar & Grill\, 7510 Red Grange\, Indian lake Estates\, FL\, 33855\, United States
END:VEVENT
BEGIN:VEVENT
DTSTART;TZID=America/New_York:20251105T170000
DTEND;TZID=America/New_York:20251105T200000
DTSTAMP:20260421T184134
CREATED:20251008T015824Z
LAST-MODIFIED:20251029T235203Z
UID:10006866-1762362000-1762372800@www.indianlakeestatesinc.com
SUMMARY:Rick Arnold
DESCRIPTION:Live Music and Dance \n 
URL:https://www.indianlakeestatesinc.com/event/rick-arnold/2025-11-05/
LOCATION:19th Hole Bar & Grill\, 7510 Red Grange\, Indian lake Estates\, FL\, 33855\, United States
END:VEVENT
BEGIN:VEVENT
DTSTART;TZID=America/New_York:20251024T190000
DTEND;TZID=America/New_York:20251024T220000
DTSTAMP:20260421T184134
CREATED:20251008T013703Z
LAST-MODIFIED:20251008T013703Z
UID:10004112-1761332400-1761343200@www.indianlakeestatesinc.com
SUMMARY:KARAOKE with DJ Erika - Oct
DESCRIPTION:Come join the vibes a sing with DJ Erika at the 19th Hole!
URL:https://www.indianlakeestatesinc.com/event/karaoke-with-dj-erika-oct/2025-10-24/
LOCATION:19th Hole Bar & Grill\, 7510 Red Grange\, Indian lake Estates\, FL\, 33855\, United States
END:VEVENT
BEGIN:VEVENT
DTSTART;TZID=America/New_York:20251018T180000
DTEND;TZID=America/New_York:20251018T210000
DTSTAMP:20260421T184134
CREATED:20251008T015824Z
LAST-MODIFIED:20251029T235203Z
UID:10004117-1760810400-1760821200@www.indianlakeestatesinc.com
SUMMARY:Rick Arnold
DESCRIPTION:Live Music and Dance \n 
URL:https://www.indianlakeestatesinc.com/event/rick-arnold/2025-10-18/
LOCATION:19th Hole Bar & Grill\, 7510 Red Grange\, Indian lake Estates\, FL\, 33855\, United States
END:VEVENT
BEGIN:VEVENT
DTSTART;TZID=America/New_York:20251011T190000
DTEND;TZID=America/New_York:20251011T220000
DTSTAMP:20260421T184134
CREATED:20251008T015046Z
LAST-MODIFIED:20251029T183141Z
UID:10004116-1760209200-1760220000@www.indianlakeestatesinc.com
SUMMARY:DJ Duane Karaoke Saturday Night
DESCRIPTION:Come out to The 19th Hole for some Karaoke with DJ Duane. Enjoy some great food and drink specials while you’re there.
URL:https://www.indianlakeestatesinc.com/event/dj-duane-karaoke-saturday-night/2025-10-11/
LOCATION:19th Hole Bar & Grill\, 7510 Red Grange\, Indian lake Estates\, FL\, 33855\, United States
END:VEVENT
BEGIN:VEVENT
DTSTART;TZID=America/New_York:20251011T180000
DTEND;TZID=America/New_York:20251011T210000
DTSTAMP:20260421T184134
CREATED:20250925T143630Z
LAST-MODIFIED:20250925T144036Z
UID:10004100-1760205600-1760216400@www.indianlakeestatesinc.com
SUMMARY:Country Music Night - $5 cover
DESCRIPTION:The Straight-Shooter Band – Great Food & Drinks Available!
URL:https://www.indianlakeestatesinc.com/event/country-music-night/
LOCATION:Ballroom\, 7510 Red Grange\, Indian lake Estates\, FL\, 33855\, United States
END:VEVENT
BEGIN:VEVENT
DTSTART;TZID=America/New_York:20251008T170000
DTEND;TZID=America/New_York:20251008T200000
DTSTAMP:20260421T184134
CREATED:20251008T020024Z
LAST-MODIFIED:20251008T020024Z
UID:10004118-1759942800-1759953600@www.indianlakeestatesinc.com
SUMMARY:The Reason's
DESCRIPTION:
URL:https://www.indianlakeestatesinc.com/event/the-reasons/
LOCATION:19th Hole Bar & Grill\, 7510 Red Grange\, Indian lake Estates\, FL\, 33855\, United States
END:VEVENT
BEGIN:VEVENT
DTSTART;TZID=America/New_York:20251003T190000
DTEND;TZID=America/New_York:20251003T220000
DTSTAMP:20260421T184134
CREATED:20251008T013703Z
LAST-MODIFIED:20251008T013703Z
UID:10004111-1759518000-1759528800@www.indianlakeestatesinc.com
SUMMARY:KARAOKE with DJ Erika - Oct
DESCRIPTION:Come join the vibes a sing with DJ Erika at the 19th Hole!
URL:https://www.indianlakeestatesinc.com/event/karaoke-with-dj-erika-oct/2025-10-03/
LOCATION:19th Hole Bar & Grill\, 7510 Red Grange\, Indian lake Estates\, FL\, 33855\, United States
END:VEVENT
END:VCALENDAR