BEGIN:VCALENDAR
VERSION:2.0
PRODID:-//Indian Lake Estates Golf &amp; Country Club - ECPv6.15.18//NONSGML v1.0//EN
CALSCALE:GREGORIAN
METHOD:PUBLISH
X-WR-CALNAME:Indian Lake Estates Golf &amp; Country Club
X-ORIGINAL-URL:https://www.indianlakeestatesinc.com
X-WR-CALDESC:Events for Indian Lake Estates Golf &amp; Country Club
REFRESH-INTERVAL;VALUE=DURATION:PT1H
X-Robots-Tag:noindex
X-PUBLISHED-TTL:PT1H
BEGIN:VTIMEZONE
TZID:America/New_York
BEGIN:DAYLIGHT
TZOFFSETFROM:-0500
TZOFFSETTO:-0400
TZNAME:EDT
DTSTART:20270314T070000
END:DAYLIGHT
BEGIN:STANDARD
TZOFFSETFROM:-0400
TZOFFSETTO:-0500
TZNAME:EST
DTSTART:20271107T060000
END:STANDARD
BEGIN:DAYLIGHT
TZOFFSETFROM:-0500
TZOFFSETTO:-0400
TZNAME:EDT
DTSTART:20280312T070000
END:DAYLIGHT
BEGIN:STANDARD
TZOFFSETFROM:-0400
TZOFFSETTO:-0500
TZNAME:EST
DTSTART:20281105T060000
END:STANDARD
BEGIN:DAYLIGHT
TZOFFSETFROM:-0500
TZOFFSETTO:-0400
TZNAME:EDT
DTSTART:20290311T070000
END:DAYLIGHT
BEGIN:STANDARD
TZOFFSETFROM:-0400
TZOFFSETTO:-0500
TZNAME:EST
DTSTART:20291104T060000
END:STANDARD
BEGIN:DAYLIGHT
TZOFFSETFROM:-0500
TZOFFSETTO:-0400
TZNAME:EDT
DTSTART:20300310T070000
END:DAYLIGHT
BEGIN:STANDARD
TZOFFSETFROM:-0400
TZOFFSETTO:-0500
TZNAME:EST
DTSTART:20301103T060000
END:STANDARD
END:VTIMEZONE
BEGIN:VEVENT
DTSTART;VALUE=DATE:20281010
DTEND;VALUE=DATE:20281011
DTSTAMP:20260422T002602
CREATED:20250903T181126Z
LAST-MODIFIED:20260103T181622Z
UID:10004962-1854748800-1854835199@www.indianlakeestatesinc.com
SUMMARY:Hand & Foot Card Grp 12PM - Clubhouse Ballroom
DESCRIPTION:
URL:https://www.indianlakeestatesinc.com/event/hand-foot-card-group-clubhouse-ballroom/2028-10-10/
LOCATION:Ballroom\, 7510 Red Grange\, Indian lake Estates\, FL\, 33855\, United States
END:VEVENT
BEGIN:VEVENT
DTSTART;VALUE=DATE:20281017
DTEND;VALUE=DATE:20281018
DTSTAMP:20260422T002602
CREATED:20250903T181126Z
LAST-MODIFIED:20260103T181622Z
UID:10004963-1855353600-1855439999@www.indianlakeestatesinc.com
SUMMARY:Hand & Foot Card Grp 12PM - Clubhouse Ballroom
DESCRIPTION:
URL:https://www.indianlakeestatesinc.com/event/hand-foot-card-group-clubhouse-ballroom/2028-10-17/
LOCATION:Ballroom\, 7510 Red Grange\, Indian lake Estates\, FL\, 33855\, United States
END:VEVENT
BEGIN:VEVENT
DTSTART;VALUE=DATE:20281024
DTEND;VALUE=DATE:20281025
DTSTAMP:20260422T002602
CREATED:20250903T181126Z
LAST-MODIFIED:20260103T181622Z
UID:10004964-1855958400-1856044799@www.indianlakeestatesinc.com
SUMMARY:Hand & Foot Card Grp 12PM - Clubhouse Ballroom
DESCRIPTION:
URL:https://www.indianlakeestatesinc.com/event/hand-foot-card-group-clubhouse-ballroom/2028-10-24/
LOCATION:Ballroom\, 7510 Red Grange\, Indian lake Estates\, FL\, 33855\, United States
END:VEVENT
BEGIN:VEVENT
DTSTART;VALUE=DATE:20281031
DTEND;VALUE=DATE:20281101
DTSTAMP:20260422T002602
CREATED:20250903T181126Z
LAST-MODIFIED:20260103T181622Z
UID:10004965-1856563200-1856649599@www.indianlakeestatesinc.com
SUMMARY:Hand & Foot Card Grp 12PM - Clubhouse Ballroom
DESCRIPTION:
URL:https://www.indianlakeestatesinc.com/event/hand-foot-card-group-clubhouse-ballroom/2028-10-31/
LOCATION:Ballroom\, 7510 Red Grange\, Indian lake Estates\, FL\, 33855\, United States
END:VEVENT
BEGIN:VEVENT
DTSTART;VALUE=DATE:20281107
DTEND;VALUE=DATE:20281108
DTSTAMP:20260422T002602
CREATED:20250903T181126Z
LAST-MODIFIED:20260103T181622Z
UID:10004966-1857168000-1857254399@www.indianlakeestatesinc.com
SUMMARY:Hand & Foot Card Grp 12PM - Clubhouse Ballroom
DESCRIPTION:
URL:https://www.indianlakeestatesinc.com/event/hand-foot-card-group-clubhouse-ballroom/2028-11-07/
LOCATION:Ballroom\, 7510 Red Grange\, Indian lake Estates\, FL\, 33855\, United States
END:VEVENT
BEGIN:VEVENT
DTSTART;VALUE=DATE:20281114
DTEND;VALUE=DATE:20281115
DTSTAMP:20260422T002602
CREATED:20250903T181126Z
LAST-MODIFIED:20260103T181622Z
UID:10004967-1857772800-1857859199@www.indianlakeestatesinc.com
SUMMARY:Hand & Foot Card Grp 12PM - Clubhouse Ballroom
DESCRIPTION:
URL:https://www.indianlakeestatesinc.com/event/hand-foot-card-group-clubhouse-ballroom/2028-11-14/
LOCATION:Ballroom\, 7510 Red Grange\, Indian lake Estates\, FL\, 33855\, United States
END:VEVENT
BEGIN:VEVENT
DTSTART;VALUE=DATE:20281121
DTEND;VALUE=DATE:20281122
DTSTAMP:20260422T002602
CREATED:20250903T181126Z
LAST-MODIFIED:20260103T181622Z
UID:10004968-1858377600-1858463999@www.indianlakeestatesinc.com
SUMMARY:Hand & Foot Card Grp 12PM - Clubhouse Ballroom
DESCRIPTION:
URL:https://www.indianlakeestatesinc.com/event/hand-foot-card-group-clubhouse-ballroom/2028-11-21/
LOCATION:Ballroom\, 7510 Red Grange\, Indian lake Estates\, FL\, 33855\, United States
END:VEVENT
BEGIN:VEVENT
DTSTART;VALUE=DATE:20281128
DTEND;VALUE=DATE:20281129
DTSTAMP:20260422T002602
CREATED:20250903T181126Z
LAST-MODIFIED:20260103T181622Z
UID:10004969-1858982400-1859068799@www.indianlakeestatesinc.com
SUMMARY:Hand & Foot Card Grp 12PM - Clubhouse Ballroom
DESCRIPTION:
URL:https://www.indianlakeestatesinc.com/event/hand-foot-card-group-clubhouse-ballroom/2028-11-28/
LOCATION:Ballroom\, 7510 Red Grange\, Indian lake Estates\, FL\, 33855\, United States
END:VEVENT
BEGIN:VEVENT
DTSTART;VALUE=DATE:20281205
DTEND;VALUE=DATE:20281206
DTSTAMP:20260422T002602
CREATED:20250903T181126Z
LAST-MODIFIED:20260103T181622Z
UID:10004970-1859587200-1859673599@www.indianlakeestatesinc.com
SUMMARY:Hand & Foot Card Grp 12PM - Clubhouse Ballroom
DESCRIPTION:
URL:https://www.indianlakeestatesinc.com/event/hand-foot-card-group-clubhouse-ballroom/2028-12-05/
LOCATION:Ballroom\, 7510 Red Grange\, Indian lake Estates\, FL\, 33855\, United States
END:VEVENT
BEGIN:VEVENT
DTSTART;VALUE=DATE:20281212
DTEND;VALUE=DATE:20281213
DTSTAMP:20260422T002602
CREATED:20250903T181126Z
LAST-MODIFIED:20260103T181622Z
UID:10004971-1860192000-1860278399@www.indianlakeestatesinc.com
SUMMARY:Hand & Foot Card Grp 12PM - Clubhouse Ballroom
DESCRIPTION:
URL:https://www.indianlakeestatesinc.com/event/hand-foot-card-group-clubhouse-ballroom/2028-12-12/
LOCATION:Ballroom\, 7510 Red Grange\, Indian lake Estates\, FL\, 33855\, United States
END:VEVENT
BEGIN:VEVENT
DTSTART;VALUE=DATE:20281219
DTEND;VALUE=DATE:20281220
DTSTAMP:20260422T002602
CREATED:20250903T181126Z
LAST-MODIFIED:20260103T181622Z
UID:10004972-1860796800-1860883199@www.indianlakeestatesinc.com
SUMMARY:Hand & Foot Card Grp 12PM - Clubhouse Ballroom
DESCRIPTION:
URL:https://www.indianlakeestatesinc.com/event/hand-foot-card-group-clubhouse-ballroom/2028-12-19/
LOCATION:Ballroom\, 7510 Red Grange\, Indian lake Estates\, FL\, 33855\, United States
END:VEVENT
BEGIN:VEVENT
DTSTART;VALUE=DATE:20281226
DTEND;VALUE=DATE:20281227
DTSTAMP:20260422T002602
CREATED:20250903T181126Z
LAST-MODIFIED:20260103T181622Z
UID:10004973-1861401600-1861487999@www.indianlakeestatesinc.com
SUMMARY:Hand & Foot Card Grp 12PM - Clubhouse Ballroom
DESCRIPTION:
URL:https://www.indianlakeestatesinc.com/event/hand-foot-card-group-clubhouse-ballroom/2028-12-26/
LOCATION:Ballroom\, 7510 Red Grange\, Indian lake Estates\, FL\, 33855\, United States
END:VEVENT
BEGIN:VEVENT
DTSTART;VALUE=DATE:20290102
DTEND;VALUE=DATE:20290103
DTSTAMP:20260422T002602
CREATED:20250903T181126Z
LAST-MODIFIED:20260103T181622Z
UID:10004974-1862006400-1862092799@www.indianlakeestatesinc.com
SUMMARY:Hand & Foot Card Grp 12PM - Clubhouse Ballroom
DESCRIPTION:
URL:https://www.indianlakeestatesinc.com/event/hand-foot-card-group-clubhouse-ballroom/2029-01-02/
LOCATION:Ballroom\, 7510 Red Grange\, Indian lake Estates\, FL\, 33855\, United States
END:VEVENT
BEGIN:VEVENT
DTSTART;VALUE=DATE:20290109
DTEND;VALUE=DATE:20290110
DTSTAMP:20260422T002602
CREATED:20250903T181126Z
LAST-MODIFIED:20260103T181622Z
UID:10004975-1862611200-1862697599@www.indianlakeestatesinc.com
SUMMARY:Hand & Foot Card Grp 12PM - Clubhouse Ballroom
DESCRIPTION:
URL:https://www.indianlakeestatesinc.com/event/hand-foot-card-group-clubhouse-ballroom/2029-01-09/
LOCATION:Ballroom\, 7510 Red Grange\, Indian lake Estates\, FL\, 33855\, United States
END:VEVENT
BEGIN:VEVENT
DTSTART;VALUE=DATE:20290116
DTEND;VALUE=DATE:20290117
DTSTAMP:20260422T002602
CREATED:20250903T181126Z
LAST-MODIFIED:20260103T181622Z
UID:10004976-1863216000-1863302399@www.indianlakeestatesinc.com
SUMMARY:Hand & Foot Card Grp 12PM - Clubhouse Ballroom
DESCRIPTION:
URL:https://www.indianlakeestatesinc.com/event/hand-foot-card-group-clubhouse-ballroom/2029-01-16/
LOCATION:Ballroom\, 7510 Red Grange\, Indian lake Estates\, FL\, 33855\, United States
END:VEVENT
BEGIN:VEVENT
DTSTART;VALUE=DATE:20290123
DTEND;VALUE=DATE:20290124
DTSTAMP:20260422T002602
CREATED:20250903T181126Z
LAST-MODIFIED:20260103T181622Z
UID:10004977-1863820800-1863907199@www.indianlakeestatesinc.com
SUMMARY:Hand & Foot Card Grp 12PM - Clubhouse Ballroom
DESCRIPTION:
URL:https://www.indianlakeestatesinc.com/event/hand-foot-card-group-clubhouse-ballroom/2029-01-23/
LOCATION:Ballroom\, 7510 Red Grange\, Indian lake Estates\, FL\, 33855\, United States
END:VEVENT
BEGIN:VEVENT
DTSTART;VALUE=DATE:20290130
DTEND;VALUE=DATE:20290131
DTSTAMP:20260422T002602
CREATED:20250903T181126Z
LAST-MODIFIED:20260103T181622Z
UID:10004978-1864425600-1864511999@www.indianlakeestatesinc.com
SUMMARY:Hand & Foot Card Grp 12PM - Clubhouse Ballroom
DESCRIPTION:
URL:https://www.indianlakeestatesinc.com/event/hand-foot-card-group-clubhouse-ballroom/2029-01-30/
LOCATION:Ballroom\, 7510 Red Grange\, Indian lake Estates\, FL\, 33855\, United States
END:VEVENT
BEGIN:VEVENT
DTSTART;VALUE=DATE:20290206
DTEND;VALUE=DATE:20290207
DTSTAMP:20260422T002602
CREATED:20250903T181126Z
LAST-MODIFIED:20260103T181622Z
UID:10004979-1865030400-1865116799@www.indianlakeestatesinc.com
SUMMARY:Hand & Foot Card Grp 12PM - Clubhouse Ballroom
DESCRIPTION:
URL:https://www.indianlakeestatesinc.com/event/hand-foot-card-group-clubhouse-ballroom/2029-02-06/
LOCATION:Ballroom\, 7510 Red Grange\, Indian lake Estates\, FL\, 33855\, United States
END:VEVENT
BEGIN:VEVENT
DTSTART;VALUE=DATE:20290213
DTEND;VALUE=DATE:20290214
DTSTAMP:20260422T002602
CREATED:20250903T181126Z
LAST-MODIFIED:20260103T181622Z
UID:10004980-1865635200-1865721599@www.indianlakeestatesinc.com
SUMMARY:Hand & Foot Card Grp 12PM - Clubhouse Ballroom
DESCRIPTION:
URL:https://www.indianlakeestatesinc.com/event/hand-foot-card-group-clubhouse-ballroom/2029-02-13/
LOCATION:Ballroom\, 7510 Red Grange\, Indian lake Estates\, FL\, 33855\, United States
END:VEVENT
BEGIN:VEVENT
DTSTART;VALUE=DATE:20290220
DTEND;VALUE=DATE:20290221
DTSTAMP:20260422T002602
CREATED:20250903T181126Z
LAST-MODIFIED:20260103T181622Z
UID:10004981-1866240000-1866326399@www.indianlakeestatesinc.com
SUMMARY:Hand & Foot Card Grp 12PM - Clubhouse Ballroom
DESCRIPTION:
URL:https://www.indianlakeestatesinc.com/event/hand-foot-card-group-clubhouse-ballroom/2029-02-20/
LOCATION:Ballroom\, 7510 Red Grange\, Indian lake Estates\, FL\, 33855\, United States
END:VEVENT
BEGIN:VEVENT
DTSTART;VALUE=DATE:20290227
DTEND;VALUE=DATE:20290228
DTSTAMP:20260422T002602
CREATED:20250903T181126Z
LAST-MODIFIED:20260103T181622Z
UID:10004982-1866844800-1866931199@www.indianlakeestatesinc.com
SUMMARY:Hand & Foot Card Grp 12PM - Clubhouse Ballroom
DESCRIPTION:
URL:https://www.indianlakeestatesinc.com/event/hand-foot-card-group-clubhouse-ballroom/2029-02-27/
LOCATION:Ballroom\, 7510 Red Grange\, Indian lake Estates\, FL\, 33855\, United States
END:VEVENT
BEGIN:VEVENT
DTSTART;VALUE=DATE:20290306
DTEND;VALUE=DATE:20290307
DTSTAMP:20260422T002602
CREATED:20250903T181126Z
LAST-MODIFIED:20260103T181622Z
UID:10004983-1867449600-1867535999@www.indianlakeestatesinc.com
SUMMARY:Hand & Foot Card Grp 12PM - Clubhouse Ballroom
DESCRIPTION:
URL:https://www.indianlakeestatesinc.com/event/hand-foot-card-group-clubhouse-ballroom/2029-03-06/
LOCATION:Ballroom\, 7510 Red Grange\, Indian lake Estates\, FL\, 33855\, United States
END:VEVENT
BEGIN:VEVENT
DTSTART;VALUE=DATE:20290313
DTEND;VALUE=DATE:20290314
DTSTAMP:20260422T002602
CREATED:20250903T181126Z
LAST-MODIFIED:20260103T181622Z
UID:10004984-1868054400-1868140799@www.indianlakeestatesinc.com
SUMMARY:Hand & Foot Card Grp 12PM - Clubhouse Ballroom
DESCRIPTION:
URL:https://www.indianlakeestatesinc.com/event/hand-foot-card-group-clubhouse-ballroom/2029-03-13/
LOCATION:Ballroom\, 7510 Red Grange\, Indian lake Estates\, FL\, 33855\, United States
END:VEVENT
BEGIN:VEVENT
DTSTART;VALUE=DATE:20290320
DTEND;VALUE=DATE:20290321
DTSTAMP:20260422T002602
CREATED:20250903T181126Z
LAST-MODIFIED:20260103T181622Z
UID:10004985-1868659200-1868745599@www.indianlakeestatesinc.com
SUMMARY:Hand & Foot Card Grp 12PM - Clubhouse Ballroom
DESCRIPTION:
URL:https://www.indianlakeestatesinc.com/event/hand-foot-card-group-clubhouse-ballroom/2029-03-20/
LOCATION:Ballroom\, 7510 Red Grange\, Indian lake Estates\, FL\, 33855\, United States
END:VEVENT
BEGIN:VEVENT
DTSTART;VALUE=DATE:20290327
DTEND;VALUE=DATE:20290328
DTSTAMP:20260422T002602
CREATED:20250903T181126Z
LAST-MODIFIED:20260103T181622Z
UID:10004986-1869264000-1869350399@www.indianlakeestatesinc.com
SUMMARY:Hand & Foot Card Grp 12PM - Clubhouse Ballroom
DESCRIPTION:
URL:https://www.indianlakeestatesinc.com/event/hand-foot-card-group-clubhouse-ballroom/2029-03-27/
LOCATION:Ballroom\, 7510 Red Grange\, Indian lake Estates\, FL\, 33855\, United States
END:VEVENT
BEGIN:VEVENT
DTSTART;VALUE=DATE:20290403
DTEND;VALUE=DATE:20290404
DTSTAMP:20260422T002602
CREATED:20250903T181126Z
LAST-MODIFIED:20260103T181622Z
UID:10004987-1869868800-1869955199@www.indianlakeestatesinc.com
SUMMARY:Hand & Foot Card Grp 12PM - Clubhouse Ballroom
DESCRIPTION:
URL:https://www.indianlakeestatesinc.com/event/hand-foot-card-group-clubhouse-ballroom/2029-04-03/
LOCATION:Ballroom\, 7510 Red Grange\, Indian lake Estates\, FL\, 33855\, United States
END:VEVENT
BEGIN:VEVENT
DTSTART;VALUE=DATE:20290410
DTEND;VALUE=DATE:20290411
DTSTAMP:20260422T002602
CREATED:20250903T181126Z
LAST-MODIFIED:20260103T181622Z
UID:10004988-1870473600-1870559999@www.indianlakeestatesinc.com
SUMMARY:Hand & Foot Card Grp 12PM - Clubhouse Ballroom
DESCRIPTION:
URL:https://www.indianlakeestatesinc.com/event/hand-foot-card-group-clubhouse-ballroom/2029-04-10/
LOCATION:Ballroom\, 7510 Red Grange\, Indian lake Estates\, FL\, 33855\, United States
END:VEVENT
BEGIN:VEVENT
DTSTART;VALUE=DATE:20290417
DTEND;VALUE=DATE:20290418
DTSTAMP:20260422T002602
CREATED:20250903T181126Z
LAST-MODIFIED:20260103T181622Z
UID:10004989-1871078400-1871164799@www.indianlakeestatesinc.com
SUMMARY:Hand & Foot Card Grp 12PM - Clubhouse Ballroom
DESCRIPTION:
URL:https://www.indianlakeestatesinc.com/event/hand-foot-card-group-clubhouse-ballroom/2029-04-17/
LOCATION:Ballroom\, 7510 Red Grange\, Indian lake Estates\, FL\, 33855\, United States
END:VEVENT
BEGIN:VEVENT
DTSTART;VALUE=DATE:20290424
DTEND;VALUE=DATE:20290425
DTSTAMP:20260422T002602
CREATED:20250903T181126Z
LAST-MODIFIED:20260103T181622Z
UID:10004990-1871683200-1871769599@www.indianlakeestatesinc.com
SUMMARY:Hand & Foot Card Grp 12PM - Clubhouse Ballroom
DESCRIPTION:
URL:https://www.indianlakeestatesinc.com/event/hand-foot-card-group-clubhouse-ballroom/2029-04-24/
LOCATION:Ballroom\, 7510 Red Grange\, Indian lake Estates\, FL\, 33855\, United States
END:VEVENT
BEGIN:VEVENT
DTSTART;VALUE=DATE:20290501
DTEND;VALUE=DATE:20290502
DTSTAMP:20260422T002602
CREATED:20250903T181126Z
LAST-MODIFIED:20260103T181622Z
UID:10004991-1872288000-1872374399@www.indianlakeestatesinc.com
SUMMARY:Hand & Foot Card Grp 12PM - Clubhouse Ballroom
DESCRIPTION:
URL:https://www.indianlakeestatesinc.com/event/hand-foot-card-group-clubhouse-ballroom/2029-05-01/
LOCATION:Ballroom\, 7510 Red Grange\, Indian lake Estates\, FL\, 33855\, United States
END:VEVENT
END:VCALENDAR