BEGIN:VCALENDAR
VERSION:2.0
PRODID:-//Indian Lake Estates Golf &amp; Country Club - ECPv6.15.18//NONSGML v1.0//EN
CALSCALE:GREGORIAN
METHOD:PUBLISH
X-WR-CALNAME:Indian Lake Estates Golf &amp; Country Club
X-ORIGINAL-URL:https://www.indianlakeestatesinc.com
X-WR-CALDESC:Events for Indian Lake Estates Golf &amp; Country Club
REFRESH-INTERVAL;VALUE=DURATION:PT1H
X-Robots-Tag:noindex
X-PUBLISHED-TTL:PT1H
BEGIN:VTIMEZONE
TZID:America/New_York
BEGIN:DAYLIGHT
TZOFFSETFROM:-0500
TZOFFSETTO:-0400
TZNAME:EDT
DTSTART:20240310T070000
END:DAYLIGHT
BEGIN:STANDARD
TZOFFSETFROM:-0400
TZOFFSETTO:-0500
TZNAME:EST
DTSTART:20241103T060000
END:STANDARD
BEGIN:DAYLIGHT
TZOFFSETFROM:-0500
TZOFFSETTO:-0400
TZNAME:EDT
DTSTART:20250309T070000
END:DAYLIGHT
BEGIN:STANDARD
TZOFFSETFROM:-0400
TZOFFSETTO:-0500
TZNAME:EST
DTSTART:20251102T060000
END:STANDARD
BEGIN:DAYLIGHT
TZOFFSETFROM:-0500
TZOFFSETTO:-0400
TZNAME:EDT
DTSTART:20260308T070000
END:DAYLIGHT
BEGIN:STANDARD
TZOFFSETFROM:-0400
TZOFFSETTO:-0500
TZNAME:EST
DTSTART:20261101T060000
END:STANDARD
END:VTIMEZONE
BEGIN:VEVENT
DTSTART;TZID=America/New_York:20250924T190000
DTEND;TZID=America/New_York:20250924T200000
DTSTAMP:20260421T102016
CREATED:20250903T180010Z
LAST-MODIFIED:20250903T195202Z
UID:10003393-1758740400-1758744000@www.indianlakeestatesinc.com
SUMMARY:Sound Bath Relaxation & Meditation
DESCRIPTION:
URL:https://www.indianlakeestatesinc.com/event/sound-bath-relaxation-meditation/
LOCATION:Ballroom\, 7510 Red Grange\, Indian lake Estates\, FL\, 33855\, United States
END:VEVENT
BEGIN:VEVENT
DTSTART;VALUE=DATE:20250923
DTEND;VALUE=DATE:20250924
DTSTAMP:20260421T102016
CREATED:20250903T181126Z
LAST-MODIFIED:20260103T181622Z
UID:10004803-1758585600-1758671999@www.indianlakeestatesinc.com
SUMMARY:Hand & Foot Card Grp 12PM - Clubhouse Ballroom
DESCRIPTION:
URL:https://www.indianlakeestatesinc.com/event/hand-foot-card-group-clubhouse-ballroom/2025-09-23/
LOCATION:Ballroom\, 7510 Red Grange\, Indian lake Estates\, FL\, 33855\, United States
END:VEVENT
BEGIN:VEVENT
DTSTART;TZID=America/New_York:20250920T100000
DTEND;TZID=America/New_York:20250920T100000
DTSTAMP:20260421T102016
CREATED:20250903T192856Z
LAST-MODIFIED:20250903T192856Z
UID:10004082-1758362400-1758362400@www.indianlakeestatesinc.com
SUMMARY:YOGA FOR ALL
DESCRIPTION:ILE Members\, join free \nBring water\, comfortable clothes and yoga map or towel. \nFor questions; Serina @ Cup of Soil Yoga (605)940-1010
URL:https://www.indianlakeestatesinc.com/event/yoga-for-all/
LOCATION:Ballroom\, 7510 Red Grange\, Indian lake Estates\, FL\, 33855\, United States
END:VEVENT
BEGIN:VEVENT
DTSTART;VALUE=DATE:20250916
DTEND;VALUE=DATE:20250917
DTSTAMP:20260421T102016
CREATED:20250903T181126Z
LAST-MODIFIED:20260103T181622Z
UID:10004802-1757980800-1758067199@www.indianlakeestatesinc.com
SUMMARY:Hand & Foot Card Grp 12PM - Clubhouse Ballroom
DESCRIPTION:
URL:https://www.indianlakeestatesinc.com/event/hand-foot-card-group-clubhouse-ballroom/2025-09-16/
LOCATION:Ballroom\, 7510 Red Grange\, Indian lake Estates\, FL\, 33855\, United States
END:VEVENT
BEGIN:VEVENT
DTSTART;TZID=America/New_York:20250913T150000
DTEND;TZID=America/New_York:20250913T190000
DTSTAMP:20260421T102016
CREATED:20250613T132041Z
LAST-MODIFIED:20250617T210053Z
UID:10000425-1757775600-1757790000@www.indianlakeestatesinc.com
SUMMARY:ILE Yacht Club Pizza Party
DESCRIPTION:ILE Yacht Club Members only must show your membership card.
URL:https://www.indianlakeestatesinc.com/event/ile-yacht-club-pizza-party/
LOCATION:Ballroom\, 7510 Red Grange\, Indian lake Estates\, FL\, 33855\, United States
END:VEVENT
BEGIN:VEVENT
DTSTART;VALUE=DATE:20250909
DTEND;VALUE=DATE:20250910
DTSTAMP:20260421T102016
CREATED:20250903T181126Z
LAST-MODIFIED:20260103T181622Z
UID:10004801-1757376000-1757462399@www.indianlakeestatesinc.com
SUMMARY:Hand & Foot Card Grp 12PM - Clubhouse Ballroom
DESCRIPTION:
URL:https://www.indianlakeestatesinc.com/event/hand-foot-card-group-clubhouse-ballroom/2025-09-09/
LOCATION:Ballroom\, 7510 Red Grange\, Indian lake Estates\, FL\, 33855\, United States
END:VEVENT
BEGIN:VEVENT
DTSTART;TZID=America/New_York:20250907T110000
DTEND;TZID=America/New_York:20250907T143000
DTSTAMP:20260421T102016
CREATED:20250903T190753Z
LAST-MODIFIED:20250913T152753Z
UID:10004019-1757242800-1757255400@www.indianlakeestatesinc.com
SUMMARY:BINGO!!!
DESCRIPTION:DOORS OPEN @ 11AM  —–  GAMES BEGIN PROMPTLY @ NOON! \n$1 snack bar serving hot dogs\, soda\, bottled water\, chips\, & ice cream! \nSeats for players only – 18 or older. $10 min to play – Join for the fun 🙂
URL:https://www.indianlakeestatesinc.com/event/bingo-5/2025-09-07/
LOCATION:Ballroom\, 7510 Red Grange\, Indian lake Estates\, FL\, 33855\, United States
END:VEVENT
BEGIN:VEVENT
DTSTART;VALUE=DATE:20250902
DTEND;VALUE=DATE:20250903
DTSTAMP:20260421T102016
CREATED:20250903T181126Z
LAST-MODIFIED:20260103T181622Z
UID:10004800-1756771200-1756857599@www.indianlakeestatesinc.com
SUMMARY:Hand & Foot Card Grp 12PM - Clubhouse Ballroom
DESCRIPTION:
URL:https://www.indianlakeestatesinc.com/event/hand-foot-card-group-clubhouse-ballroom/2025-09-02/
LOCATION:Ballroom\, 7510 Red Grange\, Indian lake Estates\, FL\, 33855\, United States
END:VEVENT
BEGIN:VEVENT
DTSTART;TZID=America/New_York:20250831T110000
DTEND;TZID=America/New_York:20250831T150000
DTSTAMP:20260421T102016
CREATED:20250722T161820Z
LAST-MODIFIED:20250723T134803Z
UID:10000830-1756638000-1756652400@www.indianlakeestatesinc.com
SUMMARY:BINGO
DESCRIPTION:
URL:https://www.indianlakeestatesinc.com/event/bingo-3/2025-08-31/
LOCATION:Ballroom\, 7510 Red Grange\, Indian lake Estates\, FL\, 33855\, United States
END:VEVENT
BEGIN:VEVENT
DTSTART;TZID=America/New_York:20250827T190000
DTEND;TZID=America/New_York:20250827T200000
DTSTAMP:20260421T102016
CREATED:20250530T173108Z
LAST-MODIFIED:20250530T173406Z
UID:10000412-1756321200-1756324800@www.indianlakeestatesinc.com
SUMMARY:Meditation
DESCRIPTION:Meditation is a way to relax your mind and body.
URL:https://www.indianlakeestatesinc.com/event/meditation/2025-08-27/
LOCATION:Ballroom\, 7510 Red Grange\, Indian lake Estates\, FL\, 33855\, United States
END:VEVENT
BEGIN:VEVENT
DTSTART;VALUE=DATE:20250826
DTEND;VALUE=DATE:20250827
DTSTAMP:20260421T102016
CREATED:20250903T181126Z
LAST-MODIFIED:20260103T181622Z
UID:10004799-1756166400-1756252799@www.indianlakeestatesinc.com
SUMMARY:Hand & Foot Card Grp 12PM - Clubhouse Ballroom
DESCRIPTION:
URL:https://www.indianlakeestatesinc.com/event/hand-foot-card-group-clubhouse-ballroom/2025-08-26/
LOCATION:Ballroom\, 7510 Red Grange\, Indian lake Estates\, FL\, 33855\, United States
END:VEVENT
BEGIN:VEVENT
DTSTART;VALUE=DATE:20250819
DTEND;VALUE=DATE:20250820
DTSTAMP:20260421T102016
CREATED:20250903T181126Z
LAST-MODIFIED:20260103T181622Z
UID:10004798-1755561600-1755647999@www.indianlakeestatesinc.com
SUMMARY:Hand & Foot Card Grp 12PM - Clubhouse Ballroom
DESCRIPTION:
URL:https://www.indianlakeestatesinc.com/event/hand-foot-card-group-clubhouse-ballroom/2025-08-19/
LOCATION:Ballroom\, 7510 Red Grange\, Indian lake Estates\, FL\, 33855\, United States
END:VEVENT
BEGIN:VEVENT
DTSTART;VALUE=DATE:20250812
DTEND;VALUE=DATE:20250813
DTSTAMP:20260421T102016
CREATED:20250903T181126Z
LAST-MODIFIED:20260103T181622Z
UID:10004797-1754956800-1755043199@www.indianlakeestatesinc.com
SUMMARY:Hand & Foot Card Grp 12PM - Clubhouse Ballroom
DESCRIPTION:
URL:https://www.indianlakeestatesinc.com/event/hand-foot-card-group-clubhouse-ballroom/2025-08-12/
LOCATION:Ballroom\, 7510 Red Grange\, Indian lake Estates\, FL\, 33855\, United States
END:VEVENT
BEGIN:VEVENT
DTSTART;TZID=America/New_York:20250810T110000
DTEND;TZID=America/New_York:20250810T150000
DTSTAMP:20260421T102016
CREATED:20250722T162150Z
LAST-MODIFIED:20250722T162150Z
UID:10000831-1754823600-1754838000@www.indianlakeestatesinc.com
SUMMARY:BACK TO SCHOOL BINGO
DESCRIPTION:BINGO WITH SPECIAL PRIZES
URL:https://www.indianlakeestatesinc.com/event/back-to-school-bingo/
LOCATION:Ballroom\, 7510 Red Grange\, Indian lake Estates\, FL\, 33855\, United States
END:VEVENT
BEGIN:VEVENT
DTSTART;TZID=America/New_York:20250809T140000
DTEND;TZID=America/New_York:20250809T170000
DTSTAMP:20260421T102016
CREATED:20250613T132827Z
LAST-MODIFIED:20260302T193117Z
UID:10000426-1754748000-1754758800@www.indianlakeestatesinc.com
SUMMARY:ILE Yacht Club Ice Cream Social
DESCRIPTION:ILE Yacht Club Members Ice Cream Social. Yacht club will provide the ice cream.
URL:https://www.indianlakeestatesinc.com/event/ile-yacht-club-ice-cream-social/2025-08-09/
LOCATION:Ballroom\, 7510 Red Grange\, Indian lake Estates\, FL\, 33855\, United States
END:VEVENT
BEGIN:VEVENT
DTSTART;VALUE=DATE:20250805
DTEND;VALUE=DATE:20250806
DTSTAMP:20260421T102016
CREATED:20250903T181126Z
LAST-MODIFIED:20260103T181622Z
UID:10004796-1754352000-1754438399@www.indianlakeestatesinc.com
SUMMARY:Hand & Foot Card Grp 12PM - Clubhouse Ballroom
DESCRIPTION:
URL:https://www.indianlakeestatesinc.com/event/hand-foot-card-group-clubhouse-ballroom/2025-08-05/
LOCATION:Ballroom\, 7510 Red Grange\, Indian lake Estates\, FL\, 33855\, United States
END:VEVENT
BEGIN:VEVENT
DTSTART;VALUE=DATE:20250729
DTEND;VALUE=DATE:20250730
DTSTAMP:20260421T102016
CREATED:20250903T181126Z
LAST-MODIFIED:20260103T181622Z
UID:10004795-1753747200-1753833599@www.indianlakeestatesinc.com
SUMMARY:Hand & Foot Card Grp 12PM - Clubhouse Ballroom
DESCRIPTION:
URL:https://www.indianlakeestatesinc.com/event/hand-foot-card-group-clubhouse-ballroom/2025-07-29/
LOCATION:Ballroom\, 7510 Red Grange\, Indian lake Estates\, FL\, 33855\, United States
END:VEVENT
BEGIN:VEVENT
DTSTART;TZID=America/New_York:20250727T110000
DTEND;TZID=America/New_York:20250727T150000
DTSTAMP:20260421T102016
CREATED:20250722T161820Z
LAST-MODIFIED:20250723T134803Z
UID:10000828-1753614000-1753628400@www.indianlakeestatesinc.com
SUMMARY:BINGO
DESCRIPTION:
URL:https://www.indianlakeestatesinc.com/event/bingo-3/2025-07-27/
LOCATION:Ballroom\, 7510 Red Grange\, Indian lake Estates\, FL\, 33855\, United States
END:VEVENT
BEGIN:VEVENT
DTSTART;TZID=America/New_York:20250723T190000
DTEND;TZID=America/New_York:20250723T200000
DTSTAMP:20260421T102016
CREATED:20250530T173108Z
LAST-MODIFIED:20250530T173406Z
UID:10000411-1753297200-1753300800@www.indianlakeestatesinc.com
SUMMARY:Meditation
DESCRIPTION:Meditation is a way to relax your mind and body.
URL:https://www.indianlakeestatesinc.com/event/meditation/2025-07-23/
LOCATION:Ballroom\, 7510 Red Grange\, Indian lake Estates\, FL\, 33855\, United States
END:VEVENT
BEGIN:VEVENT
DTSTART;VALUE=DATE:20250722
DTEND;VALUE=DATE:20250723
DTSTAMP:20260421T102016
CREATED:20250903T181126Z
LAST-MODIFIED:20260103T181622Z
UID:10004794-1753142400-1753228799@www.indianlakeestatesinc.com
SUMMARY:Hand & Foot Card Grp 12PM - Clubhouse Ballroom
DESCRIPTION:
URL:https://www.indianlakeestatesinc.com/event/hand-foot-card-group-clubhouse-ballroom/2025-07-22/
LOCATION:Ballroom\, 7510 Red Grange\, Indian lake Estates\, FL\, 33855\, United States
END:VEVENT
BEGIN:VEVENT
DTSTART;TZID=America/New_York:20250720T110000
DTEND;TZID=America/New_York:20250720T150000
DTSTAMP:20260421T102016
CREATED:20250630T235019Z
LAST-MODIFIED:20250630T235019Z
UID:10000441-1753009200-1753023600@www.indianlakeestatesinc.com
SUMMARY:BINGO
DESCRIPTION:Come out and join us for Bingo in the Indian Lake Estates Ballroom. Doors open at 11 am and games begin promptly at noon. There is a 1$ snack bar available serving hot dogs\, soda\, bottle water\, chips\, and ice cream. Seats are limited to players only. Must be 18 or older. Minimum to play 10$.
URL:https://www.indianlakeestatesinc.com/event/bingo-2/2025-07-20/
LOCATION:Ballroom\, 7510 Red Grange\, Indian lake Estates\, FL\, 33855\, United States
END:VEVENT
BEGIN:VEVENT
DTSTART;VALUE=DATE:20250715
DTEND;VALUE=DATE:20250716
DTSTAMP:20260421T102016
CREATED:20250903T181126Z
LAST-MODIFIED:20260103T181622Z
UID:10004793-1752537600-1752623999@www.indianlakeestatesinc.com
SUMMARY:Hand & Foot Card Grp 12PM - Clubhouse Ballroom
DESCRIPTION:
URL:https://www.indianlakeestatesinc.com/event/hand-foot-card-group-clubhouse-ballroom/2025-07-15/
LOCATION:Ballroom\, 7510 Red Grange\, Indian lake Estates\, FL\, 33855\, United States
END:VEVENT
BEGIN:VEVENT
DTSTART;VALUE=DATE:20250708
DTEND;VALUE=DATE:20250709
DTSTAMP:20260421T102016
CREATED:20250903T181126Z
LAST-MODIFIED:20260103T181622Z
UID:10004792-1751932800-1752019199@www.indianlakeestatesinc.com
SUMMARY:Hand & Foot Card Grp 12PM - Clubhouse Ballroom
DESCRIPTION:
URL:https://www.indianlakeestatesinc.com/event/hand-foot-card-group-clubhouse-ballroom/2025-07-08/
LOCATION:Ballroom\, 7510 Red Grange\, Indian lake Estates\, FL\, 33855\, United States
END:VEVENT
BEGIN:VEVENT
DTSTART;TZID=America/New_York:20250706T110000
DTEND;TZID=America/New_York:20250706T150000
DTSTAMP:20260421T102016
CREATED:20250630T235019Z
LAST-MODIFIED:20250630T235019Z
UID:10000440-1751799600-1751814000@www.indianlakeestatesinc.com
SUMMARY:BINGO
DESCRIPTION:Come out and join us for Bingo in the Indian Lake Estates Ballroom. Doors open at 11 am and games begin promptly at noon. There is a 1$ snack bar available serving hot dogs\, soda\, bottle water\, chips\, and ice cream. Seats are limited to players only. Must be 18 or older. Minimum to play 10$.
URL:https://www.indianlakeestatesinc.com/event/bingo-2/2025-07-06/
LOCATION:Ballroom\, 7510 Red Grange\, Indian lake Estates\, FL\, 33855\, United States
END:VEVENT
BEGIN:VEVENT
DTSTART;VALUE=DATE:20250701
DTEND;VALUE=DATE:20250702
DTSTAMP:20260421T102016
CREATED:20250903T181126Z
LAST-MODIFIED:20260103T181622Z
UID:10004791-1751328000-1751414399@www.indianlakeestatesinc.com
SUMMARY:Hand & Foot Card Grp 12PM - Clubhouse Ballroom
DESCRIPTION:
URL:https://www.indianlakeestatesinc.com/event/hand-foot-card-group-clubhouse-ballroom/2025-07-01/
LOCATION:Ballroom\, 7510 Red Grange\, Indian lake Estates\, FL\, 33855\, United States
END:VEVENT
BEGIN:VEVENT
DTSTART;TZID=America/New_York:20250628T090000
DTEND;TZID=America/New_York:20250628T100000
DTSTAMP:20260421T102016
CREATED:20250530T172120Z
LAST-MODIFIED:20250604T204152Z
UID:10000407-1751101200-1751104800@www.indianlakeestatesinc.com
SUMMARY:Yoga Classes
DESCRIPTION:Please come learn yoga!  It’s a fun way to help your body relax.
URL:https://www.indianlakeestatesinc.com/event/yoga-classes/
LOCATION:Ballroom\, 7510 Red Grange\, Indian lake Estates\, FL\, 33855\, United States
END:VEVENT
BEGIN:VEVENT
DTSTART;TZID=America/New_York:20250625T190000
DTEND;TZID=America/New_York:20250625T200000
DTSTAMP:20260421T102016
CREATED:20250530T173108Z
LAST-MODIFIED:20250530T173406Z
UID:10000408-1750878000-1750881600@www.indianlakeestatesinc.com
SUMMARY:Meditation
DESCRIPTION:Meditation is a way to relax your mind and body.
URL:https://www.indianlakeestatesinc.com/event/meditation/2025-06-25/
LOCATION:Ballroom\, 7510 Red Grange\, Indian lake Estates\, FL\, 33855\, United States
END:VEVENT
BEGIN:VEVENT
DTSTART;VALUE=DATE:20250624
DTEND;VALUE=DATE:20250625
DTSTAMP:20260421T102016
CREATED:20250903T181126Z
LAST-MODIFIED:20260103T181622Z
UID:10004790-1750723200-1750809599@www.indianlakeestatesinc.com
SUMMARY:Hand & Foot Card Grp 12PM - Clubhouse Ballroom
DESCRIPTION:
URL:https://www.indianlakeestatesinc.com/event/hand-foot-card-group-clubhouse-ballroom/2025-06-24/
LOCATION:Ballroom\, 7510 Red Grange\, Indian lake Estates\, FL\, 33855\, United States
END:VEVENT
BEGIN:VEVENT
DTSTART;TZID=America/New_York:20250622T110000
DTEND;TZID=America/New_York:20250622T150000
DTSTAMP:20260421T102016
CREATED:20250618T004348Z
LAST-MODIFIED:20250618T004348Z
UID:10000431-1750590000-1750604400@www.indianlakeestatesinc.com
SUMMARY:BINGO
DESCRIPTION:
URL:https://www.indianlakeestatesinc.com/event/bingo/
LOCATION:Ballroom\, 7510 Red Grange\, Indian lake Estates\, FL\, 33855\, United States
END:VEVENT
BEGIN:VEVENT
DTSTART;VALUE=DATE:20250617
DTEND;VALUE=DATE:20250618
DTSTAMP:20260421T102016
CREATED:20250903T181126Z
LAST-MODIFIED:20260103T181622Z
UID:10004789-1750118400-1750204799@www.indianlakeestatesinc.com
SUMMARY:Hand & Foot Card Grp 12PM - Clubhouse Ballroom
DESCRIPTION:
URL:https://www.indianlakeestatesinc.com/event/hand-foot-card-group-clubhouse-ballroom/2025-06-17/
LOCATION:Ballroom\, 7510 Red Grange\, Indian lake Estates\, FL\, 33855\, United States
END:VEVENT
END:VCALENDAR