BEGIN:VCALENDAR
VERSION:2.0
PRODID:-//Indian Lake Estates Golf &amp; Country Club - ECPv6.15.18//NONSGML v1.0//EN
CALSCALE:GREGORIAN
METHOD:PUBLISH
X-WR-CALNAME:Indian Lake Estates Golf &amp; Country Club
X-ORIGINAL-URL:https://www.indianlakeestatesinc.com
X-WR-CALDESC:Events for Indian Lake Estates Golf &amp; Country Club
REFRESH-INTERVAL;VALUE=DURATION:PT1H
X-Robots-Tag:noindex
X-PUBLISHED-TTL:PT1H
BEGIN:VTIMEZONE
TZID:UTC
BEGIN:STANDARD
TZOFFSETFROM:+0000
TZOFFSETTO:+0000
TZNAME:UTC
DTSTART:20240101T000000
END:STANDARD
END:VTIMEZONE
BEGIN:VTIMEZONE
TZID:America/New_York
BEGIN:DAYLIGHT
TZOFFSETFROM:-0500
TZOFFSETTO:-0400
TZNAME:EDT
DTSTART:20240310T070000
END:DAYLIGHT
BEGIN:STANDARD
TZOFFSETFROM:-0400
TZOFFSETTO:-0500
TZNAME:EST
DTSTART:20241103T060000
END:STANDARD
BEGIN:DAYLIGHT
TZOFFSETFROM:-0500
TZOFFSETTO:-0400
TZNAME:EDT
DTSTART:20250309T070000
END:DAYLIGHT
BEGIN:STANDARD
TZOFFSETFROM:-0400
TZOFFSETTO:-0500
TZNAME:EST
DTSTART:20251102T060000
END:STANDARD
BEGIN:DAYLIGHT
TZOFFSETFROM:-0500
TZOFFSETTO:-0400
TZNAME:EDT
DTSTART:20260308T070000
END:DAYLIGHT
BEGIN:STANDARD
TZOFFSETFROM:-0400
TZOFFSETTO:-0500
TZNAME:EST
DTSTART:20261101T060000
END:STANDARD
END:VTIMEZONE
BEGIN:VEVENT
DTSTART;TZID=UTC:20251116T080000
DTEND;TZID=UTC:20251116T110000
DTSTAMP:20260422T091738
CREATED:20250511T165109Z
LAST-MODIFIED:20251029T201323Z
UID:10006862-1763280000-1763290800@www.indianlakeestatesinc.com
SUMMARY:YC-Breakfast - Lakeside Pavilion Fall 25
DESCRIPTION:Come join us for Yacht Club Breakfast! Check the calendar for the Fall dates. \n  \n 
URL:https://www.indianlakeestatesinc.com/event/yc-breakfast-lakefront-pavilion-7/2025-11-16/
LOCATION:Lakeside Pavilion
END:VEVENT
BEGIN:VEVENT
DTSTART;TZID=America/New_York:20251108T100000
DTEND;TZID=America/New_York:20251108T110000
DTSTAMP:20260422T091738
CREATED:20251029T173634Z
LAST-MODIFIED:20251029T173743Z
UID:10006775-1762596000-1762599600@www.indianlakeestatesinc.com
SUMMARY:YOGA BY THE LAKE NOV
DESCRIPTION:
URL:https://www.indianlakeestatesinc.com/event/yoga-by-the-lake-nov/2025-11-08/
LOCATION:Lakeside Pavilion
END:VEVENT
BEGIN:VEVENT
DTSTART;TZID=UTC:20251102T080000
DTEND;TZID=UTC:20251102T110000
DTSTAMP:20260422T091738
CREATED:20250511T165109Z
LAST-MODIFIED:20251029T201323Z
UID:10006861-1762070400-1762081200@www.indianlakeestatesinc.com
SUMMARY:YC-Breakfast - Lakeside Pavilion Fall 25
DESCRIPTION:Come join us for Yacht Club Breakfast! Check the calendar for the Fall dates. \n  \n 
URL:https://www.indianlakeestatesinc.com/event/yc-breakfast-lakefront-pavilion-7/2025-11-02/
LOCATION:Lakeside Pavilion
END:VEVENT
BEGIN:VEVENT
DTSTART;TZID=UTC:20251026T080000
DTEND;TZID=UTC:20251026T110000
DTSTAMP:20260422T091738
CREATED:20250511T165109Z
LAST-MODIFIED:20251029T201323Z
UID:10000232-1761465600-1761476400@www.indianlakeestatesinc.com
SUMMARY:YC-Breakfast - Lakeside Pavilion Fall 25
DESCRIPTION:Come join us for Yacht Club Breakfast! Check the calendar for the Fall dates. \n  \n 
URL:https://www.indianlakeestatesinc.com/event/yc-breakfast-lakefront-pavilion-7/2025-10-26/
LOCATION:Lakeside Pavilion
END:VEVENT
BEGIN:VEVENT
DTSTART;TZID=America/New_York:20251019T100000
DTEND;TZID=America/New_York:20251019T110000
DTSTAMP:20260422T091738
CREATED:20251008T012613Z
LAST-MODIFIED:20251008T012613Z
UID:10004105-1760868000-1760871600@www.indianlakeestatesinc.com
SUMMARY:YOGA BY THE LAKE
DESCRIPTION:
URL:https://www.indianlakeestatesinc.com/event/yoga-by-the-lake/
LOCATION:Lakeside Pavilion
END:VEVENT
BEGIN:VEVENT
DTSTART;TZID=America/New_York:20251012T070000
DTEND;TZID=America/New_York:20251012T100000
DTSTAMP:20260422T091738
CREATED:20250922T180455Z
LAST-MODIFIED:20251009T170145Z
UID:10004090-1760252400-1760263200@www.indianlakeestatesinc.com
SUMMARY:CANCELED - ILE Yacht Club Breakfast
DESCRIPTION:
URL:https://www.indianlakeestatesinc.com/event/ile-yacht-club-breakfast/
LOCATION:Lakeside Pavilion
END:VEVENT
BEGIN:VEVENT
DTSTART;TZID=America/New_York:20250704T140000
DTEND;TZID=America/New_York:20250704T190000
DTSTAMP:20260422T091738
CREATED:20250612T010506Z
LAST-MODIFIED:20250617T210420Z
UID:10000424-1751637600-1751655600@www.indianlakeestatesinc.com
SUMMARY:4th of July Cookout Potluck
DESCRIPTION:The yacht club is having a barbecue on the 4th of July! They’ll be serving pork\, beef\, chicken\, hamburgers\, and hotdogs. Don’t forget to bring your favorite side dishes and drinks. And guess what? Corey Ketchum will be there with some awesome live entertainment. So\, come on down to the Lakeside Pavilion\, hang out with your neighbors\, and let’s make this a memorable Fourth of July! BYOB and chairs too. Come out and try the new yacht club fans and misters to keep you cool down at the Pavilion.
URL:https://www.indianlakeestatesinc.com/event/4th-of-july-cookout-potluck/
LOCATION:Lakeside Pavilion
END:VEVENT
BEGIN:VEVENT
DTSTART;TZID=America/New_York:20250510T090000
DTEND;TZID=America/New_York:20250510T100000
DTSTAMP:20260422T091738
CREATED:20250428T135952Z
LAST-MODIFIED:20250428T140242Z
UID:10000395-1746867600-1746871200@www.indianlakeestatesinc.com
SUMMARY:Free Yoga Classes
DESCRIPTION:Beginner friendly Yoga for all. ILE members join for free. Bring water\, comfortable clothing\, yoga mat or towel (limited mats available to use). Reach out to Serina at Cup of Soil Yoga with questions (605)940-1010.
URL:https://www.indianlakeestatesinc.com/event/free-yoga-classes/
LOCATION:Lakeside Pavilion
END:VEVENT
END:VCALENDAR