BEGIN:VCALENDAR
VERSION:2.0
PRODID:-//Indian Lake Estates Golf &amp; Country Club - ECPv6.15.18//NONSGML v1.0//EN
CALSCALE:GREGORIAN
METHOD:PUBLISH
X-WR-CALNAME:Indian Lake Estates Golf &amp; Country Club
X-ORIGINAL-URL:https://www.indianlakeestatesinc.com
X-WR-CALDESC:Events for Indian Lake Estates Golf &amp; Country Club
REFRESH-INTERVAL;VALUE=DURATION:PT1H
X-Robots-Tag:noindex
X-PUBLISHED-TTL:PT1H
BEGIN:VTIMEZONE
TZID:America/New_York
BEGIN:DAYLIGHT
TZOFFSETFROM:-0500
TZOFFSETTO:-0400
TZNAME:EDT
DTSTART:20250309T070000
END:DAYLIGHT
BEGIN:STANDARD
TZOFFSETFROM:-0400
TZOFFSETTO:-0500
TZNAME:EST
DTSTART:20251102T060000
END:STANDARD
BEGIN:DAYLIGHT
TZOFFSETFROM:-0500
TZOFFSETTO:-0400
TZNAME:EDT
DTSTART:20260308T070000
END:DAYLIGHT
BEGIN:STANDARD
TZOFFSETFROM:-0400
TZOFFSETTO:-0500
TZNAME:EST
DTSTART:20261101T060000
END:STANDARD
BEGIN:DAYLIGHT
TZOFFSETFROM:-0500
TZOFFSETTO:-0400
TZNAME:EDT
DTSTART:20270314T070000
END:DAYLIGHT
BEGIN:STANDARD
TZOFFSETFROM:-0400
TZOFFSETTO:-0500
TZNAME:EST
DTSTART:20271107T060000
END:STANDARD
BEGIN:DAYLIGHT
TZOFFSETFROM:-0500
TZOFFSETTO:-0400
TZNAME:EDT
DTSTART:20280312T070000
END:DAYLIGHT
BEGIN:STANDARD
TZOFFSETFROM:-0400
TZOFFSETTO:-0500
TZNAME:EST
DTSTART:20281105T060000
END:STANDARD
END:VTIMEZONE
BEGIN:VEVENT
DTSTART;VALUE=DATE:20261010
DTEND;VALUE=DATE:20261011
DTSTAMP:20260421T215606
CREATED:20250701T112029Z
LAST-MODIFIED:20251020T213838Z
UID:10004504-1791590400-1791676799@www.indianlakeestatesinc.com
SUMMARY:Pickleball 8:30 am
DESCRIPTION:Players Meet at the pickleball courts each Saturday morning at 8:30 when they have enough players to play. Please come out and join them or give it a try.
URL:https://www.indianlakeestatesinc.com/event/pickelball/2026-10-10/
LOCATION:Pickelball Courts at Clubhouse\, 7510 Red Grange Blve\, Indian Lake Estates\, 33855\, United States
END:VEVENT
BEGIN:VEVENT
DTSTART;VALUE=DATE:20261017
DTEND;VALUE=DATE:20261018
DTSTAMP:20260421T215606
CREATED:20250701T112029Z
LAST-MODIFIED:20251020T213838Z
UID:10004505-1792195200-1792281599@www.indianlakeestatesinc.com
SUMMARY:Pickleball 8:30 am
DESCRIPTION:Players Meet at the pickleball courts each Saturday morning at 8:30 when they have enough players to play. Please come out and join them or give it a try.
URL:https://www.indianlakeestatesinc.com/event/pickelball/2026-10-17/
LOCATION:Pickelball Courts at Clubhouse\, 7510 Red Grange Blve\, Indian Lake Estates\, 33855\, United States
END:VEVENT
BEGIN:VEVENT
DTSTART;VALUE=DATE:20261024
DTEND;VALUE=DATE:20261025
DTSTAMP:20260421T215606
CREATED:20250701T112029Z
LAST-MODIFIED:20251020T213838Z
UID:10004506-1792800000-1792886399@www.indianlakeestatesinc.com
SUMMARY:Pickleball 8:30 am
DESCRIPTION:Players Meet at the pickleball courts each Saturday morning at 8:30 when they have enough players to play. Please come out and join them or give it a try.
URL:https://www.indianlakeestatesinc.com/event/pickelball/2026-10-24/
LOCATION:Pickelball Courts at Clubhouse\, 7510 Red Grange Blve\, Indian Lake Estates\, 33855\, United States
END:VEVENT
BEGIN:VEVENT
DTSTART;VALUE=DATE:20261031
DTEND;VALUE=DATE:20261101
DTSTAMP:20260421T215606
CREATED:20250701T112029Z
LAST-MODIFIED:20251020T213838Z
UID:10004507-1793404800-1793491199@www.indianlakeestatesinc.com
SUMMARY:Pickleball 8:30 am
DESCRIPTION:Players Meet at the pickleball courts each Saturday morning at 8:30 when they have enough players to play. Please come out and join them or give it a try.
URL:https://www.indianlakeestatesinc.com/event/pickelball/2026-10-31/
LOCATION:Pickelball Courts at Clubhouse\, 7510 Red Grange Blve\, Indian Lake Estates\, 33855\, United States
END:VEVENT
BEGIN:VEVENT
DTSTART;VALUE=DATE:20261107
DTEND;VALUE=DATE:20261108
DTSTAMP:20260421T215606
CREATED:20250701T112029Z
LAST-MODIFIED:20251020T213838Z
UID:10004508-1794009600-1794095999@www.indianlakeestatesinc.com
SUMMARY:Pickleball 8:30 am
DESCRIPTION:Players Meet at the pickleball courts each Saturday morning at 8:30 when they have enough players to play. Please come out and join them or give it a try.
URL:https://www.indianlakeestatesinc.com/event/pickelball/2026-11-07/
LOCATION:Pickelball Courts at Clubhouse\, 7510 Red Grange Blve\, Indian Lake Estates\, 33855\, United States
END:VEVENT
BEGIN:VEVENT
DTSTART;VALUE=DATE:20261114
DTEND;VALUE=DATE:20261115
DTSTAMP:20260421T215606
CREATED:20250701T112029Z
LAST-MODIFIED:20251020T213838Z
UID:10004509-1794614400-1794700799@www.indianlakeestatesinc.com
SUMMARY:Pickleball 8:30 am
DESCRIPTION:Players Meet at the pickleball courts each Saturday morning at 8:30 when they have enough players to play. Please come out and join them or give it a try.
URL:https://www.indianlakeestatesinc.com/event/pickelball/2026-11-14/
LOCATION:Pickelball Courts at Clubhouse\, 7510 Red Grange Blve\, Indian Lake Estates\, 33855\, United States
END:VEVENT
BEGIN:VEVENT
DTSTART;VALUE=DATE:20261121
DTEND;VALUE=DATE:20261122
DTSTAMP:20260421T215606
CREATED:20250701T112029Z
LAST-MODIFIED:20251020T213838Z
UID:10004510-1795219200-1795305599@www.indianlakeestatesinc.com
SUMMARY:Pickleball 8:30 am
DESCRIPTION:Players Meet at the pickleball courts each Saturday morning at 8:30 when they have enough players to play. Please come out and join them or give it a try.
URL:https://www.indianlakeestatesinc.com/event/pickelball/2026-11-21/
LOCATION:Pickelball Courts at Clubhouse\, 7510 Red Grange Blve\, Indian Lake Estates\, 33855\, United States
END:VEVENT
BEGIN:VEVENT
DTSTART;VALUE=DATE:20261128
DTEND;VALUE=DATE:20261129
DTSTAMP:20260421T215606
CREATED:20250701T112029Z
LAST-MODIFIED:20251020T213838Z
UID:10004511-1795824000-1795910399@www.indianlakeestatesinc.com
SUMMARY:Pickleball 8:30 am
DESCRIPTION:Players Meet at the pickleball courts each Saturday morning at 8:30 when they have enough players to play. Please come out and join them or give it a try.
URL:https://www.indianlakeestatesinc.com/event/pickelball/2026-11-28/
LOCATION:Pickelball Courts at Clubhouse\, 7510 Red Grange Blve\, Indian Lake Estates\, 33855\, United States
END:VEVENT
BEGIN:VEVENT
DTSTART;VALUE=DATE:20261205
DTEND;VALUE=DATE:20261206
DTSTAMP:20260421T215606
CREATED:20250701T112029Z
LAST-MODIFIED:20251020T213838Z
UID:10004512-1796428800-1796515199@www.indianlakeestatesinc.com
SUMMARY:Pickleball 8:30 am
DESCRIPTION:Players Meet at the pickleball courts each Saturday morning at 8:30 when they have enough players to play. Please come out and join them or give it a try.
URL:https://www.indianlakeestatesinc.com/event/pickelball/2026-12-05/
LOCATION:Pickelball Courts at Clubhouse\, 7510 Red Grange Blve\, Indian Lake Estates\, 33855\, United States
END:VEVENT
BEGIN:VEVENT
DTSTART;VALUE=DATE:20261212
DTEND;VALUE=DATE:20261213
DTSTAMP:20260421T215606
CREATED:20250701T112029Z
LAST-MODIFIED:20251020T213838Z
UID:10004513-1797033600-1797119999@www.indianlakeestatesinc.com
SUMMARY:Pickleball 8:30 am
DESCRIPTION:Players Meet at the pickleball courts each Saturday morning at 8:30 when they have enough players to play. Please come out and join them or give it a try.
URL:https://www.indianlakeestatesinc.com/event/pickelball/2026-12-12/
LOCATION:Pickelball Courts at Clubhouse\, 7510 Red Grange Blve\, Indian Lake Estates\, 33855\, United States
END:VEVENT
BEGIN:VEVENT
DTSTART;VALUE=DATE:20261219
DTEND;VALUE=DATE:20261220
DTSTAMP:20260421T215606
CREATED:20250701T112029Z
LAST-MODIFIED:20251020T213838Z
UID:10004514-1797638400-1797724799@www.indianlakeestatesinc.com
SUMMARY:Pickleball 8:30 am
DESCRIPTION:Players Meet at the pickleball courts each Saturday morning at 8:30 when they have enough players to play. Please come out and join them or give it a try.
URL:https://www.indianlakeestatesinc.com/event/pickelball/2026-12-19/
LOCATION:Pickelball Courts at Clubhouse\, 7510 Red Grange Blve\, Indian Lake Estates\, 33855\, United States
END:VEVENT
BEGIN:VEVENT
DTSTART;VALUE=DATE:20261226
DTEND;VALUE=DATE:20261227
DTSTAMP:20260421T215606
CREATED:20250701T112029Z
LAST-MODIFIED:20251020T213838Z
UID:10004515-1798243200-1798329599@www.indianlakeestatesinc.com
SUMMARY:Pickleball 8:30 am
DESCRIPTION:Players Meet at the pickleball courts each Saturday morning at 8:30 when they have enough players to play. Please come out and join them or give it a try.
URL:https://www.indianlakeestatesinc.com/event/pickelball/2026-12-26/
LOCATION:Pickelball Courts at Clubhouse\, 7510 Red Grange Blve\, Indian Lake Estates\, 33855\, United States
END:VEVENT
BEGIN:VEVENT
DTSTART;VALUE=DATE:20270102
DTEND;VALUE=DATE:20270103
DTSTAMP:20260421T215606
CREATED:20250701T112029Z
LAST-MODIFIED:20251020T213838Z
UID:10004516-1798848000-1798934399@www.indianlakeestatesinc.com
SUMMARY:Pickleball 8:30 am
DESCRIPTION:Players Meet at the pickleball courts each Saturday morning at 8:30 when they have enough players to play. Please come out and join them or give it a try.
URL:https://www.indianlakeestatesinc.com/event/pickelball/2027-01-02/
LOCATION:Pickelball Courts at Clubhouse\, 7510 Red Grange Blve\, Indian Lake Estates\, 33855\, United States
END:VEVENT
BEGIN:VEVENT
DTSTART;VALUE=DATE:20270109
DTEND;VALUE=DATE:20270110
DTSTAMP:20260421T215606
CREATED:20250701T112029Z
LAST-MODIFIED:20251020T213838Z
UID:10004517-1799452800-1799539199@www.indianlakeestatesinc.com
SUMMARY:Pickleball 8:30 am
DESCRIPTION:Players Meet at the pickleball courts each Saturday morning at 8:30 when they have enough players to play. Please come out and join them or give it a try.
URL:https://www.indianlakeestatesinc.com/event/pickelball/2027-01-09/
LOCATION:Pickelball Courts at Clubhouse\, 7510 Red Grange Blve\, Indian Lake Estates\, 33855\, United States
END:VEVENT
BEGIN:VEVENT
DTSTART;VALUE=DATE:20270116
DTEND;VALUE=DATE:20270117
DTSTAMP:20260421T215606
CREATED:20250701T112029Z
LAST-MODIFIED:20251020T213838Z
UID:10004518-1800057600-1800143999@www.indianlakeestatesinc.com
SUMMARY:Pickleball 8:30 am
DESCRIPTION:Players Meet at the pickleball courts each Saturday morning at 8:30 when they have enough players to play. Please come out and join them or give it a try.
URL:https://www.indianlakeestatesinc.com/event/pickelball/2027-01-16/
LOCATION:Pickelball Courts at Clubhouse\, 7510 Red Grange Blve\, Indian Lake Estates\, 33855\, United States
END:VEVENT
BEGIN:VEVENT
DTSTART;VALUE=DATE:20270123
DTEND;VALUE=DATE:20270124
DTSTAMP:20260421T215606
CREATED:20250701T112029Z
LAST-MODIFIED:20251020T213838Z
UID:10004519-1800662400-1800748799@www.indianlakeestatesinc.com
SUMMARY:Pickleball 8:30 am
DESCRIPTION:Players Meet at the pickleball courts each Saturday morning at 8:30 when they have enough players to play. Please come out and join them or give it a try.
URL:https://www.indianlakeestatesinc.com/event/pickelball/2027-01-23/
LOCATION:Pickelball Courts at Clubhouse\, 7510 Red Grange Blve\, Indian Lake Estates\, 33855\, United States
END:VEVENT
BEGIN:VEVENT
DTSTART;VALUE=DATE:20270130
DTEND;VALUE=DATE:20270131
DTSTAMP:20260421T215606
CREATED:20250701T112029Z
LAST-MODIFIED:20251020T213838Z
UID:10004520-1801267200-1801353599@www.indianlakeestatesinc.com
SUMMARY:Pickleball 8:30 am
DESCRIPTION:Players Meet at the pickleball courts each Saturday morning at 8:30 when they have enough players to play. Please come out and join them or give it a try.
URL:https://www.indianlakeestatesinc.com/event/pickelball/2027-01-30/
LOCATION:Pickelball Courts at Clubhouse\, 7510 Red Grange Blve\, Indian Lake Estates\, 33855\, United States
END:VEVENT
BEGIN:VEVENT
DTSTART;VALUE=DATE:20270206
DTEND;VALUE=DATE:20270207
DTSTAMP:20260421T215606
CREATED:20250701T112029Z
LAST-MODIFIED:20251020T213838Z
UID:10004521-1801872000-1801958399@www.indianlakeestatesinc.com
SUMMARY:Pickleball 8:30 am
DESCRIPTION:Players Meet at the pickleball courts each Saturday morning at 8:30 when they have enough players to play. Please come out and join them or give it a try.
URL:https://www.indianlakeestatesinc.com/event/pickelball/2027-02-06/
LOCATION:Pickelball Courts at Clubhouse\, 7510 Red Grange Blve\, Indian Lake Estates\, 33855\, United States
END:VEVENT
BEGIN:VEVENT
DTSTART;VALUE=DATE:20270213
DTEND;VALUE=DATE:20270214
DTSTAMP:20260421T215606
CREATED:20250701T112029Z
LAST-MODIFIED:20251020T213838Z
UID:10004522-1802476800-1802563199@www.indianlakeestatesinc.com
SUMMARY:Pickleball 8:30 am
DESCRIPTION:Players Meet at the pickleball courts each Saturday morning at 8:30 when they have enough players to play. Please come out and join them or give it a try.
URL:https://www.indianlakeestatesinc.com/event/pickelball/2027-02-13/
LOCATION:Pickelball Courts at Clubhouse\, 7510 Red Grange Blve\, Indian Lake Estates\, 33855\, United States
END:VEVENT
BEGIN:VEVENT
DTSTART;VALUE=DATE:20270220
DTEND;VALUE=DATE:20270221
DTSTAMP:20260421T215606
CREATED:20250701T112029Z
LAST-MODIFIED:20251020T213838Z
UID:10004523-1803081600-1803167999@www.indianlakeestatesinc.com
SUMMARY:Pickleball 8:30 am
DESCRIPTION:Players Meet at the pickleball courts each Saturday morning at 8:30 when they have enough players to play. Please come out and join them or give it a try.
URL:https://www.indianlakeestatesinc.com/event/pickelball/2027-02-20/
LOCATION:Pickelball Courts at Clubhouse\, 7510 Red Grange Blve\, Indian Lake Estates\, 33855\, United States
END:VEVENT
BEGIN:VEVENT
DTSTART;VALUE=DATE:20270227
DTEND;VALUE=DATE:20270228
DTSTAMP:20260421T215606
CREATED:20250701T112029Z
LAST-MODIFIED:20251020T213838Z
UID:10004524-1803686400-1803772799@www.indianlakeestatesinc.com
SUMMARY:Pickleball 8:30 am
DESCRIPTION:Players Meet at the pickleball courts each Saturday morning at 8:30 when they have enough players to play. Please come out and join them or give it a try.
URL:https://www.indianlakeestatesinc.com/event/pickelball/2027-02-27/
LOCATION:Pickelball Courts at Clubhouse\, 7510 Red Grange Blve\, Indian Lake Estates\, 33855\, United States
END:VEVENT
BEGIN:VEVENT
DTSTART;VALUE=DATE:20270306
DTEND;VALUE=DATE:20270307
DTSTAMP:20260421T215606
CREATED:20250701T112029Z
LAST-MODIFIED:20251020T213838Z
UID:10004525-1804291200-1804377599@www.indianlakeestatesinc.com
SUMMARY:Pickleball 8:30 am
DESCRIPTION:Players Meet at the pickleball courts each Saturday morning at 8:30 when they have enough players to play. Please come out and join them or give it a try.
URL:https://www.indianlakeestatesinc.com/event/pickelball/2027-03-06/
LOCATION:Pickelball Courts at Clubhouse\, 7510 Red Grange Blve\, Indian Lake Estates\, 33855\, United States
END:VEVENT
BEGIN:VEVENT
DTSTART;VALUE=DATE:20270313
DTEND;VALUE=DATE:20270314
DTSTAMP:20260421T215606
CREATED:20250701T112029Z
LAST-MODIFIED:20251020T213838Z
UID:10004526-1804896000-1804982399@www.indianlakeestatesinc.com
SUMMARY:Pickleball 8:30 am
DESCRIPTION:Players Meet at the pickleball courts each Saturday morning at 8:30 when they have enough players to play. Please come out and join them or give it a try.
URL:https://www.indianlakeestatesinc.com/event/pickelball/2027-03-13/
LOCATION:Pickelball Courts at Clubhouse\, 7510 Red Grange Blve\, Indian Lake Estates\, 33855\, United States
END:VEVENT
BEGIN:VEVENT
DTSTART;VALUE=DATE:20270320
DTEND;VALUE=DATE:20270321
DTSTAMP:20260421T215606
CREATED:20250701T112029Z
LAST-MODIFIED:20251020T213838Z
UID:10004527-1805500800-1805587199@www.indianlakeestatesinc.com
SUMMARY:Pickleball 8:30 am
DESCRIPTION:Players Meet at the pickleball courts each Saturday morning at 8:30 when they have enough players to play. Please come out and join them or give it a try.
URL:https://www.indianlakeestatesinc.com/event/pickelball/2027-03-20/
LOCATION:Pickelball Courts at Clubhouse\, 7510 Red Grange Blve\, Indian Lake Estates\, 33855\, United States
END:VEVENT
BEGIN:VEVENT
DTSTART;VALUE=DATE:20270327
DTEND;VALUE=DATE:20270328
DTSTAMP:20260421T215606
CREATED:20250701T112029Z
LAST-MODIFIED:20251020T213838Z
UID:10004528-1806105600-1806191999@www.indianlakeestatesinc.com
SUMMARY:Pickleball 8:30 am
DESCRIPTION:Players Meet at the pickleball courts each Saturday morning at 8:30 when they have enough players to play. Please come out and join them or give it a try.
URL:https://www.indianlakeestatesinc.com/event/pickelball/2027-03-27/
LOCATION:Pickelball Courts at Clubhouse\, 7510 Red Grange Blve\, Indian Lake Estates\, 33855\, United States
END:VEVENT
BEGIN:VEVENT
DTSTART;VALUE=DATE:20270403
DTEND;VALUE=DATE:20270404
DTSTAMP:20260421T215606
CREATED:20250701T112029Z
LAST-MODIFIED:20251020T213838Z
UID:10004529-1806710400-1806796799@www.indianlakeestatesinc.com
SUMMARY:Pickleball 8:30 am
DESCRIPTION:Players Meet at the pickleball courts each Saturday morning at 8:30 when they have enough players to play. Please come out and join them or give it a try.
URL:https://www.indianlakeestatesinc.com/event/pickelball/2027-04-03/
LOCATION:Pickelball Courts at Clubhouse\, 7510 Red Grange Blve\, Indian Lake Estates\, 33855\, United States
END:VEVENT
BEGIN:VEVENT
DTSTART;VALUE=DATE:20270410
DTEND;VALUE=DATE:20270411
DTSTAMP:20260421T215606
CREATED:20250701T112029Z
LAST-MODIFIED:20251020T213838Z
UID:10004530-1807315200-1807401599@www.indianlakeestatesinc.com
SUMMARY:Pickleball 8:30 am
DESCRIPTION:Players Meet at the pickleball courts each Saturday morning at 8:30 when they have enough players to play. Please come out and join them or give it a try.
URL:https://www.indianlakeestatesinc.com/event/pickelball/2027-04-10/
LOCATION:Pickelball Courts at Clubhouse\, 7510 Red Grange Blve\, Indian Lake Estates\, 33855\, United States
END:VEVENT
BEGIN:VEVENT
DTSTART;VALUE=DATE:20270417
DTEND;VALUE=DATE:20270418
DTSTAMP:20260421T215606
CREATED:20250701T112029Z
LAST-MODIFIED:20251020T213838Z
UID:10004531-1807920000-1808006399@www.indianlakeestatesinc.com
SUMMARY:Pickleball 8:30 am
DESCRIPTION:Players Meet at the pickleball courts each Saturday morning at 8:30 when they have enough players to play. Please come out and join them or give it a try.
URL:https://www.indianlakeestatesinc.com/event/pickelball/2027-04-17/
LOCATION:Pickelball Courts at Clubhouse\, 7510 Red Grange Blve\, Indian Lake Estates\, 33855\, United States
END:VEVENT
BEGIN:VEVENT
DTSTART;VALUE=DATE:20270424
DTEND;VALUE=DATE:20270425
DTSTAMP:20260421T215606
CREATED:20250701T112029Z
LAST-MODIFIED:20251020T213838Z
UID:10004532-1808524800-1808611199@www.indianlakeestatesinc.com
SUMMARY:Pickleball 8:30 am
DESCRIPTION:Players Meet at the pickleball courts each Saturday morning at 8:30 when they have enough players to play. Please come out and join them or give it a try.
URL:https://www.indianlakeestatesinc.com/event/pickelball/2027-04-24/
LOCATION:Pickelball Courts at Clubhouse\, 7510 Red Grange Blve\, Indian Lake Estates\, 33855\, United States
END:VEVENT
BEGIN:VEVENT
DTSTART;VALUE=DATE:20270501
DTEND;VALUE=DATE:20270502
DTSTAMP:20260421T215606
CREATED:20250701T112029Z
LAST-MODIFIED:20251020T213838Z
UID:10004533-1809129600-1809215999@www.indianlakeestatesinc.com
SUMMARY:Pickleball 8:30 am
DESCRIPTION:Players Meet at the pickleball courts each Saturday morning at 8:30 when they have enough players to play. Please come out and join them or give it a try.
URL:https://www.indianlakeestatesinc.com/event/pickelball/2027-05-01/
LOCATION:Pickelball Courts at Clubhouse\, 7510 Red Grange Blve\, Indian Lake Estates\, 33855\, United States
END:VEVENT
END:VCALENDAR